BEGIN:VCALENDAR
VERSION:2.0
PRODID:-//Stallings-Williams Post 206 - ECPv6.15.20//NONSGML v1.0//EN
CALSCALE:GREGORIAN
METHOD:PUBLISH
X-ORIGINAL-URL:https://md-post206.org
X-WR-CALDESC:Events for Stallings-Williams Post 206
REFRESH-INTERVAL;VALUE=DURATION:PT1H
X-Robots-Tag:noindex
X-PUBLISHED-TTL:PT1H
BEGIN:VTIMEZONE
TZID:America/New_York
BEGIN:DAYLIGHT
TZOFFSETFROM:-0500
TZOFFSETTO:-0400
TZNAME:EDT
DTSTART:20250309T070000
END:DAYLIGHT
BEGIN:STANDARD
TZOFFSETFROM:-0400
TZOFFSETTO:-0500
TZNAME:EST
DTSTART:20251102T060000
END:STANDARD
BEGIN:DAYLIGHT
TZOFFSETFROM:-0500
TZOFFSETTO:-0400
TZNAME:EDT
DTSTART:20260308T070000
END:DAYLIGHT
BEGIN:STANDARD
TZOFFSETFROM:-0400
TZOFFSETTO:-0500
TZNAME:EST
DTSTART:20261101T060000
END:STANDARD
BEGIN:DAYLIGHT
TZOFFSETFROM:-0500
TZOFFSETTO:-0400
TZNAME:EDT
DTSTART:20270314T070000
END:DAYLIGHT
BEGIN:STANDARD
TZOFFSETFROM:-0400
TZOFFSETTO:-0500
TZNAME:EST
DTSTART:20271107T060000
END:STANDARD
END:VTIMEZONE
BEGIN:VEVENT
DTSTART;TZID=America/New_York:20260214T190000
DTEND;TZID=America/New_York:20260214T233000
DTSTAMP:20260425T182656
CREATED:20250123T211509Z
LAST-MODIFIED:20250123T211509Z
UID:10001085-1771095600-1771111800@md-post206.org
SUMMARY:Country Dance - $20 - Open to the Public
DESCRIPTION:It’s Country Dance time again. Clean off your boots and come out and dance the night away. $20 gets you in the door and free draft beer and soda.\n\nOpen to the Public
URL:https://md-post206.org/event/country-dance-20-open-to-the-public-5/2026-02-14/
CATEGORIES:Dancing,Music
END:VEVENT
BEGIN:VEVENT
DTSTART;TZID=America/New_York:20260226T183000
DTEND;TZID=America/New_York:20260226T203000
DTSTAMP:20260425T182656
CREATED:20260109T011352Z
LAST-MODIFIED:20260109T011352Z
UID:10000499-1772130600-1772137800@md-post206.org
SUMMARY:Country Line Dancing Lessons - $10 - Open to the Public
DESCRIPTION:Come out and hone your line dancing skills.\n\nContact Linda Bloyer at LBLOYER@verizon.net for reservations.
URL:https://md-post206.org/event/country-line-dancing-lessons-open-to-the-public-4-2/2026-02-26/
LOCATION:Stallings-Williams Post 206 American Legion\, 3330 Chesapeake Beach Rd\, Chesapeake Beach\, MD\, 20732\, United States
CATEGORIES:Dancing
ORGANIZER;CN="Linda Bloyer":MAILTO:lbloyer@verizon.net
END:VEVENT
BEGIN:VEVENT
DTSTART;TZID=America/New_York:20260228T190000
DTEND;TZID=America/New_York:20260228T230000
DTSTAMP:20260425T182656
CREATED:20260129T232410Z
LAST-MODIFIED:20260129T232410Z
UID:10001783-1772305200-1772319600@md-post206.org
SUMMARY:S.A.L Country Dance - $20 - Open to the Public
DESCRIPTION:Come on down or up (dependin where you live) and support the S.A.L. for their first Country Dance. $20 gets you free soda or draft beer.\n\nThere’ll be live music from The Boys And Me.\n\nWe’ve got the biggest dance floor around!\n\n 
URL:https://md-post206.org/event/s-a-l-country-dance-20-open-to-the-public/
LOCATION:Stallings-Williams Post 206 American Legion\, 3330 Chesapeake Beach Rd\, Chesapeake Beach\, MD\, 20732\, United States
CATEGORIES:Dancing
ATTACH;FMTTYPE=image/jpeg:https://md-post206.org/wp-content/uploads/2026/01/SAL-Country-Dance.jpg
END:VEVENT
END:VCALENDAR