BEGIN:VCALENDAR
VERSION:2.0
PRODID:-//Stallings-Williams Post 206 - ECPv6.15.20//NONSGML v1.0//EN
CALSCALE:GREGORIAN
METHOD:PUBLISH
X-WR-CALNAME:Stallings-Williams Post 206
X-ORIGINAL-URL:https://md-post206.org
X-WR-CALDESC:Events for Stallings-Williams Post 206
REFRESH-INTERVAL;VALUE=DURATION:PT1H
X-Robots-Tag:noindex
X-PUBLISHED-TTL:PT1H
BEGIN:VTIMEZONE
TZID:America/New_York
BEGIN:DAYLIGHT
TZOFFSETFROM:-0500
TZOFFSETTO:-0400
TZNAME:EDT
DTSTART:20240310T070000
END:DAYLIGHT
BEGIN:STANDARD
TZOFFSETFROM:-0400
TZOFFSETTO:-0500
TZNAME:EST
DTSTART:20241103T060000
END:STANDARD
BEGIN:DAYLIGHT
TZOFFSETFROM:-0500
TZOFFSETTO:-0400
TZNAME:EDT
DTSTART:20250309T070000
END:DAYLIGHT
BEGIN:STANDARD
TZOFFSETFROM:-0400
TZOFFSETTO:-0500
TZNAME:EST
DTSTART:20251102T060000
END:STANDARD
BEGIN:DAYLIGHT
TZOFFSETFROM:-0500
TZOFFSETTO:-0400
TZNAME:EDT
DTSTART:20260308T070000
END:DAYLIGHT
BEGIN:STANDARD
TZOFFSETFROM:-0400
TZOFFSETTO:-0500
TZNAME:EST
DTSTART:20261101T060000
END:STANDARD
END:VTIMEZONE
BEGIN:VEVENT
DTSTART;TZID=America/New_York:20250401T173000
DTEND;TZID=America/New_York:20250401T190000
DTSTAMP:20260424T110742
CREATED:20250120T184704Z
LAST-MODIFIED:20250225T214524Z
UID:10000547-1743528600-1743534000@md-post206.org
SUMMARY:Steak Night - $20 - Open to the Public
DESCRIPTION:First Tuesday of the month means it’s time for Steak Night. $20 gets you a big steak\, a big baked potato\, vegetables\, a salad and great company.\n\nOpen to the Public.
URL:https://md-post206.org/event/steak-night-20-open-to-the-public-7/2025-04-01/
LOCATION:Stallings-Williams Post 206 American Legion\, 3330 Chesapeake Beach Rd\, Chesapeake Beach\, MD\, 20732\, United States
CATEGORIES:Dinner
END:VEVENT
BEGIN:VEVENT
DTSTART;TZID=America/New_York:20250404T173000
DTEND;TZID=America/New_York:20250404T190000
DTSTAMP:20260424T110742
CREATED:20250401T104330Z
LAST-MODIFIED:20250401T104330Z
UID:10001260-1743787800-1743793200@md-post206.org
SUMMARY:Jack's Chicken Dinner $15 - Open to the Public
DESCRIPTION:Come enjoy our ‘secret recipe’ Jack’s Chicken at the Legion.\n\n$15 gets you a giant piece of chicken\, vegetables and salad.\n\nOpen to the Public
URL:https://md-post206.org/event/jacks-chicken-dinner-15-open-to-the-public/
LOCATION:MD
CATEGORIES:Dinner
END:VEVENT
BEGIN:VEVENT
DTSTART;TZID=America/New_York:20250411T173000
DTEND;TZID=America/New_York:20250411T190000
DTSTAMP:20260424T110742
CREATED:20240417T214330Z
LAST-MODIFIED:20250401T105450Z
UID:10000031-1744392600-1744398000@md-post206.org
SUMMARY:Fried Shrimp Dinner - $15 - Open to the Public
DESCRIPTION:Come out to the Legion and enjoy a Fried Shrimp Dinner for only $15.\n\nOpen to the Public.
URL:https://md-post206.org/event/shrimp-dinner-13/
LOCATION:Stallings-Williams Post 206 American Legion\, 3330 Chesapeake Beach Rd\, Chesapeake Beach\, MD\, 20732\, United States
CATEGORIES:Dinner
END:VEVENT
BEGIN:VEVENT
DTSTART;TZID=America/New_York:20250415T173000
DTEND;TZID=America/New_York:20250415T190000
DTSTAMP:20260424T110742
CREATED:20241230T002800Z
LAST-MODIFIED:20250123T170751Z
UID:10000612-1744738200-1744743600@md-post206.org
SUMMARY:Steak Night - $20 - Open to the Public
DESCRIPTION:Third Tuesday of the month means it’s time for Steak Night. $20 gets you a big steak\, a big baked potato\, vegetables\, a salad and great company.\n\nOpen to the Public.
URL:https://md-post206.org/event/steak-night-20-open-to-the-public-6/2025-04-15/
LOCATION:Stallings-Williams Post 206 American Legion\, 3330 Chesapeake Beach Rd\, Chesapeake Beach\, MD\, 20732\, United States
CATEGORIES:Dinner
END:VEVENT
BEGIN:VEVENT
DTSTART;TZID=America/New_York:20250418T173000
DTEND;TZID=America/New_York:20250418T190000
DTSTAMP:20260424T110742
CREATED:20250401T110904Z
LAST-MODIFIED:20250401T110904Z
UID:10001267-1744997400-1745002800@md-post206.org
SUMMARY:Fish and Chips Dinner - $15 - Open to the Public
DESCRIPTION:Come out and enjoy a tasty Fish and Chips dinner. $15\n\nOpen to the Public
URL:https://md-post206.org/event/fish-and-chips-dinner-15-open-to-the-public/
LOCATION:MD
CATEGORIES:Dinner
END:VEVENT
BEGIN:VEVENT
DTSTART;TZID=America/New_York:20250425T173000
DTEND;TZID=America/New_York:20250425T190100
DTSTAMP:20260424T110742
CREATED:20250401T115355Z
LAST-MODIFIED:20250401T115356Z
UID:10001202-1745602200-1745607660@md-post206.org
SUMMARY:Nam Knights Spaghetti Night - $15 - Open to the Public
DESCRIPTION:Time to come over and taste some that amazing homemade sauce. $15 will fill your belly.\n\nOpen to the Public
URL:https://md-post206.org/event/nam-knights-spaghetti-night-15-open-to-the-public-2-2/
LOCATION:Stallings-Williams Post 206 American Legion\, 3330 Chesapeake Beach Rd\, Chesapeake Beach\, MD\, 20732\, United States
CATEGORIES:Dinner
END:VEVENT
END:VCALENDAR