BEGIN:VCALENDAR
VERSION:2.0
PRODID:-//Stallings-Williams Post 206 - ECPv6.15.20//NONSGML v1.0//EN
CALSCALE:GREGORIAN
METHOD:PUBLISH
X-WR-CALNAME:Stallings-Williams Post 206
X-ORIGINAL-URL:https://md-post206.org
X-WR-CALDESC:Events for Stallings-Williams Post 206
REFRESH-INTERVAL;VALUE=DURATION:PT1H
X-Robots-Tag:noindex
X-PUBLISHED-TTL:PT1H
BEGIN:VTIMEZONE
TZID:America/New_York
BEGIN:DAYLIGHT
TZOFFSETFROM:-0500
TZOFFSETTO:-0400
TZNAME:EDT
DTSTART:20240310T070000
END:DAYLIGHT
BEGIN:STANDARD
TZOFFSETFROM:-0400
TZOFFSETTO:-0500
TZNAME:EST
DTSTART:20241103T060000
END:STANDARD
BEGIN:DAYLIGHT
TZOFFSETFROM:-0500
TZOFFSETTO:-0400
TZNAME:EDT
DTSTART:20250309T070000
END:DAYLIGHT
BEGIN:STANDARD
TZOFFSETFROM:-0400
TZOFFSETTO:-0500
TZNAME:EST
DTSTART:20251102T060000
END:STANDARD
BEGIN:DAYLIGHT
TZOFFSETFROM:-0500
TZOFFSETTO:-0400
TZNAME:EDT
DTSTART:20260308T070000
END:DAYLIGHT
BEGIN:STANDARD
TZOFFSETFROM:-0400
TZOFFSETTO:-0500
TZNAME:EST
DTSTART:20261101T060000
END:STANDARD
END:VTIMEZONE
BEGIN:VEVENT
DTSTART;TZID=America/New_York:20251202T173000
DTEND;TZID=America/New_York:20251202T190000
DTSTAMP:20260420T141540
CREATED:20251022T150055Z
LAST-MODIFIED:20251022T150145Z
UID:10000555-1764696600-1764702000@md-post206.org
SUMMARY:Steak Night - $25 - Open to the Public
DESCRIPTION:First Tuesday of the month means it’s time for Steak Night. $25 gets you a big steak\, a big baked potato\, vegetables\, a salad and great company.\nOpen to the Public.
URL:https://md-post206.org/event/steak-night-25-open-to-the-public/
LOCATION:Stallings-Williams Post 206 American Legion\, 3330 Chesapeake Beach Rd\, Chesapeake Beach\, MD\, 20732\, United States
CATEGORIES:Dinner
END:VEVENT
BEGIN:VEVENT
DTSTART;TZID=America/New_York:20251205T173000
DTEND;TZID=America/New_York:20251205T190000
DTSTAMP:20260420T141540
CREATED:20251022T145358Z
LAST-MODIFIED:20251022T145358Z
UID:10001734-1764955800-1764961200@md-post206.org
SUMMARY:Dinner - Roast Pork Loin - $15 - Open to the Public
DESCRIPTION:Roast Pork loin with escalloped potatos\, vegetables\, salad and tea for $15.\nOpen to the Public
URL:https://md-post206.org/event/dinner-roast-pork-loin-15-open-to-the-public/
LOCATION:Stallings-Williams Post 206 American Legion\, 3330 Chesapeake Beach Rd\, Chesapeake Beach\, MD\, 20732\, United States
CATEGORIES:Dinner
ORGANIZER;CN="commander":MAILTO:commander@md-post206.org
END:VEVENT
BEGIN:VEVENT
DTSTART;TZID=America/New_York:20251212T173000
DTEND;TZID=America/New_York:20251212T190000
DTSTAMP:20260420T141540
CREATED:20251022T145905Z
LAST-MODIFIED:20251022T145905Z
UID:10001735-1765560600-1765566000@md-post206.org
SUMMARY:Lasagna - $15 - Open to the Public
DESCRIPTION:Lasagna Dinner tonight. Come out and have a good dinner!\nOpen to the Public.
URL:https://md-post206.org/event/lasagna-15-open-to-the-public-3/
LOCATION:Stallings-Williams Post 206 American Legion\, 3330 Chesapeake Beach Rd\, Chesapeake Beach\, MD\, 20732\, United States
CATEGORIES:Dinner
END:VEVENT
BEGIN:VEVENT
DTSTART;TZID=America/New_York:20251216T173000
DTEND;TZID=America/New_York:20251216T190000
DTSTAMP:20260420T141540
CREATED:20250801T000200Z
LAST-MODIFIED:20250801T000201Z
UID:10000620-1765906200-1765911600@md-post206.org
SUMMARY:Steak Night - $25 - Open to the Public
DESCRIPTION:Third Tuesday of the month means it’s time for Steak Night. $25 gets you a big steak\, a big baked potato\, vegetables\, a salad and great company.\n\nOpen to the Public.
URL:https://md-post206.org/event/steak-night-20-open-to-the-public-6-2/2025-12-16/
LOCATION:Stallings-Williams Post 206 American Legion\, 3330 Chesapeake Beach Rd\, Chesapeake Beach\, MD\, 20732\, United States
CATEGORIES:Dinner
END:VEVENT
BEGIN:VEVENT
DTSTART;TZID=America/New_York:20251219T173000
DTEND;TZID=America/New_York:20251219T190000
DTSTAMP:20260420T141540
CREATED:20251022T113656Z
LAST-MODIFIED:20251022T113656Z
UID:10001723-1766165400-1766170800@md-post206.org
SUMMARY:Crab Cakes - $15 - Open to the Public
DESCRIPTION:Come tuck in for Crab Cakes this Friday and enjoy!\nOpen to the Public
URL:https://md-post206.org/event/crab-cakes-15-open-to-the-public/
LOCATION:Stallings-Williams Post 206 American Legion\, 3330 Chesapeake Beach Rd\, Chesapeake Beach\, MD\, 20732\, United States
CATEGORIES:Dinner
ATTACH;FMTTYPE=image/jpeg:https://md-post206.org/wp-content/uploads/2025/02/6507011010429160908.jpg
ORGANIZER;CN="auxpres@md-post206.org":MAILTO:auxpres@md-post206.org
END:VEVENT
BEGIN:VEVENT
DTSTART;TZID=America/New_York:20251226T173000
DTEND;TZID=America/New_York:20251226T190000
DTSTAMP:20260420T141540
CREATED:20251023T143932Z
LAST-MODIFIED:20251023T143932Z
UID:10001207-1766770200-1766775600@md-post206.org
SUMMARY:NO DINNER - Merry Christmas
DESCRIPTION:
URL:https://md-post206.org/event/nam-knights-spaghetti-night-15-open-to-the-public-2-5/
LOCATION:Stallings-Williams Post 206 American Legion\, 3330 Chesapeake Beach Rd\, Chesapeake Beach\, MD\, 20732\, United States
CATEGORIES:Dinner
END:VEVENT
END:VCALENDAR