BEGIN:VCALENDAR
VERSION:2.0
PRODID:-//Stallings-Williams Post 206 - ECPv6.15.20//NONSGML v1.0//EN
CALSCALE:GREGORIAN
METHOD:PUBLISH
X-WR-CALNAME:Stallings-Williams Post 206
X-ORIGINAL-URL:https://md-post206.org
X-WR-CALDESC:Events for Stallings-Williams Post 206
REFRESH-INTERVAL;VALUE=DURATION:PT1H
X-Robots-Tag:noindex
X-PUBLISHED-TTL:PT1H
BEGIN:VTIMEZONE
TZID:America/New_York
BEGIN:DAYLIGHT
TZOFFSETFROM:-0500
TZOFFSETTO:-0400
TZNAME:EDT
DTSTART:20250309T070000
END:DAYLIGHT
BEGIN:STANDARD
TZOFFSETFROM:-0400
TZOFFSETTO:-0500
TZNAME:EST
DTSTART:20251102T060000
END:STANDARD
BEGIN:DAYLIGHT
TZOFFSETFROM:-0500
TZOFFSETTO:-0400
TZNAME:EDT
DTSTART:20260308T070000
END:DAYLIGHT
BEGIN:STANDARD
TZOFFSETFROM:-0400
TZOFFSETTO:-0500
TZNAME:EST
DTSTART:20261101T060000
END:STANDARD
BEGIN:DAYLIGHT
TZOFFSETFROM:-0500
TZOFFSETTO:-0400
TZNAME:EDT
DTSTART:20270314T070000
END:DAYLIGHT
BEGIN:STANDARD
TZOFFSETFROM:-0400
TZOFFSETTO:-0500
TZNAME:EST
DTSTART:20271107T060000
END:STANDARD
END:VTIMEZONE
BEGIN:VEVENT
DTSTART;TZID=America/New_York:20260102T173000
DTEND;TZID=America/New_York:20260102T190000
DTSTAMP:20260420T075006
CREATED:20251231T135758Z
LAST-MODIFIED:20251231T135758Z
UID:10001769-1767375000-1767380400@md-post206.org
SUMMARY:Fish and Chips Dinner - $15 - Open to the Public
DESCRIPTION:Come out and enjoy a tasty Fish and Chips dinner. $15\n\nOpen to the Public
URL:https://md-post206.org/event/fish-and-chips-dinner-15-open-to-the-public-3/
LOCATION:Stallings-Williams Post 206 American Legion\, 3330 Chesapeake Beach Rd\, Chesapeake Beach\, MD\, 20732\, United States
CATEGORIES:Dinner
END:VEVENT
BEGIN:VEVENT
DTSTART;TZID=America/New_York:20260106T173000
DTEND;TZID=America/New_York:20260106T190000
DTSTAMP:20260420T075006
CREATED:20251231T135528Z
LAST-MODIFIED:20251231T135615Z
UID:10000556-1767720600-1767726000@md-post206.org
SUMMARY:Steak Night - $25 - Open to the Public
DESCRIPTION:First Tuesday of the month means it’s time for Steak Night. $25 gets you a big steak\, a big baked potato\, vegetables\, a salad and great company.\n\nOpen to the Public.
URL:https://md-post206.org/event/steak-night-25-open-to-the-public-2/
LOCATION:Stallings-Williams Post 206 American Legion\, 3330 Chesapeake Beach Rd\, Chesapeake Beach\, MD\, 20732\, United States
CATEGORIES:Dinner
END:VEVENT
BEGIN:VEVENT
DTSTART;TZID=America/New_York:20260109T173000
DTEND;TZID=America/New_York:20260109T190000
DTSTAMP:20260420T075006
CREATED:20251231T135941Z
LAST-MODIFIED:20251231T135941Z
UID:10001770-1767979800-1767985200@md-post206.org
SUMMARY:Open Faced Beef Sandwich Dinner - $15 - Open to the Public
DESCRIPTION:Come join us for a hearty open faced beef sandwich dinner for $15.\n\nOpen to the Public
URL:https://md-post206.org/event/open-faced-beef-sandwich-dinner-15-open-to-the-public/
LOCATION:Stallings-Williams Post 206 American Legion\, 3330 Chesapeake Beach Rd\, Chesapeake Beach\, MD\, 20732\, United States
CATEGORIES:Dinner
END:VEVENT
BEGIN:VEVENT
DTSTART;TZID=America/New_York:20260116T173000
DTEND;TZID=America/New_York:20260116T190000
DTSTAMP:20260420T075006
CREATED:20260109T010639Z
LAST-MODIFIED:20260112T102040Z
UID:10001773-1768584600-1768590000@md-post206.org
SUMMARY:Shrimp Étouffée Dinner - $15 - Open to the Public
DESCRIPTION:Come help get the carnival season started right!\n \n\n \nShrimp\, rice\, French bread and King Cake for $15!\n \n\n \n\n \nLaissez les bons temps rouler!
URL:https://md-post206.org/event/shrimp-etouffee-dinner-15-open-to-the-public/
LOCATION:Stallings-Williams Post 206 American Legion\, 3330 Chesapeake Beach Rd\, Chesapeake Beach\, MD\, 20732\, United States
CATEGORIES:Dinner
ATTACH;FMTTYPE=image/png:https://md-post206.org/wp-content/uploads/2026/01/ETOUFEE.png
END:VEVENT
BEGIN:VEVENT
DTSTART;TZID=America/New_York:20260120T173000
DTEND;TZID=America/New_York:20260120T190000
DTSTAMP:20260420T075006
CREATED:20250801T000200Z
LAST-MODIFIED:20250801T000201Z
UID:10000621-1768930200-1768935600@md-post206.org
SUMMARY:Steak Night - $25 - Open to the Public
DESCRIPTION:Third Tuesday of the month means it’s time for Steak Night. $25 gets you a big steak\, a big baked potato\, vegetables\, a salad and great company.\n\nOpen to the Public.
URL:https://md-post206.org/event/steak-night-20-open-to-the-public-6-2/2026-01-20/
LOCATION:Stallings-Williams Post 206 American Legion\, 3330 Chesapeake Beach Rd\, Chesapeake Beach\, MD\, 20732\, United States
CATEGORIES:Dinner
END:VEVENT
BEGIN:VEVENT
DTSTART;TZID=America/New_York:20260123T173000
DTEND;TZID=America/New_York:20260123T190000
DTSTAMP:20260420T075006
CREATED:20241230T003055Z
LAST-MODIFIED:20250225T215349Z
UID:10001208-1769189400-1769194800@md-post206.org
SUMMARY:Nam Knights Spaghetti Night - $15 - Open to the Public
DESCRIPTION:Time to come over and taste some that amazing homemade sauce. $15 will fill your belly.\n\nOpen to the Public
URL:https://md-post206.org/event/nam-knights-spaghetti-night-15-open-to-the-public-2/2026-01-23/
LOCATION:Stallings-Williams Post 206 American Legion\, 3330 Chesapeake Beach Rd\, Chesapeake Beach\, MD\, 20732\, United States
CATEGORIES:Dinner
END:VEVENT
BEGIN:VEVENT
DTSTART;TZID=America/New_York:20260130T173000
DTEND;TZID=America/New_York:20260130T190000
DTSTAMP:20260420T075006
CREATED:20260109T010138Z
LAST-MODIFIED:20260117T204952Z
UID:10001771-1769794200-1769799600@md-post206.org
SUMMARY:Dinner - Meatball Subs - for NNDCC - $15 - Open to the Public
DESCRIPTION:Come on down and enjoy a Meatball sub with fries and a salad. This dinner is to support the NNDCC (National Naval Defense Cadet Corps) from Northern High School.\n\nOpen to the Public
URL:https://md-post206.org/event/dinner-tbd/
LOCATION:Stallings-Williams Post 206 American Legion\, 3330 Chesapeake Beach Rd\, Chesapeake Beach\, MD\, 20732\, United States
CATEGORIES:Dinner,Special Events
ATTACH;FMTTYPE=image/jpeg:https://md-post206.org/wp-content/uploads/2026/01/MEatball-subs.jpeg
END:VEVENT
END:VCALENDAR