BEGIN:VCALENDAR
VERSION:2.0
PRODID:-//Stallings-Williams Post 206 - ECPv6.15.20//NONSGML v1.0//EN
CALSCALE:GREGORIAN
METHOD:PUBLISH
X-WR-CALNAME:Stallings-Williams Post 206
X-ORIGINAL-URL:https://md-post206.org
X-WR-CALDESC:Events for Stallings-Williams Post 206
REFRESH-INTERVAL;VALUE=DURATION:PT1H
X-Robots-Tag:noindex
X-PUBLISHED-TTL:PT1H
BEGIN:VTIMEZONE
TZID:America/New_York
BEGIN:DAYLIGHT
TZOFFSETFROM:-0500
TZOFFSETTO:-0400
TZNAME:EDT
DTSTART:20240310T070000
END:DAYLIGHT
BEGIN:STANDARD
TZOFFSETFROM:-0400
TZOFFSETTO:-0500
TZNAME:EST
DTSTART:20241103T060000
END:STANDARD
BEGIN:DAYLIGHT
TZOFFSETFROM:-0500
TZOFFSETTO:-0400
TZNAME:EDT
DTSTART:20250309T070000
END:DAYLIGHT
BEGIN:STANDARD
TZOFFSETFROM:-0400
TZOFFSETTO:-0500
TZNAME:EST
DTSTART:20251102T060000
END:STANDARD
BEGIN:DAYLIGHT
TZOFFSETFROM:-0500
TZOFFSETTO:-0400
TZNAME:EDT
DTSTART:20260308T070000
END:DAYLIGHT
BEGIN:STANDARD
TZOFFSETFROM:-0400
TZOFFSETTO:-0500
TZNAME:EST
DTSTART:20261101T060000
END:STANDARD
END:VTIMEZONE
BEGIN:VEVENT
DTSTART;TZID=America/New_York:20251107T173000
DTEND;TZID=America/New_York:20251107T190000
DTSTAMP:20260422T044454
CREATED:20251017T170453Z
LAST-MODIFIED:20251018T131735Z
UID:10001716-1762536600-1762542000@md-post206.org
SUMMARY:Roast Beef Dinner - $15 - Open to the Public
DESCRIPTION:Come on out for a tasty roast beef dinner. $15\nOpen to the Public
URL:https://md-post206.org/event/roast-beef-dinner-15-open-to-the-public-3/
LOCATION:Stallings-Williams Post 206 American Legion\, 3330 Chesapeake Beach Rd\, Chesapeake Beach\, MD\, 20732\, United States
CATEGORIES:Dinner
ORGANIZER;CN="commander":MAILTO:commander@md-post206.org
END:VEVENT
END:VCALENDAR