BEGIN:VCALENDAR
VERSION:2.0
PRODID:-//Stallings-Williams Post 206 - ECPv6.15.20//NONSGML v1.0//EN
CALSCALE:GREGORIAN
METHOD:PUBLISH
X-WR-CALNAME:Stallings-Williams Post 206
X-ORIGINAL-URL:https://md-post206.org
X-WR-CALDESC:Events for Stallings-Williams Post 206
REFRESH-INTERVAL;VALUE=DURATION:PT1H
X-Robots-Tag:noindex
X-PUBLISHED-TTL:PT1H
BEGIN:VTIMEZONE
TZID:America/New_York
BEGIN:DAYLIGHT
TZOFFSETFROM:-0500
TZOFFSETTO:-0400
TZNAME:EDT
DTSTART:20240310T070000
END:DAYLIGHT
BEGIN:STANDARD
TZOFFSETFROM:-0400
TZOFFSETTO:-0500
TZNAME:EST
DTSTART:20241103T060000
END:STANDARD
BEGIN:DAYLIGHT
TZOFFSETFROM:-0500
TZOFFSETTO:-0400
TZNAME:EDT
DTSTART:20250309T070000
END:DAYLIGHT
BEGIN:STANDARD
TZOFFSETFROM:-0400
TZOFFSETTO:-0500
TZNAME:EST
DTSTART:20251102T060000
END:STANDARD
BEGIN:DAYLIGHT
TZOFFSETFROM:-0500
TZOFFSETTO:-0400
TZNAME:EDT
DTSTART:20260308T070000
END:DAYLIGHT
BEGIN:STANDARD
TZOFFSETFROM:-0400
TZOFFSETTO:-0500
TZNAME:EST
DTSTART:20261101T060000
END:STANDARD
END:VTIMEZONE
BEGIN:VEVENT
DTSTART;TZID=America/New_York:20250328T193000
DTEND;TZID=America/New_York:20250328T223000
DTSTAMP:20260422T221747
CREATED:20250108T112819Z
LAST-MODIFIED:20251016T202144Z
UID:10000155-1743190200-1743201000@md-post206.org
SUMMARY:Dueling Pianos Benefit Concert - $30 - Open to the Public
DESCRIPTION:—SOLD OUT—\nCome out for a night of fun\, music and maybe a little dancing!\nDueling Pianos by Blazin’ Keys Entertainment (  https://blazinkeys.com/ ) will be here on March 28th at 8pm. Proceeds from this night of fun music will benefit the Humane Society of Calvert County and the Children’s Fund of Stallings-Williams American Legion Post 206.\nTickets include free draft beer\, soda and snacks. There will be raffles\, 50/50 tickets\, pull tabs and more!\nTickets are available for purchase in person at the Chesapeake Beach American Legion Post 206\, at the Humane Society of Calvert County and online below. Just scroll down to the bottom and choose how many tickets you would like. Then press “Get Tickets”.\n(If you purchase 8 tickets\, you can reserve a table. If you do\, please email Billy at: eb4@md-post206.org to reserve your table.)\n\n \n\n \nThis will be the first event where we will try out an online ticket option. Please let us know how that works for you.\nDoors open at 7:30 and the show starts at 8pm.\nWe look forward to seeing you there.
URL:https://md-post206.org/event/dueling-pianos-benefit-concert-30-open-to-the-public/
LOCATION:Stallings-Williams Post 206 American Legion\, 3330 Chesapeake Beach Rd\, Chesapeake Beach\, MD\, 20732\, United States
CATEGORIES:Dancing,Fundraiser,Music,Special Events
ATTACH;FMTTYPE=image/jpeg:https://md-post206.org/wp-content/uploads/2025/01/Dark-Blue-and-White-Piano-Jazz-Poster-sold-out.jpg
END:VEVENT
END:VCALENDAR