BEGIN:VCALENDAR
VERSION:2.0
PRODID:-//Stallings-Williams Post 206 - ECPv6.15.20//NONSGML v1.0//EN
CALSCALE:GREGORIAN
METHOD:PUBLISH
X-ORIGINAL-URL:https://md-post206.org
X-WR-CALDESC:Events for Stallings-Williams Post 206
REFRESH-INTERVAL;VALUE=DURATION:PT1H
X-Robots-Tag:noindex
X-PUBLISHED-TTL:PT1H
BEGIN:VTIMEZONE
TZID:America/New_York
BEGIN:DAYLIGHT
TZOFFSETFROM:-0500
TZOFFSETTO:-0400
TZNAME:EDT
DTSTART:20230312T070000
END:DAYLIGHT
BEGIN:STANDARD
TZOFFSETFROM:-0400
TZOFFSETTO:-0500
TZNAME:EST
DTSTART:20231105T060000
END:STANDARD
BEGIN:DAYLIGHT
TZOFFSETFROM:-0500
TZOFFSETTO:-0400
TZNAME:EDT
DTSTART:20240310T070000
END:DAYLIGHT
BEGIN:STANDARD
TZOFFSETFROM:-0400
TZOFFSETTO:-0500
TZNAME:EST
DTSTART:20241103T060000
END:STANDARD
BEGIN:DAYLIGHT
TZOFFSETFROM:-0500
TZOFFSETTO:-0400
TZNAME:EDT
DTSTART:20250309T070000
END:DAYLIGHT
BEGIN:STANDARD
TZOFFSETFROM:-0400
TZOFFSETTO:-0500
TZNAME:EST
DTSTART:20251102T060000
END:STANDARD
END:VTIMEZONE
BEGIN:VEVENT
DTSTART;TZID=America/New_York:20240504T190000
DTEND;TZID=America/New_York:20240504T200000
DTSTAMP:20260424T005237
CREATED:20240419T223645Z
LAST-MODIFIED:20240419T223645Z
UID:10000032-1714849200-1714852800@md-post206.org
SUMMARY:Legion Special Membership Meeting 7PM\, 2nd Nominations
DESCRIPTION:This is a special meeting to accept 2nd nominations for Post officers.
URL:https://md-post206.org/event/legion-special-membership-meeting-7pm-2nd-nominations/
LOCATION:Stallings-Williams Post 206 American Legion\, 3330 Chesapeake Beach Rd\, Chesapeake Beach\, MD\, 20732\, United States
CATEGORIES:Meetings
END:VEVENT
BEGIN:VEVENT
DTSTART;TZID=America/New_York:20240514T183000
DTEND;TZID=America/New_York:20240514T200000
DTSTAMP:20260424T005237
CREATED:20240420T004233Z
LAST-MODIFIED:20240420T004233Z
UID:10000038-1715711400-1715716800@md-post206.org
SUMMARY:S.A.L. Member Meeting - Elections
DESCRIPTION:S.A.L. members meeting. Elections will be held.
URL:https://md-post206.org/event/s-a-l-member-meeting-elections/
LOCATION:Stallings-Williams Post 206 American Legion\, 3330 Chesapeake Beach Rd\, Chesapeake Beach\, MD\, 20732\, United States
CATEGORIES:Meetings
END:VEVENT
BEGIN:VEVENT
DTSTART;TZID=America/New_York:20240515T190000
DTEND;TZID=America/New_York:20240515T203000
DTSTAMP:20260424T005237
CREATED:20240509T231425Z
LAST-MODIFIED:20240509T231425Z
UID:10000039-1715799600-1715805000@md-post206.org
SUMMARY:Post Executive Committee Meeting
DESCRIPTION:
URL:https://md-post206.org/event/post-executive-committee-meeting/
LOCATION:MD
CATEGORIES:Meetings
END:VEVENT
BEGIN:VEVENT
DTSTART;TZID=America/New_York:20240517T190000
DTEND;TZID=America/New_York:20240517T200000
DTSTAMP:20260424T005237
CREATED:20240509T231804Z
LAST-MODIFIED:20240517T163304Z
UID:10000042-1715972400-1715976000@md-post206.org
SUMMARY:Post meeting 7PM
DESCRIPTION:Results of the election will be posted at this meeting.\n\n7PM
URL:https://md-post206.org/event/post-meeting-7pm/
LOCATION:MD
CATEGORIES:Meetings
END:VEVENT
END:VCALENDAR