BEGIN:VCALENDAR
VERSION:2.0
PRODID:-//Stallings-Williams Post 206 - ECPv6.15.20//NONSGML v1.0//EN
CALSCALE:GREGORIAN
METHOD:PUBLISH
X-WR-CALNAME:Stallings-Williams Post 206
X-ORIGINAL-URL:https://md-post206.org
X-WR-CALDESC:Events for Stallings-Williams Post 206
REFRESH-INTERVAL;VALUE=DURATION:PT1H
X-Robots-Tag:noindex
X-PUBLISHED-TTL:PT1H
BEGIN:VTIMEZONE
TZID:America/New_York
BEGIN:DAYLIGHT
TZOFFSETFROM:-0500
TZOFFSETTO:-0400
TZNAME:EDT
DTSTART:20230312T070000
END:DAYLIGHT
BEGIN:STANDARD
TZOFFSETFROM:-0400
TZOFFSETTO:-0500
TZNAME:EST
DTSTART:20231105T060000
END:STANDARD
BEGIN:DAYLIGHT
TZOFFSETFROM:-0500
TZOFFSETTO:-0400
TZNAME:EDT
DTSTART:20240310T070000
END:DAYLIGHT
BEGIN:STANDARD
TZOFFSETFROM:-0400
TZOFFSETTO:-0500
TZNAME:EST
DTSTART:20241103T060000
END:STANDARD
BEGIN:DAYLIGHT
TZOFFSETFROM:-0500
TZOFFSETTO:-0400
TZNAME:EDT
DTSTART:20250309T070000
END:DAYLIGHT
BEGIN:STANDARD
TZOFFSETFROM:-0400
TZOFFSETTO:-0500
TZNAME:EST
DTSTART:20251102T060000
END:STANDARD
END:VTIMEZONE
BEGIN:VEVENT
DTSTART;TZID=America/New_York:20241007T190000
DTEND;TZID=America/New_York:20241007T203000
DTSTAMP:20260421T205406
CREATED:20241001T011612Z
LAST-MODIFIED:20241001T011612Z
UID:10000083-1728327600-1728333000@md-post206.org
SUMMARY:Scout Meeting
DESCRIPTION:
URL:https://md-post206.org/event/scout-meeting-8/
LOCATION:Stallings-Williams Post 206 American Legion\, 3330 Chesapeake Beach Rd\, Chesapeake Beach\, MD\, 20732\, United States
CATEGORIES:Meetings
END:VEVENT
BEGIN:VEVENT
DTSTART;TZID=America/New_York:20241008T183000
DTEND;TZID=America/New_York:20241008T193000
DTSTAMP:20260421T205406
CREATED:20241001T011652Z
LAST-MODIFIED:20241001T011652Z
UID:10000084-1728412200-1728415800@md-post206.org
SUMMARY:S.A.L. Meeting
DESCRIPTION:
URL:https://md-post206.org/event/s-a-l-meeting-2/
LOCATION:Stallings-Williams Post 206 American Legion\, 3330 Chesapeake Beach Rd\, Chesapeake Beach\, MD\, 20732\, United States
CATEGORIES:Meetings
END:VEVENT
BEGIN:VEVENT
DTSTART;TZID=America/New_York:20241014T190000
DTEND;TZID=America/New_York:20241014T203000
DTSTAMP:20260421T205406
CREATED:20241001T012204Z
LAST-MODIFIED:20241001T012204Z
UID:10000088-1728932400-1728937800@md-post206.org
SUMMARY:Scout Meeting
DESCRIPTION:
URL:https://md-post206.org/event/scout-meeting-9/
LOCATION:Stallings-Williams Post 206 American Legion\, 3330 Chesapeake Beach Rd\, Chesapeake Beach\, MD\, 20732\, United States
CATEGORIES:Meetings
END:VEVENT
BEGIN:VEVENT
DTSTART;TZID=America/New_York:20241016T190000
DTEND;TZID=America/New_York:20241016T203000
DTSTAMP:20260421T205406
CREATED:20241001T013343Z
LAST-MODIFIED:20241001T013343Z
UID:10000090-1729105200-1729110600@md-post206.org
SUMMARY:Legion E.C. Meeting
DESCRIPTION:
URL:https://md-post206.org/event/legion-e-c-meeting/
LOCATION:MD
CATEGORIES:Meetings
END:VEVENT
BEGIN:VEVENT
DTSTART;TZID=America/New_York:20241018T190000
DTEND;TZID=America/New_York:20241018T200000
DTSTAMP:20260421T205406
CREATED:20241001T014628Z
LAST-MODIFIED:20241001T014628Z
UID:10000093-1729278000-1729281600@md-post206.org
SUMMARY:Legion Membership Meeting
DESCRIPTION:
URL:https://md-post206.org/event/legion-membership-meeting/
LOCATION:Stallings-Williams Post 206 American Legion\, 3330 Chesapeake Beach Rd\, Chesapeake Beach\, MD\, 20732\, United States
CATEGORIES:Meetings
END:VEVENT
BEGIN:VEVENT
DTSTART;TZID=America/New_York:20241021T190000
DTEND;TZID=America/New_York:20241021T203000
DTSTAMP:20260421T205406
CREATED:20241001T014956Z
LAST-MODIFIED:20241001T014956Z
UID:10000096-1729537200-1729542600@md-post206.org
SUMMARY:Scout Meeting
DESCRIPTION:
URL:https://md-post206.org/event/scout-meeting-10/
LOCATION:Stallings-Williams Post 206 American Legion\, 3330 Chesapeake Beach Rd\, Chesapeake Beach\, MD\, 20732\, United States
CATEGORIES:Meetings
END:VEVENT
END:VCALENDAR