BEGIN:VCALENDAR
VERSION:2.0
PRODID:-//Stallings-Williams Post 206 - ECPv6.15.20//NONSGML v1.0//EN
CALSCALE:GREGORIAN
METHOD:PUBLISH
X-WR-CALNAME:Stallings-Williams Post 206
X-ORIGINAL-URL:https://md-post206.org
X-WR-CALDESC:Events for Stallings-Williams Post 206
REFRESH-INTERVAL;VALUE=DURATION:PT1H
X-Robots-Tag:noindex
X-PUBLISHED-TTL:PT1H
BEGIN:VTIMEZONE
TZID:America/New_York
BEGIN:DAYLIGHT
TZOFFSETFROM:-0500
TZOFFSETTO:-0400
TZNAME:EDT
DTSTART:20240310T070000
END:DAYLIGHT
BEGIN:STANDARD
TZOFFSETFROM:-0400
TZOFFSETTO:-0500
TZNAME:EST
DTSTART:20241103T060000
END:STANDARD
BEGIN:DAYLIGHT
TZOFFSETFROM:-0500
TZOFFSETTO:-0400
TZNAME:EDT
DTSTART:20250309T070000
END:DAYLIGHT
BEGIN:STANDARD
TZOFFSETFROM:-0400
TZOFFSETTO:-0500
TZNAME:EST
DTSTART:20251102T060000
END:STANDARD
BEGIN:DAYLIGHT
TZOFFSETFROM:-0500
TZOFFSETTO:-0400
TZNAME:EDT
DTSTART:20260308T070000
END:DAYLIGHT
BEGIN:STANDARD
TZOFFSETFROM:-0400
TZOFFSETTO:-0500
TZNAME:EST
DTSTART:20261101T060000
END:STANDARD
END:VTIMEZONE
BEGIN:VEVENT
DTSTART;TZID=America/New_York:20250208T190000
DTEND;TZID=America/New_York:20250208T233000
DTSTAMP:20260423T111641
CREATED:20250123T211509Z
LAST-MODIFIED:20250123T211509Z
UID:10001073-1739041200-1739057400@md-post206.org
SUMMARY:Country Dance - $20 - Open to the Public
DESCRIPTION:It’s Country Dance time again. Clean off your boots and come out and dance the night away. $20 gets you in the door and free draft beer and soda.\n\nOpen to the Public
URL:https://md-post206.org/event/country-dance-20-open-to-the-public-5/2025-02-08/
LOCATION:MD
CATEGORIES:Dancing,Music
END:VEVENT
BEGIN:VEVENT
DTSTART;TZID=America/New_York:20250221T200000
DTEND;TZID=America/New_York:20250221T233000
DTSTAMP:20260423T111641
CREATED:20241230T002626Z
LAST-MODIFIED:20250123T211751Z
UID:10001134-1740168000-1740180600@md-post206.org
SUMMARY:Karaoke - Free - Open to the Public
DESCRIPTION:Come out and sing the night away!\n\nOpen to the Public.
URL:https://md-post206.org/event/karaoke-free-open-to-the-public-6/2025-02-21/
LOCATION:Stallings-Williams Post 206 American Legion\, 3330 Chesapeake Beach Rd\, Chesapeake Beach\, MD\, 20732\, United States
CATEGORIES:Music
END:VEVENT
BEGIN:VEVENT
DTSTART;TZID=America/New_York:20250222T190000
DTEND;TZID=America/New_York:20250222T230000
DTSTAMP:20260423T111641
CREATED:20240218T022937Z
LAST-MODIFIED:20250217T165958Z
UID:10000002-1740250800-1740265200@md-post206.org
SUMMARY:Motown & More $15
DESCRIPTION:Come out and dance the night away to great Mowtown music!
URL:https://md-post206.org/event/motown-more-15/
LOCATION:Stallings-Williams Post 206 American Legion\, 3330 Chesapeake Beach Rd\, Chesapeake Beach\, MD\, 20732\, United States
CATEGORIES:Dancing,Music
END:VEVENT
END:VCALENDAR