BEGIN:VCALENDAR
VERSION:2.0
PRODID:-//Stallings-Williams Post 206 - ECPv6.15.20//NONSGML v1.0//EN
CALSCALE:GREGORIAN
METHOD:PUBLISH
X-ORIGINAL-URL:https://md-post206.org
X-WR-CALDESC:Events for Stallings-Williams Post 206
REFRESH-INTERVAL;VALUE=DURATION:PT1H
X-Robots-Tag:noindex
X-PUBLISHED-TTL:PT1H
BEGIN:VTIMEZONE
TZID:America/New_York
BEGIN:DAYLIGHT
TZOFFSETFROM:-0500
TZOFFSETTO:-0400
TZNAME:EDT
DTSTART:20240310T070000
END:DAYLIGHT
BEGIN:STANDARD
TZOFFSETFROM:-0400
TZOFFSETTO:-0500
TZNAME:EST
DTSTART:20241103T060000
END:STANDARD
BEGIN:DAYLIGHT
TZOFFSETFROM:-0500
TZOFFSETTO:-0400
TZNAME:EDT
DTSTART:20250309T070000
END:DAYLIGHT
BEGIN:STANDARD
TZOFFSETFROM:-0400
TZOFFSETTO:-0500
TZNAME:EST
DTSTART:20251102T060000
END:STANDARD
BEGIN:DAYLIGHT
TZOFFSETFROM:-0500
TZOFFSETTO:-0400
TZNAME:EDT
DTSTART:20260308T070000
END:DAYLIGHT
BEGIN:STANDARD
TZOFFSETFROM:-0400
TZOFFSETTO:-0500
TZNAME:EST
DTSTART:20261101T060000
END:STANDARD
END:VTIMEZONE
BEGIN:VEVENT
DTSTART;TZID=America/New_York:20251108T190000
DTEND;TZID=America/New_York:20251108T233000
DTSTAMP:20260420T071046
CREATED:20250123T211509Z
LAST-MODIFIED:20250123T211509Z
UID:10001082-1762628400-1762644600@md-post206.org
SUMMARY:Country Dance - $20 - Open to the Public
DESCRIPTION:It’s Country Dance time again. Clean off your boots and come out and dance the night away. $20 gets you in the door and free draft beer and soda.\n\nOpen to the Public
URL:https://md-post206.org/event/country-dance-20-open-to-the-public-5/2025-11-08/
LOCATION:MD
CATEGORIES:Dancing,Music
END:VEVENT
BEGIN:VEVENT
DTSTART;TZID=America/New_York:20251114T193000
DTEND;TZID=America/New_York:20251114T220000
DTSTAMP:20260420T071046
CREATED:20251022T121323Z
LAST-MODIFIED:20251022T121323Z
UID:10001731-1763148600-1763157600@md-post206.org
SUMMARY:Bert's Open Mic Night - Free - Open to the Public
DESCRIPTION:The leaves haven’t fallen just yet\, but Open Mic Night hosted by Bert and Bert’s band is a good enough reason to get out and have fun!\n\nThe fun starts at 7:00 and who knows when it ends…\n\nBert’s Band Facebook profile: https://www.facebook.com/profile.php?id=100041565171684\n\nOpen to the Public.
URL:https://md-post206.org/event/berts-open-mic-night-free-open-to-the-public-3/
LOCATION:Stallings-Williams Post 206 American Legion\, 3330 Chesapeake Beach Rd\, Chesapeake Beach\, MD\, 20732\, United States
CATEGORIES:Music
ATTACH;FMTTYPE=image/jpeg:https://md-post206.org/wp-content/uploads/2025/01/legion21425B_-_Copy_111363706214573.jpg
END:VEVENT
BEGIN:VEVENT
DTSTART;TZID=America/New_York:20251115T190000
DTEND;TZID=America/New_York:20251115T223000
DTSTAMP:20260420T071046
CREATED:20251008T200839Z
LAST-MODIFIED:20251018T175610Z
UID:10001711-1763233200-1763245800@md-post206.org
SUMMARY:Dueling Pianos Benefit Concert - $35 - Open to the Public
DESCRIPTION:Join us in welcoming back the hottest dueling pianos act on the east coast.\nDueling Pianos by Blazin’ Keys Entertainment (  https://blazinkeys.com/ ) will be here on November 15th at 8pm. Presented by the American Legion Auxiliary Past Presidents.\nCome out for a night of fun\, music and maybe a little dancing!\nTickets include free draft beer\, wine and soda.\nTickets can be purchased by cash\, check\, or card at the American legion Post 206 bar during business hours.\n(Single purchase of 8 tickets required for reserved table.)\nDoors open at 7pm and the show starts at 8pm. Come early to guarantee a seat. Standing room available.\nWe look forward to seeing you there!
URL:https://md-post206.org/event/dueling-pianos-benefit-concert-35-open-to-the-public/
LOCATION:Stallings-Williams Post 206 American Legion\, 3330 Chesapeake Beach Rd\, Chesapeake Beach\, MD\, 20732\, United States
CATEGORIES:Dancing,Fundraiser,Music,Special Events
ATTACH;FMTTYPE=image/jpeg:https://md-post206.org/wp-content/uploads/2025/10/DueingPianosFlyer.jpg
ORGANIZER;CN="auxpres@md-post206.org":MAILTO:auxpres@md-post206.org
END:VEVENT
BEGIN:VEVENT
DTSTART;TZID=America/New_York:20251128T193000
DTEND;TZID=America/New_York:20251128T233000
DTSTAMP:20260420T071046
CREATED:20250715T230218Z
LAST-MODIFIED:20250715T230218Z
UID:10001291-1764358200-1764372600@md-post206.org
SUMMARY:Karaoke - Free - Open to the Public
DESCRIPTION:Come out and sing the night away!\n\nOpen to the Public.
URL:https://md-post206.org/event/karaoke-free-open-to-the-public-6-2/2025-11-28/
LOCATION:Stallings-Williams Post 206 American Legion\, 3330 Chesapeake Beach Rd\, Chesapeake Beach\, MD\, 20732\, United States
CATEGORIES:Music
END:VEVENT
END:VCALENDAR