BEGIN:VCALENDAR
VERSION:2.0
PRODID:-//Stallings-Williams Post 206 - ECPv6.15.20//NONSGML v1.0//EN
CALSCALE:GREGORIAN
METHOD:PUBLISH
X-WR-CALNAME:Stallings-Williams Post 206
X-ORIGINAL-URL:https://md-post206.org
X-WR-CALDESC:Events for Stallings-Williams Post 206
REFRESH-INTERVAL;VALUE=DURATION:PT1H
X-Robots-Tag:noindex
X-PUBLISHED-TTL:PT1H
BEGIN:VTIMEZONE
TZID:America/New_York
BEGIN:DAYLIGHT
TZOFFSETFROM:-0500
TZOFFSETTO:-0400
TZNAME:EDT
DTSTART:20250309T070000
END:DAYLIGHT
BEGIN:STANDARD
TZOFFSETFROM:-0400
TZOFFSETTO:-0500
TZNAME:EST
DTSTART:20251102T060000
END:STANDARD
BEGIN:DAYLIGHT
TZOFFSETFROM:-0500
TZOFFSETTO:-0400
TZNAME:EDT
DTSTART:20260308T070000
END:DAYLIGHT
BEGIN:STANDARD
TZOFFSETFROM:-0400
TZOFFSETTO:-0500
TZNAME:EST
DTSTART:20261101T060000
END:STANDARD
BEGIN:DAYLIGHT
TZOFFSETFROM:-0500
TZOFFSETTO:-0400
TZNAME:EDT
DTSTART:20270314T070000
END:DAYLIGHT
BEGIN:STANDARD
TZOFFSETFROM:-0400
TZOFFSETTO:-0500
TZNAME:EST
DTSTART:20271107T060000
END:STANDARD
END:VTIMEZONE
BEGIN:VEVENT
DTSTART;TZID=America/New_York:20260110T190000
DTEND;TZID=America/New_York:20260110T233000
DTSTAMP:20260419T181812
CREATED:20250123T211509Z
LAST-MODIFIED:20250123T211509Z
UID:10001791-1768071600-1768087800@md-post206.org
SUMMARY:Country Dance - $20 - Open to the Public
DESCRIPTION:It’s Country Dance time again. Clean off your boots and come out and dance the night away. $20 gets you in the door and free draft beer and soda.\n\nOpen to the Public
URL:https://md-post206.org/event/country-dance-20-open-to-the-public-5/2026-01-10/
LOCATION:MD
CATEGORIES:Dancing,Music
END:VEVENT
BEGIN:VEVENT
DTSTART;TZID=America/New_York:20260110T190000
DTEND;TZID=America/New_York:20260110T233000
DTSTAMP:20260419T181812
CREATED:20251231T140024Z
LAST-MODIFIED:20251231T140124Z
UID:10001084-1768071600-1768087800@md-post206.org
SUMMARY:Country Dance - $20 - Open to the Public
DESCRIPTION:It’s Country Dance time again. Clean off your boots and come out and dance the night away. $20 gets you in the door and free draft beer and soda.\n\nOpen to the Public
URL:https://md-post206.org/event/country-dance-20-open-to-the-public-6/
LOCATION:Stallings-Williams Post 206 American Legion\, 3330 Chesapeake Beach Rd\, Chesapeake Beach\, MD\, 20732\, United States
CATEGORIES:Dancing,Music
ORGANIZER;CN="Chaplain":MAILTO:chaplain@md-post206,org
END:VEVENT
BEGIN:VEVENT
DTSTART;TZID=America/New_York:20260123T193000
DTEND;TZID=America/New_York:20260123T233000
DTSTAMP:20260419T181812
CREATED:20250715T230218Z
LAST-MODIFIED:20250715T230218Z
UID:10001807-1769196600-1769211000@md-post206.org
SUMMARY:Karaoke - Free - Open to the Public
DESCRIPTION:Come out and sing the night away!\n\nOpen to the Public.
URL:https://md-post206.org/event/karaoke-free-open-to-the-public-6-2/2026-01-23/
LOCATION:Stallings-Williams Post 206 American Legion\, 3330 Chesapeake Beach Rd\, Chesapeake Beach\, MD\, 20732\, United States
CATEGORIES:Music
END:VEVENT
BEGIN:VEVENT
DTSTART;TZID=America/New_York:20260123T193000
DTEND;TZID=America/New_York:20260123T233000
DTSTAMP:20260419T181812
CREATED:20260112T102316Z
LAST-MODIFIED:20260112T102316Z
UID:10001293-1769196600-1769211000@md-post206.org
SUMMARY:Karaoke - Free - Open to the Public
DESCRIPTION:Come out and celebrate James Hitchcock’s birthday while you sing the night away!\n\nOpen to the Public.
URL:https://md-post206.org/event/karaoke-free-open-to-the-public-6-2-3/
LOCATION:Stallings-Williams Post 206 American Legion\, 3330 Chesapeake Beach Rd\, Chesapeake Beach\, MD\, 20732\, United States
CATEGORIES:Music
ATTACH;FMTTYPE=image/png:https://md-post206.org/wp-content/uploads/2025/07/KARAOKE.png
END:VEVENT
END:VCALENDAR