BEGIN:VCALENDAR
VERSION:2.0
PRODID:-//Stallings-Williams Post 206 - ECPv6.15.20//NONSGML v1.0//EN
CALSCALE:GREGORIAN
METHOD:PUBLISH
X-WR-CALNAME:Stallings-Williams Post 206
X-ORIGINAL-URL:https://md-post206.org
X-WR-CALDESC:Events for Stallings-Williams Post 206
REFRESH-INTERVAL;VALUE=DURATION:PT1H
X-Robots-Tag:noindex
X-PUBLISHED-TTL:PT1H
BEGIN:VTIMEZONE
TZID:America/New_York
BEGIN:DAYLIGHT
TZOFFSETFROM:-0500
TZOFFSETTO:-0400
TZNAME:EDT
DTSTART:20250309T070000
END:DAYLIGHT
BEGIN:STANDARD
TZOFFSETFROM:-0400
TZOFFSETTO:-0500
TZNAME:EST
DTSTART:20251102T060000
END:STANDARD
BEGIN:DAYLIGHT
TZOFFSETFROM:-0500
TZOFFSETTO:-0400
TZNAME:EDT
DTSTART:20260308T070000
END:DAYLIGHT
BEGIN:STANDARD
TZOFFSETFROM:-0400
TZOFFSETTO:-0500
TZNAME:EST
DTSTART:20261101T060000
END:STANDARD
BEGIN:DAYLIGHT
TZOFFSETFROM:-0500
TZOFFSETTO:-0400
TZNAME:EDT
DTSTART:20270314T070000
END:DAYLIGHT
BEGIN:STANDARD
TZOFFSETFROM:-0400
TZOFFSETTO:-0500
TZNAME:EST
DTSTART:20271107T060000
END:STANDARD
END:VTIMEZONE
BEGIN:VEVENT
DTSTART;TZID=America/New_York:20260327T200000
DTEND;TZID=America/New_York:20260327T230000
DTSTAMP:20260420T172502
CREATED:20260316T235525Z
LAST-MODIFIED:20260316T235526Z
UID:10001295-1774641600-1774652400@md-post206.org
SUMMARY:Karaoke - Free - Open to the Public
DESCRIPTION:Come out and sing the night away!\nOpen to the Public.
URL:https://md-post206.org/event/karaoke-free-open-to-the-public-6-2-4/
LOCATION:Stallings-Williams Post 206 American Legion\, 3330 Chesapeake Beach Rd\, Chesapeake Beach\, MD\, 20732\, United States
CATEGORIES:Music
ATTACH;FMTTYPE=image/jpeg:https://md-post206.org/wp-content/uploads/2025/07/0427-karaoke.jpg
END:VEVENT
END:VCALENDAR