BEGIN:VCALENDAR
VERSION:2.0
PRODID:-//Stallings-Williams Post 206 - ECPv6.15.20//NONSGML v1.0//EN
CALSCALE:GREGORIAN
METHOD:PUBLISH
X-WR-CALNAME:Stallings-Williams Post 206
X-ORIGINAL-URL:https://md-post206.org
X-WR-CALDESC:Events for Stallings-Williams Post 206
REFRESH-INTERVAL;VALUE=DURATION:PT1H
X-Robots-Tag:noindex
X-PUBLISHED-TTL:PT1H
BEGIN:VTIMEZONE
TZID:America/New_York
BEGIN:DAYLIGHT
TZOFFSETFROM:-0500
TZOFFSETTO:-0400
TZNAME:EDT
DTSTART:20230312T070000
END:DAYLIGHT
BEGIN:STANDARD
TZOFFSETFROM:-0400
TZOFFSETTO:-0500
TZNAME:EST
DTSTART:20231105T060000
END:STANDARD
BEGIN:DAYLIGHT
TZOFFSETFROM:-0500
TZOFFSETTO:-0400
TZNAME:EDT
DTSTART:20240310T070000
END:DAYLIGHT
BEGIN:STANDARD
TZOFFSETFROM:-0400
TZOFFSETTO:-0500
TZNAME:EST
DTSTART:20241103T060000
END:STANDARD
BEGIN:DAYLIGHT
TZOFFSETFROM:-0500
TZOFFSETTO:-0400
TZNAME:EDT
DTSTART:20250309T070000
END:DAYLIGHT
BEGIN:STANDARD
TZOFFSETFROM:-0400
TZOFFSETTO:-0500
TZNAME:EST
DTSTART:20251102T060000
END:STANDARD
END:VTIMEZONE
BEGIN:VEVENT
DTSTART;TZID=America/New_York:20240707T153000
DTEND;TZID=America/New_York:20240707T163000
DTSTAMP:20260423T161344
CREATED:20240705T164803Z
LAST-MODIFIED:20240705T164803Z
UID:10000058-1720366200-1720369800@md-post206.org
SUMMARY:Post Everlasting – Ronald E. Kersse
DESCRIPTION:There will be a Post Everlasting ceremony for Ronald E. Kersse at Hardesty Funeral Home in Galesville at 4pm on July 7th. Legionnaire Rose was a U.S. Navy veteran.\n\nThere will be a viewing from 2pm to 4pm.\n\nHe will be interred at Maryland Veterans’ Cemetery 1122 Sunrise Beach Road\, Crownsville\, MD on Monday\, July 8th at 1pm.\n\nJoin us in celebrating his life.\n\nLegionnaires please arrive at 3:30 pm.\n\nThose Legionnaires wishing to honor him by participating in this service please contact Post Chaplain Mike Sweeney\, phone (410) 440-6499 or email avn29@hotmail.com.
URL:https://md-post206.org/event/post-everlasting-ronald-e-kersse/
LOCATION:Hardesty Funeral Home\, 905 Galesville Rd\, Galesville\, MD\, 20765
CATEGORIES:Post Everlasting
END:VEVENT
END:VCALENDAR