BEGIN:VCALENDAR
VERSION:2.0
PRODID:-//Stallings-Williams Post 206 - ECPv6.15.20//NONSGML v1.0//EN
CALSCALE:GREGORIAN
METHOD:PUBLISH
X-WR-CALNAME:Stallings-Williams Post 206
X-ORIGINAL-URL:https://md-post206.org
X-WR-CALDESC:Events for Stallings-Williams Post 206
REFRESH-INTERVAL;VALUE=DURATION:PT1H
X-Robots-Tag:noindex
X-PUBLISHED-TTL:PT1H
BEGIN:VTIMEZONE
TZID:America/New_York
BEGIN:DAYLIGHT
TZOFFSETFROM:-0500
TZOFFSETTO:-0400
TZNAME:EDT
DTSTART:20230312T070000
END:DAYLIGHT
BEGIN:STANDARD
TZOFFSETFROM:-0400
TZOFFSETTO:-0500
TZNAME:EST
DTSTART:20231105T060000
END:STANDARD
BEGIN:DAYLIGHT
TZOFFSETFROM:-0500
TZOFFSETTO:-0400
TZNAME:EDT
DTSTART:20240310T070000
END:DAYLIGHT
BEGIN:STANDARD
TZOFFSETFROM:-0400
TZOFFSETTO:-0500
TZNAME:EST
DTSTART:20241103T060000
END:STANDARD
BEGIN:DAYLIGHT
TZOFFSETFROM:-0500
TZOFFSETTO:-0400
TZNAME:EDT
DTSTART:20250309T070000
END:DAYLIGHT
BEGIN:STANDARD
TZOFFSETFROM:-0400
TZOFFSETTO:-0500
TZNAME:EST
DTSTART:20251102T060000
END:STANDARD
END:VTIMEZONE
BEGIN:VEVENT
DTSTART;TZID=America/New_York:20240802T140000
DTEND;TZID=America/New_York:20240802T153000
DTSTAMP:20260423T100315
CREATED:20240614T114051Z
LAST-MODIFIED:20240614T114051Z
UID:10000054-1722607200-1722612600@md-post206.org
SUMMARY:Post Everlasting – Gary A. Rose
DESCRIPTION:There will be a ceremony for Gary A. Rose at Rausch Funeral Home at 2pm on August 2nd. Legionnaire Rose was a U.S. Army combat veteran who served in Vietnam.\n\nJoin us in celebrating his life.\n\nLegionnaires please arrive at 1:30pm.\n\nThose Legionnaires wishing to honor him by participating in this service please contact Post Chaplain Mike Sweeney\, phone (410) 440-6499 or email avn29@hotmail.com.
URL:https://md-post206.org/event/post-everlasting-gary-a-rose/
LOCATION:Rausch Funeral Home\, 8325 Mt. Harmony Lane\, Owings\, MD\, 20736\, United States
CATEGORIES:Post Everlasting
END:VEVENT
END:VCALENDAR