BEGIN:VCALENDAR
VERSION:2.0
PRODID:-//Stallings-Williams Post 206 - ECPv6.15.20//NONSGML v1.0//EN
CALSCALE:GREGORIAN
METHOD:PUBLISH
X-WR-CALNAME:Stallings-Williams Post 206
X-ORIGINAL-URL:https://md-post206.org
X-WR-CALDESC:Events for Stallings-Williams Post 206
REFRESH-INTERVAL;VALUE=DURATION:PT1H
X-Robots-Tag:noindex
X-PUBLISHED-TTL:PT1H
BEGIN:VTIMEZONE
TZID:America/New_York
BEGIN:DAYLIGHT
TZOFFSETFROM:-0500
TZOFFSETTO:-0400
TZNAME:EDT
DTSTART:20230312T070000
END:DAYLIGHT
BEGIN:STANDARD
TZOFFSETFROM:-0400
TZOFFSETTO:-0500
TZNAME:EST
DTSTART:20231105T060000
END:STANDARD
BEGIN:DAYLIGHT
TZOFFSETFROM:-0500
TZOFFSETTO:-0400
TZNAME:EDT
DTSTART:20240310T070000
END:DAYLIGHT
BEGIN:STANDARD
TZOFFSETFROM:-0400
TZOFFSETTO:-0500
TZNAME:EST
DTSTART:20241103T060000
END:STANDARD
BEGIN:DAYLIGHT
TZOFFSETFROM:-0500
TZOFFSETTO:-0400
TZNAME:EDT
DTSTART:20250309T070000
END:DAYLIGHT
BEGIN:STANDARD
TZOFFSETFROM:-0400
TZOFFSETTO:-0500
TZNAME:EST
DTSTART:20251102T060000
END:STANDARD
END:VTIMEZONE
BEGIN:VEVENT
DTSTART;TZID=America/New_York:20241105T100000
DTEND;TZID=America/New_York:20241105T160000
DTSTAMP:20260422T211636
CREATED:20241102T130036Z
LAST-MODIFIED:20241102T130242Z
UID:10000118-1730800800-1730822400@md-post206.org
SUMMARY:Post Everlasting - Karen Calvert
DESCRIPTION:It is with great sadness that we announce the passing of our Post Resource Officer Karen Calvert.\n\nThere will a visitation for her on November 5th from 10 am – 12 pm at:\n\nLee Funeral Home\n6633 Old Alexandria Ferry Road\nClinton\, MD 20735\n\nThere will be two services for her at Post 206. At 12 pm there will be an Order of the Eastern Star service and at 2 pm there will be a Post Everlasting service.\n\nJoin us in celebrating her life.\n\nLegionnaires please arrive at 1:30 pm.\n\nThose Legionnaires wishing to honor her by participating in this service please contact Post Chaplain Mike Sweeney\, phone (410) 440-6499 or email chaplain@md-post206.org or avn29@hotmail.com.
URL:https://md-post206.org/event/post-everlasting-karen-calvert/
LOCATION:Stallings-Williams Post 206 American Legion\, 3330 Chesapeake Beach Rd\, Chesapeake Beach\, MD\, 20732\, United States
CATEGORIES:Post Everlasting
END:VEVENT
END:VCALENDAR