BEGIN:VCALENDAR
VERSION:2.0
PRODID:-//Stallings-Williams Post 206 - ECPv6.15.20//NONSGML v1.0//EN
CALSCALE:GREGORIAN
METHOD:PUBLISH
X-ORIGINAL-URL:https://md-post206.org
X-WR-CALDESC:Events for Stallings-Williams Post 206
REFRESH-INTERVAL;VALUE=DURATION:PT1H
X-Robots-Tag:noindex
X-PUBLISHED-TTL:PT1H
BEGIN:VTIMEZONE
TZID:America/New_York
BEGIN:DAYLIGHT
TZOFFSETFROM:-0500
TZOFFSETTO:-0400
TZNAME:EDT
DTSTART:20240310T070000
END:DAYLIGHT
BEGIN:STANDARD
TZOFFSETFROM:-0400
TZOFFSETTO:-0500
TZNAME:EST
DTSTART:20241103T060000
END:STANDARD
BEGIN:DAYLIGHT
TZOFFSETFROM:-0500
TZOFFSETTO:-0400
TZNAME:EDT
DTSTART:20250309T070000
END:DAYLIGHT
BEGIN:STANDARD
TZOFFSETFROM:-0400
TZOFFSETTO:-0500
TZNAME:EST
DTSTART:20251102T060000
END:STANDARD
BEGIN:DAYLIGHT
TZOFFSETFROM:-0500
TZOFFSETTO:-0400
TZNAME:EDT
DTSTART:20260308T070000
END:DAYLIGHT
BEGIN:STANDARD
TZOFFSETFROM:-0400
TZOFFSETTO:-0500
TZNAME:EST
DTSTART:20261101T060000
END:STANDARD
END:VTIMEZONE
BEGIN:VEVENT
DTSTART;TZID=America/New_York:20250404T103000
DTEND;TZID=America/New_York:20250404T120000
DTSTAMP:20260421T191656
CREATED:20250311T224318Z
LAST-MODIFIED:20250311T224318Z
UID:10001248-1743762600-1743768000@md-post206.org
SUMMARY:Post Everlasting - Timothy O. Mckimmie
DESCRIPTION:We all are saddened by the passing of Post 206 member Timothy O. McKinney\, a longtime member of this post.\n\nUSMC LCPL Mckimmie\, brother of Unit 206 Auxiliary member Jenny Bumgarner and brother-in-law of Post 206 Executive Committee member Fred Bumgarner\, transferred to Post Everlasting on 18 May 2020. Due to COVID delays\, he will now will be able to be laid to rest.\n\nPlease join us in honoring this Vietnam combat veteran Marine at his graveside Post Everlasting service:\n\nFriday\, 4 April 2025\, 11:00.\nSouthern Memorial Gardens\, 10155 Ward Road\, Dunkirk.\n\nReport time for those members wishing to honor him will be 10:30.
URL:https://md-post206.org/event/post-everlasting-timothy-o-mckimmie/
LOCATION:Southern Memorial Gardens 10155 Ward Rd\, Dunkirk\, MD 20754\, 10155 Ward Rd\,\, Dunkirk\, MD\, 20754
CATEGORIES:Post Everlasting
END:VEVENT
BEGIN:VEVENT
DTSTART;TZID=America/New_York:20250404T110000
DTEND;TZID=America/New_York:20250404T163000
DTSTAMP:20260421T191656
CREATED:20250311T224112Z
LAST-MODIFIED:20250311T224112Z
UID:10001247-1743764400-1743784200@md-post206.org
SUMMARY:Post Everlasting - Stanley A. Bliss
DESCRIPTION:It is with deep regret that we inform you of the passing of Post 206 Lifetime Member Stanley A. Bliss\, who transferred to Post Everlasting on 24 February 2025 at his home in Port Charlotte\, Florida.  He is survived by his wife Connie.\n\nServices:\nWhen:  Saturday\, 25 March 2025.\n       Visitation 1100 – 1300.\n       Post Everlasting Service – 1300\nWhere:  Lee Funeral Home\n        8200 Jennifer Lane\, Owings 20736\n\nInternment with full military honors:\nFriday\, 4 April 2025 at 1345hrs\,\nCheltenham Veterans Cemetery\n11301 Crain Hwy\, Upper Marlboro\, MD 20623\n\nExpressions of Sympathy: The family requests that\, in lieu of flowers\, donations be made to the Tunnels to Towers Foundation.\n\nA full obituary can be found on the Lee Funeral home website: Stanley A Bliss Obituary February 24\, 2025 – Lee Funeral Homes
URL:https://md-post206.org/event/post-everlasting-stanley-a-bliss/
LOCATION:Cheltenham Veterans Cemetery\, 11301 Crain Hwy\, Upper Marlboro\, MD\, 20623\, United States
CATEGORIES:Post Everlasting
END:VEVENT
BEGIN:VEVENT
DTSTART;TZID=America/New_York:20250412T153000
DTEND;TZID=America/New_York:20250412T170000
DTSTAMP:20260421T191656
CREATED:20250407T094704Z
LAST-MODIFIED:20250407T094704Z
UID:10001279-1744471800-1744477200@md-post206.org
SUMMARY:Post Everlasting - Richard Penfield III
DESCRIPTION:Post Everlasting service for U.S. Navy Veteran Richard Penfield III\nWhen:  Saturday\, 12 April 2025\, 1600 hrs. Legionnaires report at 1530.\nWhere: Rausch’s Funeral Home\, 8325 Mount Harmony Lane\, Owings.
URL:https://md-post206.org/event/post-everlasting-richard-penfield-iii/
LOCATION:Rausch Funeral Home\, 8325 Mt. Harmony Lane\, Owings\, MD\, 20736\, United States
CATEGORIES:Post Everlasting
ORGANIZER;CN="Chaplain":MAILTO:chaplain@md-post206,org
END:VEVENT
BEGIN:VEVENT
DTSTART;TZID=America/New_York:20250416T120000
DTEND;TZID=America/New_York:20250416T130000
DTSTAMP:20260421T191656
CREATED:20250415T074156Z
LAST-MODIFIED:20250415T074156Z
UID:10001280-1744804800-1744808400@md-post206.org
SUMMARY:Post Everlasting - Charles W. Mentges
DESCRIPTION:Legionnaire Mentges and his wife Donna were very active at the post; Chuck a First Vice Commander under Post Commander Navarro\, and Donna very active in our Auxilliary. Chuck and Donna transferred to Post 238 in Hughesville where they are current members.\n \nWhere: Lee Funeral Home\, 6200 Jennifer Lane\, Dunkirk\nWhen: Wednesday\, 16 April 2025\,  1230 hrs.\n\nInternment: Southern Memorial Gardens\, Ward Rd\, Dunkirk.\n\nThose who wish to participate in the service\, please report to the funeral home at 1200.
URL:https://md-post206.org/event/post-everlasting-charles-w-mentges/
LOCATION:Lee Funeral Home\, 8200 Jennifer Lane\, Owings\, MD\, 20736\, United States
CATEGORIES:Post Everlasting
ORGANIZER;CN="Chaplain":MAILTO:chaplain@md-post206,org
END:VEVENT
END:VCALENDAR