BEGIN:VCALENDAR
VERSION:2.0
PRODID:-//Stallings-Williams Post 206 - ECPv6.15.20//NONSGML v1.0//EN
CALSCALE:GREGORIAN
METHOD:PUBLISH
X-ORIGINAL-URL:https://md-post206.org
X-WR-CALDESC:Events for Stallings-Williams Post 206
REFRESH-INTERVAL;VALUE=DURATION:PT1H
X-Robots-Tag:noindex
X-PUBLISHED-TTL:PT1H
BEGIN:VTIMEZONE
TZID:America/New_York
BEGIN:DAYLIGHT
TZOFFSETFROM:-0500
TZOFFSETTO:-0400
TZNAME:EDT
DTSTART:20240310T070000
END:DAYLIGHT
BEGIN:STANDARD
TZOFFSETFROM:-0400
TZOFFSETTO:-0500
TZNAME:EST
DTSTART:20241103T060000
END:STANDARD
BEGIN:DAYLIGHT
TZOFFSETFROM:-0500
TZOFFSETTO:-0400
TZNAME:EDT
DTSTART:20250309T070000
END:DAYLIGHT
BEGIN:STANDARD
TZOFFSETFROM:-0400
TZOFFSETTO:-0500
TZNAME:EST
DTSTART:20251102T060000
END:STANDARD
BEGIN:DAYLIGHT
TZOFFSETFROM:-0500
TZOFFSETTO:-0400
TZNAME:EDT
DTSTART:20260308T070000
END:DAYLIGHT
BEGIN:STANDARD
TZOFFSETFROM:-0400
TZOFFSETTO:-0500
TZNAME:EST
DTSTART:20261101T060000
END:STANDARD
END:VTIMEZONE
BEGIN:VEVENT
DTSTART;TZID=America/New_York:20250401T130000
DTEND;TZID=America/New_York:20250401T140000
DTSTAMP:20260424T043821
CREATED:20250401T002159Z
LAST-MODIFIED:20250401T002200Z
UID:10000175-1743512400-1743516000@md-post206.org
SUMMARY:Yoga
DESCRIPTION:Tuesday’s from 1-2pm come unwind with yoga.
URL:https://md-post206.org/event/yoga-4-2/
LOCATION:Stallings-Williams Post 206 American Legion\, 3330 Chesapeake Beach Rd\, Chesapeake Beach\, MD\, 20732\, United States
CATEGORIES:Special Events
END:VEVENT
BEGIN:VEVENT
DTSTART;TZID=America/New_York:20250406T130000
DTEND;TZID=America/New_York:20250406T150000
DTSTAMP:20260424T043822
CREATED:20250401T104941Z
LAST-MODIFIED:20250401T104941Z
UID:10001261-1743944400-1743951600@md-post206.org
SUMMARY:Children's Easter Party - Free - Active Duty\, Members and their Guests
DESCRIPTION:Games\, Crafts\, Food\, Treats….and the Easter Bunny!!!!
URL:https://md-post206.org/event/childrens-easter-party-free-active-duty-members-and-their-guests/
LOCATION:MD
CATEGORIES:Special Events
END:VEVENT
BEGIN:VEVENT
DTSTART;TZID=America/New_York:20250408T130000
DTEND;TZID=America/New_York:20250408T140000
DTSTAMP:20260424T043822
CREATED:20250401T002358Z
LAST-MODIFIED:20250401T002359Z
UID:10000176-1744117200-1744120800@md-post206.org
SUMMARY:Yoga
DESCRIPTION:Tuesday’s from 1-2pm come unwind with yoga.
URL:https://md-post206.org/event/yoga-4-3/
LOCATION:Stallings-Williams Post 206 American Legion\, 3330 Chesapeake Beach Rd\, Chesapeake Beach\, MD\, 20732\, United States
CATEGORIES:Special Events
END:VEVENT
BEGIN:VEVENT
DTSTART;TZID=America/New_York:20250415T130000
DTEND;TZID=America/New_York:20250415T140000
DTSTAMP:20260424T043822
CREATED:20250401T002428Z
LAST-MODIFIED:20250401T002429Z
UID:10000177-1744722000-1744725600@md-post206.org
SUMMARY:Yoga
DESCRIPTION:Tuesday’s from 1-2pm come unwind with yoga.
URL:https://md-post206.org/event/yoga-4-4/
LOCATION:Stallings-Williams Post 206 American Legion\, 3330 Chesapeake Beach Rd\, Chesapeake Beach\, MD\, 20732\, United States
CATEGORIES:Special Events
END:VEVENT
BEGIN:VEVENT
DTSTART;TZID=America/New_York:20250419T173000
DTEND;TZID=America/New_York:20250419T200000
DTSTAMP:20260424T043822
CREATED:20250401T111136Z
LAST-MODIFIED:20250401T111136Z
UID:10001268-1745083800-1745092800@md-post206.org
SUMMARY:Purple Star Family Dinner
DESCRIPTION:
URL:https://md-post206.org/event/purple-star-family-dinner/
LOCATION:MD
CATEGORIES:Special Events
END:VEVENT
BEGIN:VEVENT
DTSTART;TZID=America/New_York:20250422T130000
DTEND;TZID=America/New_York:20250422T140000
DTSTAMP:20260424T043822
CREATED:20250401T002501Z
LAST-MODIFIED:20250401T002502Z
UID:10000178-1745326800-1745330400@md-post206.org
SUMMARY:Yoga
DESCRIPTION:Tuesday’s from 1-2pm come unwind with yoga.
URL:https://md-post206.org/event/yoga-4-5/
LOCATION:Stallings-Williams Post 206 American Legion\, 3330 Chesapeake Beach Rd\, Chesapeake Beach\, MD\, 20732\, United States
CATEGORIES:Special Events
END:VEVENT
END:VCALENDAR