BEGIN:VCALENDAR
VERSION:2.0
PRODID:-//Stallings-Williams Post 206 - ECPv6.15.20//NONSGML v1.0//EN
CALSCALE:GREGORIAN
METHOD:PUBLISH
X-ORIGINAL-URL:https://md-post206.org
X-WR-CALDESC:Events for Stallings-Williams Post 206
REFRESH-INTERVAL;VALUE=DURATION:PT1H
X-Robots-Tag:noindex
X-PUBLISHED-TTL:PT1H
BEGIN:VTIMEZONE
TZID:America/New_York
BEGIN:DAYLIGHT
TZOFFSETFROM:-0500
TZOFFSETTO:-0400
TZNAME:EDT
DTSTART:20240310T070000
END:DAYLIGHT
BEGIN:STANDARD
TZOFFSETFROM:-0400
TZOFFSETTO:-0500
TZNAME:EST
DTSTART:20241103T060000
END:STANDARD
BEGIN:DAYLIGHT
TZOFFSETFROM:-0500
TZOFFSETTO:-0400
TZNAME:EDT
DTSTART:20250309T070000
END:DAYLIGHT
BEGIN:STANDARD
TZOFFSETFROM:-0400
TZOFFSETTO:-0500
TZNAME:EST
DTSTART:20251102T060000
END:STANDARD
BEGIN:DAYLIGHT
TZOFFSETFROM:-0500
TZOFFSETTO:-0400
TZNAME:EDT
DTSTART:20260308T070000
END:DAYLIGHT
BEGIN:STANDARD
TZOFFSETFROM:-0400
TZOFFSETTO:-0500
TZNAME:EST
DTSTART:20261101T060000
END:STANDARD
END:VTIMEZONE
BEGIN:VEVENT
DTSTART;TZID=America/New_York:20251104T130000
DTEND;TZID=America/New_York:20251104T140000
DTSTAMP:20260420T180623
CREATED:20250401T111021Z
LAST-MODIFIED:20260407T002649Z
UID:10001453-1762261200-1762264800@md-post206.org
SUMMARY:Yoga
DESCRIPTION:Tuesday’s from 1-2pm come unwind with yoga.
URL:https://md-post206.org/event/yoga-4-6/2025-11-04/
LOCATION:Stallings-Williams Post 206 American Legion\, 3330 Chesapeake Beach Rd\, Chesapeake Beach\, MD\, 20732\, United States
CATEGORIES:Special Events
END:VEVENT
BEGIN:VEVENT
DTSTART;TZID=America/New_York:20251111T130000
DTEND;TZID=America/New_York:20251111T140000
DTSTAMP:20260420T180623
CREATED:20250401T111021Z
LAST-MODIFIED:20260407T002649Z
UID:10001454-1762866000-1762869600@md-post206.org
SUMMARY:Yoga
DESCRIPTION:Tuesday’s from 1-2pm come unwind with yoga.
URL:https://md-post206.org/event/yoga-4-6/2025-11-11/
LOCATION:Stallings-Williams Post 206 American Legion\, 3330 Chesapeake Beach Rd\, Chesapeake Beach\, MD\, 20732\, United States
CATEGORIES:Special Events
END:VEVENT
BEGIN:VEVENT
DTSTART;TZID=America/New_York:20251115T190000
DTEND;TZID=America/New_York:20251115T223000
DTSTAMP:20260420T180623
CREATED:20251008T200839Z
LAST-MODIFIED:20251018T175610Z
UID:10001711-1763233200-1763245800@md-post206.org
SUMMARY:Dueling Pianos Benefit Concert - $35 - Open to the Public
DESCRIPTION:Join us in welcoming back the hottest dueling pianos act on the east coast.\nDueling Pianos by Blazin’ Keys Entertainment (  https://blazinkeys.com/ ) will be here on November 15th at 8pm. Presented by the American Legion Auxiliary Past Presidents.\nCome out for a night of fun\, music and maybe a little dancing!\nTickets include free draft beer\, wine and soda.\nTickets can be purchased by cash\, check\, or card at the American legion Post 206 bar during business hours.\n(Single purchase of 8 tickets required for reserved table.)\nDoors open at 7pm and the show starts at 8pm. Come early to guarantee a seat. Standing room available.\nWe look forward to seeing you there!
URL:https://md-post206.org/event/dueling-pianos-benefit-concert-35-open-to-the-public/
LOCATION:Stallings-Williams Post 206 American Legion\, 3330 Chesapeake Beach Rd\, Chesapeake Beach\, MD\, 20732\, United States
CATEGORIES:Dancing,Fundraiser,Music,Special Events
ATTACH;FMTTYPE=image/jpeg:https://md-post206.org/wp-content/uploads/2025/10/DueingPianosFlyer.jpg
ORGANIZER;CN="auxpres@md-post206.org":MAILTO:auxpres@md-post206.org
END:VEVENT
BEGIN:VEVENT
DTSTART;TZID=America/New_York:20251118T130000
DTEND;TZID=America/New_York:20251118T140000
DTSTAMP:20260420T180623
CREATED:20250401T111021Z
LAST-MODIFIED:20260407T002649Z
UID:10001455-1763470800-1763474400@md-post206.org
SUMMARY:Yoga
DESCRIPTION:Tuesday’s from 1-2pm come unwind with yoga.
URL:https://md-post206.org/event/yoga-4-6/2025-11-18/
LOCATION:Stallings-Williams Post 206 American Legion\, 3330 Chesapeake Beach Rd\, Chesapeake Beach\, MD\, 20732\, United States
CATEGORIES:Special Events
END:VEVENT
BEGIN:VEVENT
DTSTART;TZID=America/New_York:20251122T090000
DTEND;TZID=America/New_York:20251122T150000
DTSTAMP:20260420T180623
CREATED:20251022T122429Z
LAST-MODIFIED:20251022T122429Z
UID:10001732-1763802000-1763823600@md-post206.org
SUMMARY:Auxiliary Holiday Bazaar - Open to the Public
DESCRIPTION:Come shop for Christmas presents for the family and for yourself.\n\n 	\nBaked Goods\n\n 	\nKids Craft Table\n\n 	\nRaffles\n\n 	\nLocal Artists and Vendors\n\n 	\nDelicious Lunch Available\n\n 	\nAnd a Visit From The Big Guy Santa\n\n\nOpen to the Public
URL:https://md-post206.org/event/auxiliary-holiday-bazaar-open-to-the-public/
LOCATION:Stallings-Williams Post 206 American Legion\, 3330 Chesapeake Beach Rd\, Chesapeake Beach\, MD\, 20732\, United States
CATEGORIES:Holiday,Special Events
ATTACH;FMTTYPE=image/png:https://md-post206.org/wp-content/uploads/2025/10/image1-1.png
ORGANIZER;CN="auxpres@md-post206.org":MAILTO:auxpres@md-post206.org
END:VEVENT
BEGIN:VEVENT
DTSTART;TZID=America/New_York:20251125T130000
DTEND;TZID=America/New_York:20251125T140000
DTSTAMP:20260420T180623
CREATED:20250401T111021Z
LAST-MODIFIED:20260407T002649Z
UID:10001456-1764075600-1764079200@md-post206.org
SUMMARY:Yoga
DESCRIPTION:Tuesday’s from 1-2pm come unwind with yoga.
URL:https://md-post206.org/event/yoga-4-6/2025-11-25/
LOCATION:Stallings-Williams Post 206 American Legion\, 3330 Chesapeake Beach Rd\, Chesapeake Beach\, MD\, 20732\, United States
CATEGORIES:Special Events
END:VEVENT
BEGIN:VEVENT
DTSTART;TZID=America/New_York:20251127T143000
DTEND;TZID=America/New_York:20251127T170000
DTSTAMP:20260420T180623
CREATED:20251029T120612Z
LAST-MODIFIED:20251029T131817Z
UID:10001742-1764253800-1764262800@md-post206.org
SUMMARY:Thanksgiving Dinner - Active Duty and Families FREE
DESCRIPTION:It’s that time of year when we gather together to celebrate what we have. This is our annual Thanksgiving dinner for members\, vets and Active Duty members and their family.\nThere will be Turkey & Ham and all the Fixings!\n \nDinner is free for Active Duty members and their families. For others over 12 yrs old\, the price is $25. Kids under 12 are FREE.\nCome join us for the holiday and let us give thanks to you.\nPlease RSVP here or sign up at the bar.\n \nHappy Thanksgiving!
URL:https://md-post206.org/event/thanksgiving-dinner-active-duty-and-families-free/
LOCATION:Stallings-Williams Post 206 American Legion\, 3330 Chesapeake Beach Rd\, Chesapeake Beach\, MD\, 20732\, United States
CATEGORIES:Dinner,Holiday,Special Events,Veteran Event
ORGANIZER;CN="commander@md-post206.org":MAILTO:commander@md-post206.org
END:VEVENT
BEGIN:VEVENT
DTSTART;TZID=America/New_York:20251129T150000
DTEND;TZID=America/New_York:20251129T180000
DTSTAMP:20260420T180623
CREATED:20251022T130410Z
LAST-MODIFIED:20251022T130410Z
UID:10001733-1764428400-1764439200@md-post206.org
SUMMARY:Sea Glass (Tree or Wreath) Class
DESCRIPTION:There are just a few seats left for the 3pm-6pm class on November 29th. This class is brought to you by the Auxiliary and MKGlassDesigns (mkglassdesigns.com).\n 
URL:https://md-post206.org/event/sea-glass-tree-or-wreath-class/
LOCATION:Stallings-Williams Post 206 American Legion\, 3330 Chesapeake Beach Rd\, Chesapeake Beach\, MD\, 20732\, United States
CATEGORIES:Special Events
ATTACH;FMTTYPE=image/jpeg:https://md-post206.org/wp-content/uploads/2025/10/Blue-Illustartive-World-Seagrass-Day-Instagram-Post.png.jpg
ORGANIZER;CN="auxpres@md-post206.org":MAILTO:auxpres@md-post206.org
END:VEVENT
END:VCALENDAR