BEGIN:VCALENDAR
VERSION:2.0
PRODID:-//Stallings-Williams Post 206 - ECPv6.15.20//NONSGML v1.0//EN
CALSCALE:GREGORIAN
METHOD:PUBLISH
X-WR-CALNAME:Stallings-Williams Post 206
X-ORIGINAL-URL:https://md-post206.org
X-WR-CALDESC:Events for Stallings-Williams Post 206
REFRESH-INTERVAL;VALUE=DURATION:PT1H
X-Robots-Tag:noindex
X-PUBLISHED-TTL:PT1H
BEGIN:VTIMEZONE
TZID:America/New_York
BEGIN:DAYLIGHT
TZOFFSETFROM:-0500
TZOFFSETTO:-0400
TZNAME:EDT
DTSTART:20250309T070000
END:DAYLIGHT
BEGIN:STANDARD
TZOFFSETFROM:-0400
TZOFFSETTO:-0500
TZNAME:EST
DTSTART:20251102T060000
END:STANDARD
BEGIN:DAYLIGHT
TZOFFSETFROM:-0500
TZOFFSETTO:-0400
TZNAME:EDT
DTSTART:20260308T070000
END:DAYLIGHT
BEGIN:STANDARD
TZOFFSETFROM:-0400
TZOFFSETTO:-0500
TZNAME:EST
DTSTART:20261101T060000
END:STANDARD
BEGIN:DAYLIGHT
TZOFFSETFROM:-0500
TZOFFSETTO:-0400
TZNAME:EDT
DTSTART:20270314T070000
END:DAYLIGHT
BEGIN:STANDARD
TZOFFSETFROM:-0400
TZOFFSETTO:-0500
TZNAME:EST
DTSTART:20271107T060000
END:STANDARD
END:VTIMEZONE
BEGIN:VEVENT
DTSTART;TZID=America/New_York:20260303T130000
DTEND;TZID=America/New_York:20260303T140000
DTSTAMP:20260419T164751
CREATED:20250401T111021Z
LAST-MODIFIED:20260407T002649Z
UID:10001470-1772542800-1772546400@md-post206.org
SUMMARY:Yoga
DESCRIPTION:Tuesday’s from 1-2pm come unwind with yoga.
URL:https://md-post206.org/event/yoga-4-6/2026-03-03/
LOCATION:Stallings-Williams Post 206 American Legion\, 3330 Chesapeake Beach Rd\, Chesapeake Beach\, MD\, 20732\, United States
CATEGORIES:Special Events
END:VEVENT
BEGIN:VEVENT
DTSTART;TZID=America/New_York:20260310T130000
DTEND;TZID=America/New_York:20260310T140000
DTSTAMP:20260419T164751
CREATED:20250401T111021Z
LAST-MODIFIED:20260407T002649Z
UID:10001471-1773147600-1773151200@md-post206.org
SUMMARY:Yoga
DESCRIPTION:Tuesday’s from 1-2pm come unwind with yoga.
URL:https://md-post206.org/event/yoga-4-6/2026-03-10/
LOCATION:Stallings-Williams Post 206 American Legion\, 3330 Chesapeake Beach Rd\, Chesapeake Beach\, MD\, 20732\, United States
CATEGORIES:Special Events
END:VEVENT
BEGIN:VEVENT
DTSTART;TZID=America/New_York:20260317T130000
DTEND;TZID=America/New_York:20260317T140000
DTSTAMP:20260419T164751
CREATED:20250401T111021Z
LAST-MODIFIED:20260407T002649Z
UID:10001472-1773752400-1773756000@md-post206.org
SUMMARY:Yoga
DESCRIPTION:Tuesday’s from 1-2pm come unwind with yoga.
URL:https://md-post206.org/event/yoga-4-6/2026-03-17/
LOCATION:Stallings-Williams Post 206 American Legion\, 3330 Chesapeake Beach Rd\, Chesapeake Beach\, MD\, 20732\, United States
CATEGORIES:Special Events
END:VEVENT
BEGIN:VEVENT
DTSTART;TZID=America/New_York:20260321T193000
DTEND;TZID=America/New_York:20260321T223000
DTSTAMP:20260419T164751
CREATED:20260316T235350Z
LAST-MODIFIED:20260316T235350Z
UID:10001806-1774121400-1774132200@md-post206.org
SUMMARY:Working Theory Band - FREE - Open to the Public
DESCRIPTION:Come out Friday night and unwind with some live musis from Working Theory Band. It’s FREE and a fun time.\nOpen to the Public\nworkingtheoryband.com
URL:https://md-post206.org/event/working-theory-band-free-open-to-the-public/
LOCATION:MD
CATEGORIES:Music,Special Events
ATTACH;FMTTYPE=image/jpeg:https://md-post206.org/wp-content/uploads/2026/03/American-Legion-FB-022326.jpg
END:VEVENT
BEGIN:VEVENT
DTSTART;TZID=America/New_York:20260324T130000
DTEND;TZID=America/New_York:20260324T140000
DTSTAMP:20260419T164751
CREATED:20250401T111021Z
LAST-MODIFIED:20260407T002649Z
UID:10001473-1774357200-1774360800@md-post206.org
SUMMARY:Yoga
DESCRIPTION:Tuesday’s from 1-2pm come unwind with yoga.
URL:https://md-post206.org/event/yoga-4-6/2026-03-24/
LOCATION:Stallings-Williams Post 206 American Legion\, 3330 Chesapeake Beach Rd\, Chesapeake Beach\, MD\, 20732\, United States
CATEGORIES:Special Events
END:VEVENT
BEGIN:VEVENT
DTSTART;TZID=America/New_York:20260328T130000
DTEND;TZID=America/New_York:20260328T143000
DTSTAMP:20260419T164751
CREATED:20260320T235745Z
LAST-MODIFIED:20260321T000326Z
UID:10001813-1774702800-1774708200@md-post206.org
SUMMARY:Intro VFW meeting
DESCRIPTION:A VFW chapter is starting up in Calvert County.  There will an informational meeting upstairs at the Legion on March 28th at 1:00 PM.
URL:https://md-post206.org/event/intro-vfw-meeting/
LOCATION:MD
CATEGORIES:Meetings,Special Events
END:VEVENT
BEGIN:VEVENT
DTSTART;TZID=America/New_York:20260329T130000
DTEND;TZID=America/New_York:20260329T150000
DTSTAMP:20260419T164751
CREATED:20260312T082613Z
LAST-MODIFIED:20260312T082613Z
UID:10001789-1774789200-1774796400@md-post206.org
SUMMARY:Children's Easter Party - Free - Members\, Active Duty Military Families and their Guests
DESCRIPTION:Games\, Crafts\, Food\, Treats\, Easter Surprises….and the Easter Bunny!!!!\n \nDonations and Volunteers are welcomed!
URL:https://md-post206.org/event/childrens-easter-party-free-members-active-duty-military-families-and-their-guests/
LOCATION:Stallings-Williams Post 206 American Legion\, 3330 Chesapeake Beach Rd\, Chesapeake Beach\, MD\, 20732\, United States
CATEGORIES:Special Events
ATTACH;FMTTYPE=image/jpeg:https://md-post206.org/wp-content/uploads/2026/03/eASTERpARTY2026.jpeg
END:VEVENT
BEGIN:VEVENT
DTSTART;TZID=America/New_York:20260331T130000
DTEND;TZID=America/New_York:20260331T140000
DTSTAMP:20260419T164751
CREATED:20250401T111021Z
LAST-MODIFIED:20260407T002649Z
UID:10001474-1774962000-1774965600@md-post206.org
SUMMARY:Yoga
DESCRIPTION:Tuesday’s from 1-2pm come unwind with yoga.
URL:https://md-post206.org/event/yoga-4-6/2026-03-31/
LOCATION:Stallings-Williams Post 206 American Legion\, 3330 Chesapeake Beach Rd\, Chesapeake Beach\, MD\, 20732\, United States
CATEGORIES:Special Events
END:VEVENT
END:VCALENDAR