BEGIN:VCALENDAR
VERSION:2.0
PRODID:-//Stallings-Williams Post 206 - ECPv6.15.20//NONSGML v1.0//EN
CALSCALE:GREGORIAN
METHOD:PUBLISH
X-ORIGINAL-URL:https://md-post206.org
X-WR-CALDESC:Events for Stallings-Williams Post 206
REFRESH-INTERVAL;VALUE=DURATION:PT1H
X-Robots-Tag:noindex
X-PUBLISHED-TTL:PT1H
BEGIN:VTIMEZONE
TZID:America/New_York
BEGIN:DAYLIGHT
TZOFFSETFROM:-0500
TZOFFSETTO:-0400
TZNAME:EDT
DTSTART:20230312T070000
END:DAYLIGHT
BEGIN:STANDARD
TZOFFSETFROM:-0400
TZOFFSETTO:-0500
TZNAME:EST
DTSTART:20231105T060000
END:STANDARD
BEGIN:DAYLIGHT
TZOFFSETFROM:-0500
TZOFFSETTO:-0400
TZNAME:EDT
DTSTART:20240310T070000
END:DAYLIGHT
BEGIN:STANDARD
TZOFFSETFROM:-0400
TZOFFSETTO:-0500
TZNAME:EST
DTSTART:20241103T060000
END:STANDARD
BEGIN:DAYLIGHT
TZOFFSETFROM:-0500
TZOFFSETTO:-0400
TZNAME:EDT
DTSTART:20250309T070000
END:DAYLIGHT
BEGIN:STANDARD
TZOFFSETFROM:-0400
TZOFFSETTO:-0500
TZNAME:EST
DTSTART:20251102T060000
END:STANDARD
END:VTIMEZONE
BEGIN:VEVENT
DTSTART;TZID=America/New_York:20241018T130000
DTEND;TZID=America/New_York:20241018T170000
DTSTAMP:20260422T030035
CREATED:20241001T013629Z
LAST-MODIFIED:20241001T013629Z
UID:10000091-1729256400-1729270800@md-post206.org
SUMMARY:Serving Together Veterans Initiative representative visit
DESCRIPTION:Serving Together Veterans Initiative\n\nServing Together is teaming up with the Calvert County Office on Aging to provide support twice a month\, every second Wednesday and the fourth Friday\, no appointment necessary at:\n\nSouthern Pines Senior Center\n20 Appeal Lane\nLusby\, MD\n9:00 a.m. to 4:00 p.m.\n\nThe Serving Together Representative will be here at Post 206\, upstairs\, on October 18\, 2024\, from 1:00 to 5:00 p.m
URL:https://md-post206.org/event/serving-together-veterans-initiative-representative-visit/
LOCATION:Stallings-Williams Post 206 American Legion\, 3330 Chesapeake Beach Rd\, Chesapeake Beach\, MD\, 20732\, United States
CATEGORIES:Veteran Event
END:VEVENT
END:VCALENDAR