BEGIN:VCALENDAR
VERSION:2.0
PRODID:-//Stallings-Williams Post 206 - ECPv6.15.20//NONSGML v1.0//EN
CALSCALE:GREGORIAN
METHOD:PUBLISH
X-ORIGINAL-URL:https://md-post206.org
X-WR-CALDESC:Events for Stallings-Williams Post 206
REFRESH-INTERVAL;VALUE=DURATION:PT1H
X-Robots-Tag:noindex
X-PUBLISHED-TTL:PT1H
BEGIN:VTIMEZONE
TZID:America/New_York
BEGIN:DAYLIGHT
TZOFFSETFROM:-0500
TZOFFSETTO:-0400
TZNAME:EDT
DTSTART:20250309T070000
END:DAYLIGHT
BEGIN:STANDARD
TZOFFSETFROM:-0400
TZOFFSETTO:-0500
TZNAME:EST
DTSTART:20251102T060000
END:STANDARD
BEGIN:DAYLIGHT
TZOFFSETFROM:-0500
TZOFFSETTO:-0400
TZNAME:EDT
DTSTART:20260308T070000
END:DAYLIGHT
BEGIN:STANDARD
TZOFFSETFROM:-0400
TZOFFSETTO:-0500
TZNAME:EST
DTSTART:20261101T060000
END:STANDARD
BEGIN:DAYLIGHT
TZOFFSETFROM:-0500
TZOFFSETTO:-0400
TZNAME:EDT
DTSTART:20270314T070000
END:DAYLIGHT
BEGIN:STANDARD
TZOFFSETFROM:-0400
TZOFFSETTO:-0500
TZNAME:EST
DTSTART:20271107T060000
END:STANDARD
END:VTIMEZONE
BEGIN:VEVENT
DTSTART;TZID=America/New_York:20260703T173000
DTEND;TZID=America/New_York:20260703T190000
DTSTAMP:20260419T143745
CREATED:20240509T232316Z
LAST-MODIFIED:20250123T171351Z
UID:10000791-1783099800-1783105200@md-post206.org
SUMMARY:Friday Dinners and Steak Dinners will resume in September
DESCRIPTION:Dinners will return in September.
URL:https://md-post206.org/event/friday-dinners-and-steak-dinners-will-resume-in-september-2/2026-07-03/
LOCATION:Stallings-Williams Post 206 American Legion\, 3330 Chesapeake Beach Rd\, Chesapeake Beach\, MD\, 20732\, United States
CATEGORIES:Dinner
END:VEVENT
BEGIN:VEVENT
DTSTART;TZID=America/New_York:20260707T130000
DTEND;TZID=America/New_York:20260707T140000
DTSTAMP:20260419T143745
CREATED:20250401T111021Z
LAST-MODIFIED:20260407T002649Z
UID:10001488-1783429200-1783432800@md-post206.org
SUMMARY:Yoga
DESCRIPTION:Tuesday’s from 1-2pm come unwind with yoga.
URL:https://md-post206.org/event/yoga-4-6/2026-07-07/
LOCATION:Stallings-Williams Post 206 American Legion\, 3330 Chesapeake Beach Rd\, Chesapeake Beach\, MD\, 20732\, United States
CATEGORIES:Special Events
END:VEVENT
BEGIN:VEVENT
DTSTART;TZID=America/New_York:20260709T190000
DTEND;TZID=America/New_York:20260709T203000
DTSTAMP:20260419T143745
CREATED:20260330T233301Z
LAST-MODIFIED:20260330T233301Z
UID:10001819-1783623600-1783629000@md-post206.org
SUMMARY:Legion Riders Meeting
DESCRIPTION:
URL:https://md-post206.org/event/legion-riders-meeting-2/2026-07-09/
LOCATION:Stallings-Williams Post 206 American Legion\, 3330 Chesapeake Beach Rd\, Chesapeake Beach\, MD\, 20732\, United States
CATEGORIES:Meetings
END:VEVENT
BEGIN:VEVENT
DTSTART;TZID=America/New_York:20260711T190000
DTEND;TZID=America/New_York:20260711T233000
DTSTAMP:20260419T143745
CREATED:20250123T211509Z
LAST-MODIFIED:20250123T211509Z
UID:10001090-1783796400-1783812600@md-post206.org
SUMMARY:Country Dance - $20 - Open to the Public
DESCRIPTION:It’s Country Dance time again. Clean off your boots and come out and dance the night away. $20 gets you in the door and free draft beer and soda.\n\nOpen to the Public
URL:https://md-post206.org/event/country-dance-20-open-to-the-public-5/2026-07-11/
LOCATION:MD
CATEGORIES:Dancing,Music
END:VEVENT
BEGIN:VEVENT
DTSTART;TZID=America/New_York:20260714T130000
DTEND;TZID=America/New_York:20260714T140000
DTSTAMP:20260419T143745
CREATED:20250401T111021Z
LAST-MODIFIED:20260407T002649Z
UID:10001489-1784034000-1784037600@md-post206.org
SUMMARY:Yoga
DESCRIPTION:Tuesday’s from 1-2pm come unwind with yoga.
URL:https://md-post206.org/event/yoga-4-6/2026-07-14/
LOCATION:Stallings-Williams Post 206 American Legion\, 3330 Chesapeake Beach Rd\, Chesapeake Beach\, MD\, 20732\, United States
CATEGORIES:Special Events
END:VEVENT
BEGIN:VEVENT
DTSTART;TZID=America/New_York:20260721T130000
DTEND;TZID=America/New_York:20260721T140000
DTSTAMP:20260419T143745
CREATED:20250401T111021Z
LAST-MODIFIED:20260407T002649Z
UID:10001490-1784638800-1784642400@md-post206.org
SUMMARY:Yoga
DESCRIPTION:Tuesday’s from 1-2pm come unwind with yoga.
URL:https://md-post206.org/event/yoga-4-6/2026-07-21/
LOCATION:Stallings-Williams Post 206 American Legion\, 3330 Chesapeake Beach Rd\, Chesapeake Beach\, MD\, 20732\, United States
CATEGORIES:Special Events
END:VEVENT
BEGIN:VEVENT
DTSTART;TZID=America/New_York:20260723T183000
DTEND;TZID=America/New_York:20260723T203000
DTSTAMP:20260419T143745
CREATED:20260109T011352Z
LAST-MODIFIED:20260109T011352Z
UID:10000504-1784831400-1784838600@md-post206.org
SUMMARY:Country Line Dancing Lessons - $10 - Open to the Public
DESCRIPTION:Come out and hone your line dancing skills.\n\nContact Linda Bloyer at LBLOYER@verizon.net for reservations.
URL:https://md-post206.org/event/country-line-dancing-lessons-open-to-the-public-4-2/2026-07-23/
LOCATION:Stallings-Williams Post 206 American Legion\, 3330 Chesapeake Beach Rd\, Chesapeake Beach\, MD\, 20732\, United States
CATEGORIES:Dancing
ORGANIZER;CN="Linda Bloyer":MAILTO:lbloyer@verizon.net
END:VEVENT
BEGIN:VEVENT
DTSTART;TZID=America/New_York:20260724T193000
DTEND;TZID=America/New_York:20260724T233000
DTSTAMP:20260419T143745
CREATED:20250715T230218Z
LAST-MODIFIED:20250715T230218Z
UID:10001299-1784921400-1784935800@md-post206.org
SUMMARY:Karaoke - Free - Open to the Public
DESCRIPTION:Come out and sing the night away!\n\nOpen to the Public.
URL:https://md-post206.org/event/karaoke-free-open-to-the-public-6-2/2026-07-24/
LOCATION:Stallings-Williams Post 206 American Legion\, 3330 Chesapeake Beach Rd\, Chesapeake Beach\, MD\, 20732\, United States
CATEGORIES:Music
END:VEVENT
BEGIN:VEVENT
DTSTART;TZID=America/New_York:20260728T130000
DTEND;TZID=America/New_York:20260728T140000
DTSTAMP:20260419T143745
CREATED:20250401T111021Z
LAST-MODIFIED:20260407T002649Z
UID:10001491-1785243600-1785247200@md-post206.org
SUMMARY:Yoga
DESCRIPTION:Tuesday’s from 1-2pm come unwind with yoga.
URL:https://md-post206.org/event/yoga-4-6/2026-07-28/
LOCATION:Stallings-Williams Post 206 American Legion\, 3330 Chesapeake Beach Rd\, Chesapeake Beach\, MD\, 20732\, United States
CATEGORIES:Special Events
END:VEVENT
END:VCALENDAR