BEGIN:VCALENDAR
VERSION:2.0
PRODID:-//Stallings-Williams Post 206 - ECPv6.15.20//NONSGML v1.0//EN
CALSCALE:GREGORIAN
METHOD:PUBLISH
X-WR-CALNAME:Stallings-Williams Post 206
X-ORIGINAL-URL:https://md-post206.org
X-WR-CALDESC:Events for Stallings-Williams Post 206
REFRESH-INTERVAL;VALUE=DURATION:PT1H
X-Robots-Tag:noindex
X-PUBLISHED-TTL:PT1H
BEGIN:VTIMEZONE
TZID:America/New_York
BEGIN:DAYLIGHT
TZOFFSETFROM:-0500
TZOFFSETTO:-0400
TZNAME:EDT
DTSTART:20260308T070000
END:DAYLIGHT
BEGIN:STANDARD
TZOFFSETFROM:-0400
TZOFFSETTO:-0500
TZNAME:EST
DTSTART:20261101T060000
END:STANDARD
BEGIN:DAYLIGHT
TZOFFSETFROM:-0500
TZOFFSETTO:-0400
TZNAME:EDT
DTSTART:20270314T070000
END:DAYLIGHT
BEGIN:STANDARD
TZOFFSETFROM:-0400
TZOFFSETTO:-0500
TZNAME:EST
DTSTART:20271107T060000
END:STANDARD
BEGIN:DAYLIGHT
TZOFFSETFROM:-0500
TZOFFSETTO:-0400
TZNAME:EDT
DTSTART:20280312T070000
END:DAYLIGHT
BEGIN:STANDARD
TZOFFSETFROM:-0400
TZOFFSETTO:-0500
TZNAME:EST
DTSTART:20281105T060000
END:STANDARD
END:VTIMEZONE
BEGIN:VEVENT
DTSTART;TZID=America/New_York:20270601T130000
DTEND;TZID=America/New_York:20270601T140000
DTSTAMP:20260421T213621
CREATED:20250401T111021Z
LAST-MODIFIED:20260407T002649Z
UID:10001535-1811854800-1811858400@md-post206.org
SUMMARY:Yoga
DESCRIPTION:Tuesday’s from 1-2pm come unwind with yoga.
URL:https://md-post206.org/event/yoga-4-6/2027-06-01/
LOCATION:Stallings-Williams Post 206 American Legion\, 3330 Chesapeake Beach Rd\, Chesapeake Beach\, MD\, 20732\, United States
CATEGORIES:Special Events
END:VEVENT
BEGIN:VEVENT
DTSTART;TZID=America/New_York:20270604T173000
DTEND;TZID=America/New_York:20270604T190000
DTSTAMP:20260421T213621
CREATED:20240509T232316Z
LAST-MODIFIED:20250123T171351Z
UID:10000793-1812130200-1812135600@md-post206.org
SUMMARY:Friday Dinners and Steak Dinners will resume in September
DESCRIPTION:Dinners will return in September.
URL:https://md-post206.org/event/friday-dinners-and-steak-dinners-will-resume-in-september-2/2027-06-04/
LOCATION:Stallings-Williams Post 206 American Legion\, 3330 Chesapeake Beach Rd\, Chesapeake Beach\, MD\, 20732\, United States
CATEGORIES:Dinner
END:VEVENT
BEGIN:VEVENT
DTSTART;TZID=America/New_York:20270608T130000
DTEND;TZID=America/New_York:20270608T140000
DTSTAMP:20260421T213621
CREATED:20250401T111021Z
LAST-MODIFIED:20260407T002649Z
UID:10001536-1812459600-1812463200@md-post206.org
SUMMARY:Yoga
DESCRIPTION:Tuesday’s from 1-2pm come unwind with yoga.
URL:https://md-post206.org/event/yoga-4-6/2027-06-08/
LOCATION:Stallings-Williams Post 206 American Legion\, 3330 Chesapeake Beach Rd\, Chesapeake Beach\, MD\, 20732\, United States
CATEGORIES:Special Events
END:VEVENT
BEGIN:VEVENT
DTSTART;TZID=America/New_York:20270608T183000
DTEND;TZID=America/New_York:20270608T210000
DTSTAMP:20260421T213621
CREATED:20250120T185330Z
LAST-MODIFIED:20250123T171116Z
UID:10000455-1812479400-1812488400@md-post206.org
SUMMARY:S.A.L. Meeting
DESCRIPTION:
URL:https://md-post206.org/event/s-a-l-meeting-5/2027-06-08/
LOCATION:Stallings-Williams Post 206 American Legion\, 3330 Chesapeake Beach Rd\, Chesapeake Beach\, MD\, 20732\, United States
CATEGORIES:Meetings
END:VEVENT
BEGIN:VEVENT
DTSTART;TZID=America/New_York:20270610T190000
DTEND;TZID=America/New_York:20270610T203000
DTSTAMP:20260421T213621
CREATED:20260330T233301Z
LAST-MODIFIED:20260330T233301Z
UID:10001830-1812654000-1812659400@md-post206.org
SUMMARY:Legion Riders Meeting
DESCRIPTION:
URL:https://md-post206.org/event/legion-riders-meeting-2/2027-06-10/
LOCATION:Stallings-Williams Post 206 American Legion\, 3330 Chesapeake Beach Rd\, Chesapeake Beach\, MD\, 20732\, United States
CATEGORIES:Meetings
END:VEVENT
BEGIN:VEVENT
DTSTART;TZID=America/New_York:20270612T190000
DTEND;TZID=America/New_York:20270612T233000
DTSTAMP:20260421T213621
CREATED:20250123T211509Z
LAST-MODIFIED:20250123T211509Z
UID:10001101-1812826800-1812843000@md-post206.org
SUMMARY:Country Dance - $20 - Open to the Public
DESCRIPTION:It’s Country Dance time again. Clean off your boots and come out and dance the night away. $20 gets you in the door and free draft beer and soda.\n\nOpen to the Public
URL:https://md-post206.org/event/country-dance-20-open-to-the-public-5/2027-06-12/
LOCATION:MD
CATEGORIES:Dancing,Music
END:VEVENT
BEGIN:VEVENT
DTSTART;TZID=America/New_York:20270613T080000
DTEND;TZID=America/New_York:20270613T110000
DTSTAMP:20260421T213621
CREATED:20250715T232713Z
LAST-MODIFIED:20250715T232713Z
UID:10001379-1812873600-1812884400@md-post206.org
SUMMARY:All You Can Eat Breakfast - $15 - Open to the Public
DESCRIPTION:All-You-Can-Eat breakfast. Come on down and enjoy some eggs\, bacon\, sausage\, pancakes\, taters\, biscuits\, two kinds of gravy and more. All for $15.\n\nChildren under 12 eat for free!\n\nOpen to the Public.
URL:https://md-post206.org/event/all-you-can-eat-breakfast-15-open-to-the-public-7/2027-06-13/
LOCATION:Stallings-Williams Post 206 American Legion\, 3330 Chesapeake Beach Rd\, Chesapeake Beach\, MD\, 20732\, United States
CATEGORIES:Breakfast
END:VEVENT
BEGIN:VEVENT
DTSTART;TZID=America/New_York:20270614T190000
DTEND;TZID=America/New_York:20270614T200000
DTSTAMP:20260421T213621
CREATED:20240605T094730Z
LAST-MODIFIED:20250123T165820Z
UID:10000607-1812999600-1813003200@md-post206.org
SUMMARY:Flag Day Ceremony - 7pm
DESCRIPTION:The Flag Code suggests that when a flag has served its useful purpose\, “it should be destroyed\, preferably by burning.”\n\nOur Post will conduct a disposal ceremony of unserviceable flags on Flag Day (June 14). This ceremony is a dignified and solemn occasion for the retirement of unserviceable flags.
URL:https://md-post206.org/event/flag-day-ceremony-7pm/2027-06-14/
LOCATION:Stallings-Williams Post 206 American Legion\, 3330 Chesapeake Beach Rd\, Chesapeake Beach\, MD\, 20732\, United States
CATEGORIES:Special Events
END:VEVENT
BEGIN:VEVENT
DTSTART;TZID=America/New_York:20270615T130000
DTEND;TZID=America/New_York:20270615T140000
DTSTAMP:20260421T213621
CREATED:20250401T111021Z
LAST-MODIFIED:20260407T002649Z
UID:10001537-1813064400-1813068000@md-post206.org
SUMMARY:Yoga
DESCRIPTION:Tuesday’s from 1-2pm come unwind with yoga.
URL:https://md-post206.org/event/yoga-4-6/2027-06-15/
LOCATION:Stallings-Williams Post 206 American Legion\, 3330 Chesapeake Beach Rd\, Chesapeake Beach\, MD\, 20732\, United States
CATEGORIES:Special Events
END:VEVENT
BEGIN:VEVENT
DTSTART;TZID=America/New_York:20270622T130000
DTEND;TZID=America/New_York:20270622T140000
DTSTAMP:20260421T213621
CREATED:20250401T111021Z
LAST-MODIFIED:20260407T002649Z
UID:10001538-1813669200-1813672800@md-post206.org
SUMMARY:Yoga
DESCRIPTION:Tuesday’s from 1-2pm come unwind with yoga.
URL:https://md-post206.org/event/yoga-4-6/2027-06-22/
LOCATION:Stallings-Williams Post 206 American Legion\, 3330 Chesapeake Beach Rd\, Chesapeake Beach\, MD\, 20732\, United States
CATEGORIES:Special Events
END:VEVENT
BEGIN:VEVENT
DTSTART;TZID=America/New_York:20270624T183000
DTEND;TZID=America/New_York:20270624T203000
DTSTAMP:20260421T213621
CREATED:20260109T011352Z
LAST-MODIFIED:20260109T011352Z
UID:10000515-1813861800-1813869000@md-post206.org
SUMMARY:Country Line Dancing Lessons - $10 - Open to the Public
DESCRIPTION:Come out and hone your line dancing skills.\n\nContact Linda Bloyer at LBLOYER@verizon.net for reservations.
URL:https://md-post206.org/event/country-line-dancing-lessons-open-to-the-public-4-2/2027-06-24/
LOCATION:Stallings-Williams Post 206 American Legion\, 3330 Chesapeake Beach Rd\, Chesapeake Beach\, MD\, 20732\, United States
CATEGORIES:Dancing
ORGANIZER;CN="Linda Bloyer":MAILTO:lbloyer@verizon.net
END:VEVENT
BEGIN:VEVENT
DTSTART;TZID=America/New_York:20270625T193000
DTEND;TZID=America/New_York:20270625T233000
DTSTAMP:20260421T213621
CREATED:20250715T230218Z
LAST-MODIFIED:20250715T230218Z
UID:10001310-1813951800-1813966200@md-post206.org
SUMMARY:Karaoke - Free - Open to the Public
DESCRIPTION:Come out and sing the night away!\n\nOpen to the Public.
URL:https://md-post206.org/event/karaoke-free-open-to-the-public-6-2/2027-06-25/
LOCATION:Stallings-Williams Post 206 American Legion\, 3330 Chesapeake Beach Rd\, Chesapeake Beach\, MD\, 20732\, United States
CATEGORIES:Music
END:VEVENT
BEGIN:VEVENT
DTSTART;TZID=America/New_York:20270629T130000
DTEND;TZID=America/New_York:20270629T140000
DTSTAMP:20260421T213621
CREATED:20250401T111021Z
LAST-MODIFIED:20260407T002649Z
UID:10001539-1814274000-1814277600@md-post206.org
SUMMARY:Yoga
DESCRIPTION:Tuesday’s from 1-2pm come unwind with yoga.
URL:https://md-post206.org/event/yoga-4-6/2027-06-29/
LOCATION:Stallings-Williams Post 206 American Legion\, 3330 Chesapeake Beach Rd\, Chesapeake Beach\, MD\, 20732\, United States
CATEGORIES:Special Events
END:VEVENT
END:VCALENDAR