BEGIN:VCALENDAR
VERSION:2.0
PRODID:-//Stallings-Williams Post 206 - ECPv6.15.20//NONSGML v1.0//EN
CALSCALE:GREGORIAN
METHOD:PUBLISH
X-WR-CALNAME:Stallings-Williams Post 206
X-ORIGINAL-URL:https://md-post206.org
X-WR-CALDESC:Events for Stallings-Williams Post 206
REFRESH-INTERVAL;VALUE=DURATION:PT1H
X-Robots-Tag:noindex
X-PUBLISHED-TTL:PT1H
BEGIN:VTIMEZONE
TZID:America/New_York
BEGIN:DAYLIGHT
TZOFFSETFROM:-0500
TZOFFSETTO:-0400
TZNAME:EDT
DTSTART:20250309T070000
END:DAYLIGHT
BEGIN:STANDARD
TZOFFSETFROM:-0400
TZOFFSETTO:-0500
TZNAME:EST
DTSTART:20251102T060000
END:STANDARD
BEGIN:DAYLIGHT
TZOFFSETFROM:-0500
TZOFFSETTO:-0400
TZNAME:EDT
DTSTART:20260308T070000
END:DAYLIGHT
BEGIN:STANDARD
TZOFFSETFROM:-0400
TZOFFSETTO:-0500
TZNAME:EST
DTSTART:20261101T060000
END:STANDARD
BEGIN:DAYLIGHT
TZOFFSETFROM:-0500
TZOFFSETTO:-0400
TZNAME:EDT
DTSTART:20270314T070000
END:DAYLIGHT
BEGIN:STANDARD
TZOFFSETFROM:-0400
TZOFFSETTO:-0500
TZNAME:EST
DTSTART:20271107T060000
END:STANDARD
BEGIN:DAYLIGHT
TZOFFSETFROM:-0500
TZOFFSETTO:-0400
TZNAME:EDT
DTSTART:20280312T070000
END:DAYLIGHT
BEGIN:STANDARD
TZOFFSETFROM:-0400
TZOFFSETTO:-0500
TZNAME:EST
DTSTART:20281105T060000
END:STANDARD
BEGIN:DAYLIGHT
TZOFFSETFROM:-0500
TZOFFSETTO:-0400
TZNAME:EDT
DTSTART:20290311T070000
END:DAYLIGHT
BEGIN:STANDARD
TZOFFSETFROM:-0400
TZOFFSETTO:-0500
TZNAME:EST
DTSTART:20291104T060000
END:STANDARD
BEGIN:DAYLIGHT
TZOFFSETFROM:-0500
TZOFFSETTO:-0400
TZNAME:EDT
DTSTART:20300310T070000
END:DAYLIGHT
BEGIN:STANDARD
TZOFFSETFROM:-0400
TZOFFSETTO:-0500
TZNAME:EST
DTSTART:20301103T060000
END:STANDARD
END:VTIMEZONE
BEGIN:VEVENT
DTSTART;TZID=America/New_York:20260522T173000
DTEND;TZID=America/New_York:20260522T190000
DTSTAMP:20260426T000543
CREATED:20241230T003055Z
LAST-MODIFIED:20250225T215349Z
UID:10001212-1779471000-1779476400@md-post206.org
SUMMARY:Nam Knights Spaghetti Night - $15 - Open to the Public
DESCRIPTION:Time to come over and taste some that amazing homemade sauce. $15 will fill your belly.\n\nOpen to the Public
URL:https://md-post206.org/event/nam-knights-spaghetti-night-15-open-to-the-public-2/2026-05-22/
LOCATION:Stallings-Williams Post 206 American Legion\, 3330 Chesapeake Beach Rd\, Chesapeake Beach\, MD\, 20732\, United States
CATEGORIES:Dinner
END:VEVENT
BEGIN:VEVENT
DTSTART;TZID=America/New_York:20260925T173000
DTEND;TZID=America/New_York:20260925T190000
DTSTAMP:20260426T000543
CREATED:20241230T003055Z
LAST-MODIFIED:20250225T215349Z
UID:10001213-1790357400-1790362800@md-post206.org
SUMMARY:Nam Knights Spaghetti Night - $15 - Open to the Public
DESCRIPTION:Time to come over and taste some that amazing homemade sauce. $15 will fill your belly.\n\nOpen to the Public
URL:https://md-post206.org/event/nam-knights-spaghetti-night-15-open-to-the-public-2/2026-09-25/
LOCATION:Stallings-Williams Post 206 American Legion\, 3330 Chesapeake Beach Rd\, Chesapeake Beach\, MD\, 20732\, United States
CATEGORIES:Dinner
END:VEVENT
BEGIN:VEVENT
DTSTART;TZID=America/New_York:20261023T173000
DTEND;TZID=America/New_York:20261023T190000
DTSTAMP:20260426T000543
CREATED:20241230T003055Z
LAST-MODIFIED:20250225T215349Z
UID:10001214-1792776600-1792782000@md-post206.org
SUMMARY:Nam Knights Spaghetti Night - $15 - Open to the Public
DESCRIPTION:Time to come over and taste some that amazing homemade sauce. $15 will fill your belly.\n\nOpen to the Public
URL:https://md-post206.org/event/nam-knights-spaghetti-night-15-open-to-the-public-2/2026-10-23/
LOCATION:Stallings-Williams Post 206 American Legion\, 3330 Chesapeake Beach Rd\, Chesapeake Beach\, MD\, 20732\, United States
CATEGORIES:Dinner
END:VEVENT
BEGIN:VEVENT
DTSTART;TZID=America/New_York:20261127T173000
DTEND;TZID=America/New_York:20261127T190000
DTSTAMP:20260426T000543
CREATED:20241230T003055Z
LAST-MODIFIED:20250225T215349Z
UID:10001215-1795800600-1795806000@md-post206.org
SUMMARY:Nam Knights Spaghetti Night - $15 - Open to the Public
DESCRIPTION:Time to come over and taste some that amazing homemade sauce. $15 will fill your belly.\n\nOpen to the Public
URL:https://md-post206.org/event/nam-knights-spaghetti-night-15-open-to-the-public-2/2026-11-27/
LOCATION:Stallings-Williams Post 206 American Legion\, 3330 Chesapeake Beach Rd\, Chesapeake Beach\, MD\, 20732\, United States
CATEGORIES:Dinner
END:VEVENT
BEGIN:VEVENT
DTSTART;TZID=America/New_York:20261225T173000
DTEND;TZID=America/New_York:20261225T190000
DTSTAMP:20260426T000543
CREATED:20241230T003055Z
LAST-MODIFIED:20250225T215349Z
UID:10001216-1798219800-1798225200@md-post206.org
SUMMARY:Nam Knights Spaghetti Night - $15 - Open to the Public
DESCRIPTION:Time to come over and taste some that amazing homemade sauce. $15 will fill your belly.\n\nOpen to the Public
URL:https://md-post206.org/event/nam-knights-spaghetti-night-15-open-to-the-public-2/2026-12-25/
LOCATION:Stallings-Williams Post 206 American Legion\, 3330 Chesapeake Beach Rd\, Chesapeake Beach\, MD\, 20732\, United States
CATEGORIES:Dinner
END:VEVENT
BEGIN:VEVENT
DTSTART;TZID=America/New_York:20270122T173000
DTEND;TZID=America/New_York:20270122T190000
DTSTAMP:20260426T000543
CREATED:20241230T003055Z
LAST-MODIFIED:20250225T215349Z
UID:10001217-1800639000-1800644400@md-post206.org
SUMMARY:Nam Knights Spaghetti Night - $15 - Open to the Public
DESCRIPTION:Time to come over and taste some that amazing homemade sauce. $15 will fill your belly.\n\nOpen to the Public
URL:https://md-post206.org/event/nam-knights-spaghetti-night-15-open-to-the-public-2/2027-01-22/
LOCATION:Stallings-Williams Post 206 American Legion\, 3330 Chesapeake Beach Rd\, Chesapeake Beach\, MD\, 20732\, United States
CATEGORIES:Dinner
END:VEVENT
BEGIN:VEVENT
DTSTART;TZID=America/New_York:20270226T173000
DTEND;TZID=America/New_York:20270226T190000
DTSTAMP:20260426T000543
CREATED:20241230T003055Z
LAST-MODIFIED:20250225T215349Z
UID:10001218-1803663000-1803668400@md-post206.org
SUMMARY:Nam Knights Spaghetti Night - $15 - Open to the Public
DESCRIPTION:Time to come over and taste some that amazing homemade sauce. $15 will fill your belly.\n\nOpen to the Public
URL:https://md-post206.org/event/nam-knights-spaghetti-night-15-open-to-the-public-2/2027-02-26/
LOCATION:Stallings-Williams Post 206 American Legion\, 3330 Chesapeake Beach Rd\, Chesapeake Beach\, MD\, 20732\, United States
CATEGORIES:Dinner
END:VEVENT
BEGIN:VEVENT
DTSTART;TZID=America/New_York:20270326T173000
DTEND;TZID=America/New_York:20270326T190000
DTSTAMP:20260426T000543
CREATED:20241230T003055Z
LAST-MODIFIED:20250225T215349Z
UID:10001219-1806082200-1806087600@md-post206.org
SUMMARY:Nam Knights Spaghetti Night - $15 - Open to the Public
DESCRIPTION:Time to come over and taste some that amazing homemade sauce. $15 will fill your belly.\n\nOpen to the Public
URL:https://md-post206.org/event/nam-knights-spaghetti-night-15-open-to-the-public-2/2027-03-26/
LOCATION:Stallings-Williams Post 206 American Legion\, 3330 Chesapeake Beach Rd\, Chesapeake Beach\, MD\, 20732\, United States
CATEGORIES:Dinner
END:VEVENT
BEGIN:VEVENT
DTSTART;TZID=America/New_York:20270423T173000
DTEND;TZID=America/New_York:20270423T190000
DTSTAMP:20260426T000543
CREATED:20241230T003055Z
LAST-MODIFIED:20250225T215349Z
UID:10001220-1808501400-1808506800@md-post206.org
SUMMARY:Nam Knights Spaghetti Night - $15 - Open to the Public
DESCRIPTION:Time to come over and taste some that amazing homemade sauce. $15 will fill your belly.\n\nOpen to the Public
URL:https://md-post206.org/event/nam-knights-spaghetti-night-15-open-to-the-public-2/2027-04-23/
LOCATION:Stallings-Williams Post 206 American Legion\, 3330 Chesapeake Beach Rd\, Chesapeake Beach\, MD\, 20732\, United States
CATEGORIES:Dinner
END:VEVENT
BEGIN:VEVENT
DTSTART;TZID=America/New_York:20270528T173000
DTEND;TZID=America/New_York:20270528T190000
DTSTAMP:20260426T000543
CREATED:20241230T003055Z
LAST-MODIFIED:20250225T215349Z
UID:10001221-1811525400-1811530800@md-post206.org
SUMMARY:Nam Knights Spaghetti Night - $15 - Open to the Public
DESCRIPTION:Time to come over and taste some that amazing homemade sauce. $15 will fill your belly.\n\nOpen to the Public
URL:https://md-post206.org/event/nam-knights-spaghetti-night-15-open-to-the-public-2/2027-05-28/
LOCATION:Stallings-Williams Post 206 American Legion\, 3330 Chesapeake Beach Rd\, Chesapeake Beach\, MD\, 20732\, United States
CATEGORIES:Dinner
END:VEVENT
BEGIN:VEVENT
DTSTART;TZID=America/New_York:20270924T173000
DTEND;TZID=America/New_York:20270924T190000
DTSTAMP:20260426T000543
CREATED:20241230T003055Z
LAST-MODIFIED:20250225T215349Z
UID:10001222-1821807000-1821812400@md-post206.org
SUMMARY:Nam Knights Spaghetti Night - $15 - Open to the Public
DESCRIPTION:Time to come over and taste some that amazing homemade sauce. $15 will fill your belly.\n\nOpen to the Public
URL:https://md-post206.org/event/nam-knights-spaghetti-night-15-open-to-the-public-2/2027-09-24/
LOCATION:Stallings-Williams Post 206 American Legion\, 3330 Chesapeake Beach Rd\, Chesapeake Beach\, MD\, 20732\, United States
CATEGORIES:Dinner
END:VEVENT
BEGIN:VEVENT
DTSTART;TZID=America/New_York:20271022T173000
DTEND;TZID=America/New_York:20271022T190000
DTSTAMP:20260426T000543
CREATED:20241230T003055Z
LAST-MODIFIED:20250225T215349Z
UID:10001223-1824226200-1824231600@md-post206.org
SUMMARY:Nam Knights Spaghetti Night - $15 - Open to the Public
DESCRIPTION:Time to come over and taste some that amazing homemade sauce. $15 will fill your belly.\n\nOpen to the Public
URL:https://md-post206.org/event/nam-knights-spaghetti-night-15-open-to-the-public-2/2027-10-22/
LOCATION:Stallings-Williams Post 206 American Legion\, 3330 Chesapeake Beach Rd\, Chesapeake Beach\, MD\, 20732\, United States
CATEGORIES:Dinner
END:VEVENT
BEGIN:VEVENT
DTSTART;TZID=America/New_York:20271126T173000
DTEND;TZID=America/New_York:20271126T190000
DTSTAMP:20260426T000543
CREATED:20241230T003055Z
LAST-MODIFIED:20250225T215349Z
UID:10001224-1827250200-1827255600@md-post206.org
SUMMARY:Nam Knights Spaghetti Night - $15 - Open to the Public
DESCRIPTION:Time to come over and taste some that amazing homemade sauce. $15 will fill your belly.\n\nOpen to the Public
URL:https://md-post206.org/event/nam-knights-spaghetti-night-15-open-to-the-public-2/2027-11-26/
LOCATION:Stallings-Williams Post 206 American Legion\, 3330 Chesapeake Beach Rd\, Chesapeake Beach\, MD\, 20732\, United States
CATEGORIES:Dinner
END:VEVENT
BEGIN:VEVENT
DTSTART;TZID=America/New_York:20271224T173000
DTEND;TZID=America/New_York:20271224T190000
DTSTAMP:20260426T000543
CREATED:20241230T003055Z
LAST-MODIFIED:20250225T215349Z
UID:10001225-1829669400-1829674800@md-post206.org
SUMMARY:Nam Knights Spaghetti Night - $15 - Open to the Public
DESCRIPTION:Time to come over and taste some that amazing homemade sauce. $15 will fill your belly.\n\nOpen to the Public
URL:https://md-post206.org/event/nam-knights-spaghetti-night-15-open-to-the-public-2/2027-12-24/
LOCATION:Stallings-Williams Post 206 American Legion\, 3330 Chesapeake Beach Rd\, Chesapeake Beach\, MD\, 20732\, United States
CATEGORIES:Dinner
END:VEVENT
BEGIN:VEVENT
DTSTART;TZID=America/New_York:20280128T173000
DTEND;TZID=America/New_York:20280128T190000
DTSTAMP:20260426T000543
CREATED:20241230T003055Z
LAST-MODIFIED:20250225T215349Z
UID:10001226-1832693400-1832698800@md-post206.org
SUMMARY:Nam Knights Spaghetti Night - $15 - Open to the Public
DESCRIPTION:Time to come over and taste some that amazing homemade sauce. $15 will fill your belly.\n\nOpen to the Public
URL:https://md-post206.org/event/nam-knights-spaghetti-night-15-open-to-the-public-2/2028-01-28/
LOCATION:Stallings-Williams Post 206 American Legion\, 3330 Chesapeake Beach Rd\, Chesapeake Beach\, MD\, 20732\, United States
CATEGORIES:Dinner
END:VEVENT
BEGIN:VEVENT
DTSTART;TZID=America/New_York:20280225T173000
DTEND;TZID=America/New_York:20280225T190000
DTSTAMP:20260426T000543
CREATED:20241230T003055Z
LAST-MODIFIED:20250225T215349Z
UID:10001227-1835112600-1835118000@md-post206.org
SUMMARY:Nam Knights Spaghetti Night - $15 - Open to the Public
DESCRIPTION:Time to come over and taste some that amazing homemade sauce. $15 will fill your belly.\n\nOpen to the Public
URL:https://md-post206.org/event/nam-knights-spaghetti-night-15-open-to-the-public-2/2028-02-25/
LOCATION:Stallings-Williams Post 206 American Legion\, 3330 Chesapeake Beach Rd\, Chesapeake Beach\, MD\, 20732\, United States
CATEGORIES:Dinner
END:VEVENT
BEGIN:VEVENT
DTSTART;TZID=America/New_York:20280324T173000
DTEND;TZID=America/New_York:20280324T190000
DTSTAMP:20260426T000543
CREATED:20241230T003055Z
LAST-MODIFIED:20250225T215349Z
UID:10001228-1837531800-1837537200@md-post206.org
SUMMARY:Nam Knights Spaghetti Night - $15 - Open to the Public
DESCRIPTION:Time to come over and taste some that amazing homemade sauce. $15 will fill your belly.\n\nOpen to the Public
URL:https://md-post206.org/event/nam-knights-spaghetti-night-15-open-to-the-public-2/2028-03-24/
LOCATION:Stallings-Williams Post 206 American Legion\, 3330 Chesapeake Beach Rd\, Chesapeake Beach\, MD\, 20732\, United States
CATEGORIES:Dinner
END:VEVENT
BEGIN:VEVENT
DTSTART;TZID=America/New_York:20280428T173000
DTEND;TZID=America/New_York:20280428T190000
DTSTAMP:20260426T000543
CREATED:20241230T003055Z
LAST-MODIFIED:20250225T215349Z
UID:10001229-1840555800-1840561200@md-post206.org
SUMMARY:Nam Knights Spaghetti Night - $15 - Open to the Public
DESCRIPTION:Time to come over and taste some that amazing homemade sauce. $15 will fill your belly.\n\nOpen to the Public
URL:https://md-post206.org/event/nam-knights-spaghetti-night-15-open-to-the-public-2/2028-04-28/
LOCATION:Stallings-Williams Post 206 American Legion\, 3330 Chesapeake Beach Rd\, Chesapeake Beach\, MD\, 20732\, United States
CATEGORIES:Dinner
END:VEVENT
BEGIN:VEVENT
DTSTART;TZID=America/New_York:20280526T173000
DTEND;TZID=America/New_York:20280526T190000
DTSTAMP:20260426T000543
CREATED:20241230T003055Z
LAST-MODIFIED:20250225T215349Z
UID:10001230-1842975000-1842980400@md-post206.org
SUMMARY:Nam Knights Spaghetti Night - $15 - Open to the Public
DESCRIPTION:Time to come over and taste some that amazing homemade sauce. $15 will fill your belly.\n\nOpen to the Public
URL:https://md-post206.org/event/nam-knights-spaghetti-night-15-open-to-the-public-2/2028-05-26/
LOCATION:Stallings-Williams Post 206 American Legion\, 3330 Chesapeake Beach Rd\, Chesapeake Beach\, MD\, 20732\, United States
CATEGORIES:Dinner
END:VEVENT
BEGIN:VEVENT
DTSTART;TZID=America/New_York:20280922T173000
DTEND;TZID=America/New_York:20280922T190000
DTSTAMP:20260426T000543
CREATED:20241230T003055Z
LAST-MODIFIED:20250225T215349Z
UID:10001231-1853256600-1853262000@md-post206.org
SUMMARY:Nam Knights Spaghetti Night - $15 - Open to the Public
DESCRIPTION:Time to come over and taste some that amazing homemade sauce. $15 will fill your belly.\n\nOpen to the Public
URL:https://md-post206.org/event/nam-knights-spaghetti-night-15-open-to-the-public-2/2028-09-22/
LOCATION:Stallings-Williams Post 206 American Legion\, 3330 Chesapeake Beach Rd\, Chesapeake Beach\, MD\, 20732\, United States
CATEGORIES:Dinner
END:VEVENT
BEGIN:VEVENT
DTSTART;TZID=America/New_York:20281027T173000
DTEND;TZID=America/New_York:20281027T190000
DTSTAMP:20260426T000543
CREATED:20241230T003055Z
LAST-MODIFIED:20250225T215349Z
UID:10001232-1856280600-1856286000@md-post206.org
SUMMARY:Nam Knights Spaghetti Night - $15 - Open to the Public
DESCRIPTION:Time to come over and taste some that amazing homemade sauce. $15 will fill your belly.\n\nOpen to the Public
URL:https://md-post206.org/event/nam-knights-spaghetti-night-15-open-to-the-public-2/2028-10-27/
LOCATION:Stallings-Williams Post 206 American Legion\, 3330 Chesapeake Beach Rd\, Chesapeake Beach\, MD\, 20732\, United States
CATEGORIES:Dinner
END:VEVENT
BEGIN:VEVENT
DTSTART;TZID=America/New_York:20281124T173000
DTEND;TZID=America/New_York:20281124T190000
DTSTAMP:20260426T000543
CREATED:20241230T003055Z
LAST-MODIFIED:20250225T215349Z
UID:10001233-1858699800-1858705200@md-post206.org
SUMMARY:Nam Knights Spaghetti Night - $15 - Open to the Public
DESCRIPTION:Time to come over and taste some that amazing homemade sauce. $15 will fill your belly.\n\nOpen to the Public
URL:https://md-post206.org/event/nam-knights-spaghetti-night-15-open-to-the-public-2/2028-11-24/
LOCATION:Stallings-Williams Post 206 American Legion\, 3330 Chesapeake Beach Rd\, Chesapeake Beach\, MD\, 20732\, United States
CATEGORIES:Dinner
END:VEVENT
BEGIN:VEVENT
DTSTART;TZID=America/New_York:20281222T173000
DTEND;TZID=America/New_York:20281222T190000
DTSTAMP:20260426T000543
CREATED:20241230T003055Z
LAST-MODIFIED:20250225T215349Z
UID:10001234-1861119000-1861124400@md-post206.org
SUMMARY:Nam Knights Spaghetti Night - $15 - Open to the Public
DESCRIPTION:Time to come over and taste some that amazing homemade sauce. $15 will fill your belly.\n\nOpen to the Public
URL:https://md-post206.org/event/nam-knights-spaghetti-night-15-open-to-the-public-2/2028-12-22/
LOCATION:Stallings-Williams Post 206 American Legion\, 3330 Chesapeake Beach Rd\, Chesapeake Beach\, MD\, 20732\, United States
CATEGORIES:Dinner
END:VEVENT
BEGIN:VEVENT
DTSTART;TZID=America/New_York:20290126T173000
DTEND;TZID=America/New_York:20290126T190000
DTSTAMP:20260426T000543
CREATED:20241230T003055Z
LAST-MODIFIED:20250225T215349Z
UID:10001235-1864143000-1864148400@md-post206.org
SUMMARY:Nam Knights Spaghetti Night - $15 - Open to the Public
DESCRIPTION:Time to come over and taste some that amazing homemade sauce. $15 will fill your belly.\n\nOpen to the Public
URL:https://md-post206.org/event/nam-knights-spaghetti-night-15-open-to-the-public-2/2029-01-26/
LOCATION:Stallings-Williams Post 206 American Legion\, 3330 Chesapeake Beach Rd\, Chesapeake Beach\, MD\, 20732\, United States
CATEGORIES:Dinner
END:VEVENT
BEGIN:VEVENT
DTSTART;TZID=America/New_York:20290223T173000
DTEND;TZID=America/New_York:20290223T190000
DTSTAMP:20260426T000543
CREATED:20241230T003055Z
LAST-MODIFIED:20250225T215349Z
UID:10001236-1866562200-1866567600@md-post206.org
SUMMARY:Nam Knights Spaghetti Night - $15 - Open to the Public
DESCRIPTION:Time to come over and taste some that amazing homemade sauce. $15 will fill your belly.\n\nOpen to the Public
URL:https://md-post206.org/event/nam-knights-spaghetti-night-15-open-to-the-public-2/2029-02-23/
LOCATION:Stallings-Williams Post 206 American Legion\, 3330 Chesapeake Beach Rd\, Chesapeake Beach\, MD\, 20732\, United States
CATEGORIES:Dinner
END:VEVENT
BEGIN:VEVENT
DTSTART;TZID=America/New_York:20290323T173000
DTEND;TZID=America/New_York:20290323T190000
DTSTAMP:20260426T000543
CREATED:20241230T003055Z
LAST-MODIFIED:20250225T215349Z
UID:10001237-1868981400-1868986800@md-post206.org
SUMMARY:Nam Knights Spaghetti Night - $15 - Open to the Public
DESCRIPTION:Time to come over and taste some that amazing homemade sauce. $15 will fill your belly.\n\nOpen to the Public
URL:https://md-post206.org/event/nam-knights-spaghetti-night-15-open-to-the-public-2/2029-03-23/
LOCATION:Stallings-Williams Post 206 American Legion\, 3330 Chesapeake Beach Rd\, Chesapeake Beach\, MD\, 20732\, United States
CATEGORIES:Dinner
END:VEVENT
BEGIN:VEVENT
DTSTART;TZID=America/New_York:20290427T173000
DTEND;TZID=America/New_York:20290427T190000
DTSTAMP:20260426T000543
CREATED:20241230T003055Z
LAST-MODIFIED:20250225T215349Z
UID:10001238-1872005400-1872010800@md-post206.org
SUMMARY:Nam Knights Spaghetti Night - $15 - Open to the Public
DESCRIPTION:Time to come over and taste some that amazing homemade sauce. $15 will fill your belly.\n\nOpen to the Public
URL:https://md-post206.org/event/nam-knights-spaghetti-night-15-open-to-the-public-2/2029-04-27/
LOCATION:Stallings-Williams Post 206 American Legion\, 3330 Chesapeake Beach Rd\, Chesapeake Beach\, MD\, 20732\, United States
CATEGORIES:Dinner
END:VEVENT
BEGIN:VEVENT
DTSTART;TZID=America/New_York:20290525T173000
DTEND;TZID=America/New_York:20290525T190000
DTSTAMP:20260426T000543
CREATED:20241230T003055Z
LAST-MODIFIED:20250225T215349Z
UID:10001239-1874424600-1874430000@md-post206.org
SUMMARY:Nam Knights Spaghetti Night - $15 - Open to the Public
DESCRIPTION:Time to come over and taste some that amazing homemade sauce. $15 will fill your belly.\n\nOpen to the Public
URL:https://md-post206.org/event/nam-knights-spaghetti-night-15-open-to-the-public-2/2029-05-25/
LOCATION:Stallings-Williams Post 206 American Legion\, 3330 Chesapeake Beach Rd\, Chesapeake Beach\, MD\, 20732\, United States
CATEGORIES:Dinner
END:VEVENT
BEGIN:VEVENT
DTSTART;TZID=America/New_York:20290928T173000
DTEND;TZID=America/New_York:20290928T190000
DTSTAMP:20260426T000543
CREATED:20241230T003055Z
LAST-MODIFIED:20250225T215349Z
UID:10001240-1885311000-1885316400@md-post206.org
SUMMARY:Nam Knights Spaghetti Night - $15 - Open to the Public
DESCRIPTION:Time to come over and taste some that amazing homemade sauce. $15 will fill your belly.\n\nOpen to the Public
URL:https://md-post206.org/event/nam-knights-spaghetti-night-15-open-to-the-public-2/2029-09-28/
LOCATION:Stallings-Williams Post 206 American Legion\, 3330 Chesapeake Beach Rd\, Chesapeake Beach\, MD\, 20732\, United States
CATEGORIES:Dinner
END:VEVENT
BEGIN:VEVENT
DTSTART;TZID=America/New_York:20291026T173000
DTEND;TZID=America/New_York:20291026T190000
DTSTAMP:20260426T000543
CREATED:20241230T003055Z
LAST-MODIFIED:20250225T215349Z
UID:10001241-1887730200-1887735600@md-post206.org
SUMMARY:Nam Knights Spaghetti Night - $15 - Open to the Public
DESCRIPTION:Time to come over and taste some that amazing homemade sauce. $15 will fill your belly.\n\nOpen to the Public
URL:https://md-post206.org/event/nam-knights-spaghetti-night-15-open-to-the-public-2/2029-10-26/
LOCATION:Stallings-Williams Post 206 American Legion\, 3330 Chesapeake Beach Rd\, Chesapeake Beach\, MD\, 20732\, United States
CATEGORIES:Dinner
END:VEVENT
END:VCALENDAR