BEGIN:VCALENDAR
VERSION:2.0
PRODID:-//Stallings-Williams Post 206 - ECPv6.15.20//NONSGML v1.0//EN
CALSCALE:GREGORIAN
METHOD:PUBLISH
X-WR-CALNAME:Stallings-Williams Post 206
X-ORIGINAL-URL:https://md-post206.org
X-WR-CALDESC:Events for Stallings-Williams Post 206
REFRESH-INTERVAL;VALUE=DURATION:PT1H
X-Robots-Tag:noindex
X-PUBLISHED-TTL:PT1H
BEGIN:VTIMEZONE
TZID:America/New_York
BEGIN:DAYLIGHT
TZOFFSETFROM:-0500
TZOFFSETTO:-0400
TZNAME:EDT
DTSTART:20290311T070000
END:DAYLIGHT
BEGIN:STANDARD
TZOFFSETFROM:-0400
TZOFFSETTO:-0500
TZNAME:EST
DTSTART:20291104T060000
END:STANDARD
BEGIN:DAYLIGHT
TZOFFSETFROM:-0500
TZOFFSETTO:-0400
TZNAME:EDT
DTSTART:20300310T070000
END:DAYLIGHT
BEGIN:STANDARD
TZOFFSETFROM:-0400
TZOFFSETTO:-0500
TZNAME:EST
DTSTART:20301103T060000
END:STANDARD
BEGIN:DAYLIGHT
TZOFFSETFROM:-0500
TZOFFSETTO:-0400
TZNAME:EDT
DTSTART:20310309T070000
END:DAYLIGHT
BEGIN:STANDARD
TZOFFSETFROM:-0400
TZOFFSETTO:-0500
TZNAME:EST
DTSTART:20311102T060000
END:STANDARD
END:VTIMEZONE
BEGIN:VEVENT
DTSTART;TZID=America/New_York:20300425T183000
DTEND;TZID=America/New_York:20300425T203000
DTSTAMP:20260420T035537
CREATED:20260109T011352Z
LAST-MODIFIED:20260109T011352Z
UID:10001725-1903372200-1903379400@md-post206.org
SUMMARY:Country Line Dancing Lessons - $10 - Open to the Public
DESCRIPTION:Come out and hone your line dancing skills.\n\nContact Linda Bloyer at LBLOYER@verizon.net for reservations.
URL:https://md-post206.org/event/country-line-dancing-lessons-open-to-the-public-4-2/2030-04-25/
LOCATION:Stallings-Williams Post 206 American Legion\, 3330 Chesapeake Beach Rd\, Chesapeake Beach\, MD\, 20732\, United States
CATEGORIES:Dancing
ORGANIZER;CN="Linda Bloyer":MAILTO:lbloyer@verizon.net
END:VEVENT
BEGIN:VEVENT
DTSTART;TZID=America/New_York:20300523T183000
DTEND;TZID=America/New_York:20300523T203000
DTSTAMP:20260420T035537
CREATED:20260109T011352Z
LAST-MODIFIED:20260109T011352Z
UID:10001726-1905791400-1905798600@md-post206.org
SUMMARY:Country Line Dancing Lessons - $10 - Open to the Public
DESCRIPTION:Come out and hone your line dancing skills.\n\nContact Linda Bloyer at LBLOYER@verizon.net for reservations.
URL:https://md-post206.org/event/country-line-dancing-lessons-open-to-the-public-4-2/2030-05-23/
LOCATION:Stallings-Williams Post 206 American Legion\, 3330 Chesapeake Beach Rd\, Chesapeake Beach\, MD\, 20732\, United States
CATEGORIES:Dancing
ORGANIZER;CN="Linda Bloyer":MAILTO:lbloyer@verizon.net
END:VEVENT
BEGIN:VEVENT
DTSTART;TZID=America/New_York:20300627T183000
DTEND;TZID=America/New_York:20300627T203000
DTSTAMP:20260420T035537
CREATED:20260109T011352Z
LAST-MODIFIED:20260109T011352Z
UID:10001727-1908815400-1908822600@md-post206.org
SUMMARY:Country Line Dancing Lessons - $10 - Open to the Public
DESCRIPTION:Come out and hone your line dancing skills.\n\nContact Linda Bloyer at LBLOYER@verizon.net for reservations.
URL:https://md-post206.org/event/country-line-dancing-lessons-open-to-the-public-4-2/2030-06-27/
LOCATION:Stallings-Williams Post 206 American Legion\, 3330 Chesapeake Beach Rd\, Chesapeake Beach\, MD\, 20732\, United States
CATEGORIES:Dancing
ORGANIZER;CN="Linda Bloyer":MAILTO:lbloyer@verizon.net
END:VEVENT
BEGIN:VEVENT
DTSTART;TZID=America/New_York:20300725T183000
DTEND;TZID=America/New_York:20300725T203000
DTSTAMP:20260420T035537
CREATED:20260109T011352Z
LAST-MODIFIED:20260109T011352Z
UID:10001728-1911234600-1911241800@md-post206.org
SUMMARY:Country Line Dancing Lessons - $10 - Open to the Public
DESCRIPTION:Come out and hone your line dancing skills.\n\nContact Linda Bloyer at LBLOYER@verizon.net for reservations.
URL:https://md-post206.org/event/country-line-dancing-lessons-open-to-the-public-4-2/2030-07-25/
LOCATION:Stallings-Williams Post 206 American Legion\, 3330 Chesapeake Beach Rd\, Chesapeake Beach\, MD\, 20732\, United States
CATEGORIES:Dancing
ORGANIZER;CN="Linda Bloyer":MAILTO:lbloyer@verizon.net
END:VEVENT
BEGIN:VEVENT
DTSTART;TZID=America/New_York:20300822T183000
DTEND;TZID=America/New_York:20300822T203000
DTSTAMP:20260420T035537
CREATED:20260109T011352Z
LAST-MODIFIED:20260109T011352Z
UID:10001729-1913653800-1913661000@md-post206.org
SUMMARY:Country Line Dancing Lessons - $10 - Open to the Public
DESCRIPTION:Come out and hone your line dancing skills.\n\nContact Linda Bloyer at LBLOYER@verizon.net for reservations.
URL:https://md-post206.org/event/country-line-dancing-lessons-open-to-the-public-4-2/2030-08-22/
LOCATION:Stallings-Williams Post 206 American Legion\, 3330 Chesapeake Beach Rd\, Chesapeake Beach\, MD\, 20732\, United States
CATEGORIES:Dancing
ORGANIZER;CN="Linda Bloyer":MAILTO:lbloyer@verizon.net
END:VEVENT
BEGIN:VEVENT
DTSTART;TZID=America/New_York:20300926T183000
DTEND;TZID=America/New_York:20300926T203000
DTSTAMP:20260420T035537
CREATED:20260109T011352Z
LAST-MODIFIED:20260109T011352Z
UID:10001730-1916677800-1916685000@md-post206.org
SUMMARY:Country Line Dancing Lessons - $10 - Open to the Public
DESCRIPTION:Come out and hone your line dancing skills.\n\nContact Linda Bloyer at LBLOYER@verizon.net for reservations.
URL:https://md-post206.org/event/country-line-dancing-lessons-open-to-the-public-4-2/2030-09-26/
LOCATION:Stallings-Williams Post 206 American Legion\, 3330 Chesapeake Beach Rd\, Chesapeake Beach\, MD\, 20732\, United States
CATEGORIES:Dancing
ORGANIZER;CN="Linda Bloyer":MAILTO:lbloyer@verizon.net
END:VEVENT
BEGIN:VEVENT
DTSTART;TZID=America/New_York:20301024T183000
DTEND;TZID=America/New_York:20301024T203000
DTSTAMP:20260420T035537
CREATED:20260109T011352Z
LAST-MODIFIED:20260109T011352Z
UID:10001775-1919097000-1919104200@md-post206.org
SUMMARY:Country Line Dancing Lessons - $10 - Open to the Public
DESCRIPTION:Come out and hone your line dancing skills.\n\nContact Linda Bloyer at LBLOYER@verizon.net for reservations.
URL:https://md-post206.org/event/country-line-dancing-lessons-open-to-the-public-4-2/2030-10-24/
LOCATION:Stallings-Williams Post 206 American Legion\, 3330 Chesapeake Beach Rd\, Chesapeake Beach\, MD\, 20732\, United States
CATEGORIES:Dancing
ORGANIZER;CN="Linda Bloyer":MAILTO:lbloyer@verizon.net
END:VEVENT
BEGIN:VEVENT
DTSTART;TZID=America/New_York:20301128T183000
DTEND;TZID=America/New_York:20301128T203000
DTSTAMP:20260420T035537
CREATED:20260109T011352Z
LAST-MODIFIED:20260109T011352Z
UID:10001776-1922121000-1922128200@md-post206.org
SUMMARY:Country Line Dancing Lessons - $10 - Open to the Public
DESCRIPTION:Come out and hone your line dancing skills.\n\nContact Linda Bloyer at LBLOYER@verizon.net for reservations.
URL:https://md-post206.org/event/country-line-dancing-lessons-open-to-the-public-4-2/2030-11-28/
LOCATION:Stallings-Williams Post 206 American Legion\, 3330 Chesapeake Beach Rd\, Chesapeake Beach\, MD\, 20732\, United States
CATEGORIES:Dancing
ORGANIZER;CN="Linda Bloyer":MAILTO:lbloyer@verizon.net
END:VEVENT
BEGIN:VEVENT
DTSTART;TZID=America/New_York:20301226T183000
DTEND;TZID=America/New_York:20301226T203000
DTSTAMP:20260420T035537
CREATED:20260109T011352Z
LAST-MODIFIED:20260109T011352Z
UID:10001777-1924540200-1924547400@md-post206.org
SUMMARY:Country Line Dancing Lessons - $10 - Open to the Public
DESCRIPTION:Come out and hone your line dancing skills.\n\nContact Linda Bloyer at LBLOYER@verizon.net for reservations.
URL:https://md-post206.org/event/country-line-dancing-lessons-open-to-the-public-4-2/2030-12-26/
LOCATION:Stallings-Williams Post 206 American Legion\, 3330 Chesapeake Beach Rd\, Chesapeake Beach\, MD\, 20732\, United States
CATEGORIES:Dancing
ORGANIZER;CN="Linda Bloyer":MAILTO:lbloyer@verizon.net
END:VEVENT
END:VCALENDAR