BEGIN:VCALENDAR
VERSION:2.0
PRODID:-//Stallings-Williams Post 206 - ECPv6.15.20//NONSGML v1.0//EN
CALSCALE:GREGORIAN
METHOD:PUBLISH
X-WR-CALNAME:Stallings-Williams Post 206
X-ORIGINAL-URL:https://md-post206.org
X-WR-CALDESC:Events for Stallings-Williams Post 206
REFRESH-INTERVAL;VALUE=DURATION:PT1H
X-Robots-Tag:noindex
X-PUBLISHED-TTL:PT1H
BEGIN:VTIMEZONE
TZID:America/New_York
BEGIN:DAYLIGHT
TZOFFSETFROM:-0500
TZOFFSETTO:-0400
TZNAME:EDT
DTSTART:20230312T070000
END:DAYLIGHT
BEGIN:STANDARD
TZOFFSETFROM:-0400
TZOFFSETTO:-0500
TZNAME:EST
DTSTART:20231105T060000
END:STANDARD
BEGIN:DAYLIGHT
TZOFFSETFROM:-0500
TZOFFSETTO:-0400
TZNAME:EDT
DTSTART:20240310T070000
END:DAYLIGHT
BEGIN:STANDARD
TZOFFSETFROM:-0400
TZOFFSETTO:-0500
TZNAME:EST
DTSTART:20241103T060000
END:STANDARD
BEGIN:DAYLIGHT
TZOFFSETFROM:-0500
TZOFFSETTO:-0400
TZNAME:EDT
DTSTART:20250309T070000
END:DAYLIGHT
BEGIN:STANDARD
TZOFFSETFROM:-0400
TZOFFSETTO:-0500
TZNAME:EST
DTSTART:20251102T060000
END:STANDARD
BEGIN:DAYLIGHT
TZOFFSETFROM:-0500
TZOFFSETTO:-0400
TZNAME:EDT
DTSTART:20260308T070000
END:DAYLIGHT
BEGIN:STANDARD
TZOFFSETFROM:-0400
TZOFFSETTO:-0500
TZNAME:EST
DTSTART:20261101T060000
END:STANDARD
END:VTIMEZONE
BEGIN:VEVENT
DTSTART;TZID=America/New_York:20250919T070000
DTEND;TZID=America/New_York:20250919T180000
DTSTAMP:20260420T070413
CREATED:20250415T232019Z
LAST-MODIFIED:20260418T005734Z
UID:10001249-1758265200-1758304800@md-post206.org
SUMMARY:2025 Stallings-Williams American Legion Post 206 Annual Golf Tournament Sign Up
DESCRIPTION:It’s that time of year to sign up for the golf tournament. You’re now able to sign up here using a credit card or Paypal. You can still come by and register in person at the Post as well.\n\nEarly Bird price of $115 is available through June 3oth\, 2025.\n\n \n\nFill in the form for your team and then click Submit. You don’t need a full team to sign up.\n\nPlease enable JavaScript in your browser to complete this form.Please enable JavaScript in your browser to complete this form.		\n			Player Phone 2\n			\n		\n		Team Captain *FirstLastPhone Number *Email *Player 2FirstLastPlayer 3FirstLastPlayer 4FirstLastSubmit  \n\n \n\nAfter clicking Submit\, continue below to pay for your tickets.
URL:https://md-post206.org/event/2025-stallings-williams-american-legion-post-206-annual-golf-tournament/
LOCATION:Chesapeake Hills Golf Course\, 11325 HG Trueman Rd\, Lusby\, MD\, 20657
CATEGORIES:Special Events
ATTACH;FMTTYPE=image/jpeg:https://md-post206.org/wp-content/uploads/2025/03/Green-White-Rounded-Bold-Golf-Tournament-Poster.jpg
END:VEVENT
BEGIN:VEVENT
DTSTART;TZID=America/New_York:20240920T080000
DTEND;TZID=America/New_York:20240920T183000
DTSTAMP:20260420T070413
CREATED:20240820T000511Z
LAST-MODIFIED:20240820T000511Z
UID:10000060-1726819200-1726857000@md-post206.org
SUMMARY:2024 Golf Tournament
DESCRIPTION:The annual Post 206 Golf tournament. More information on the page below.\n\n2024 Golf Tournament – September 20th
URL:https://md-post206.org/event/2024-golf-tournament/
LOCATION:Chesapeake Hills Golf Course\, 11325 HG Trueman Rd\, Lusby\, MD\, 20657
CATEGORIES:Special Events
END:VEVENT
END:VCALENDAR