BEGIN:VCALENDAR
VERSION:2.0
PRODID:-//Stallings-Williams Post 206 - ECPv6.15.20//NONSGML v1.0//EN
CALSCALE:GREGORIAN
METHOD:PUBLISH
X-ORIGINAL-URL:https://md-post206.org
X-WR-CALDESC:Events for Stallings-Williams Post 206
REFRESH-INTERVAL;VALUE=DURATION:PT1H
X-Robots-Tag:noindex
X-PUBLISHED-TTL:PT1H
BEGIN:VTIMEZONE
TZID:America/New_York
BEGIN:DAYLIGHT
TZOFFSETFROM:-0500
TZOFFSETTO:-0400
TZNAME:EDT
DTSTART:20230312T070000
END:DAYLIGHT
BEGIN:STANDARD
TZOFFSETFROM:-0400
TZOFFSETTO:-0500
TZNAME:EST
DTSTART:20231105T060000
END:STANDARD
BEGIN:DAYLIGHT
TZOFFSETFROM:-0500
TZOFFSETTO:-0400
TZNAME:EDT
DTSTART:20240310T070000
END:DAYLIGHT
BEGIN:STANDARD
TZOFFSETFROM:-0400
TZOFFSETTO:-0500
TZNAME:EST
DTSTART:20241103T060000
END:STANDARD
BEGIN:DAYLIGHT
TZOFFSETFROM:-0500
TZOFFSETTO:-0400
TZNAME:EDT
DTSTART:20250309T070000
END:DAYLIGHT
BEGIN:STANDARD
TZOFFSETFROM:-0400
TZOFFSETTO:-0500
TZNAME:EST
DTSTART:20251102T060000
END:STANDARD
BEGIN:DAYLIGHT
TZOFFSETFROM:-0500
TZOFFSETTO:-0400
TZNAME:EDT
DTSTART:20260308T070000
END:DAYLIGHT
BEGIN:STANDARD
TZOFFSETFROM:-0400
TZOFFSETTO:-0500
TZNAME:EST
DTSTART:20261101T060000
END:STANDARD
END:VTIMEZONE
BEGIN:VEVENT
DTSTART;TZID=America/New_York:20250404T103000
DTEND;TZID=America/New_York:20250404T120000
DTSTAMP:20260421T230303
CREATED:20250311T224318Z
LAST-MODIFIED:20250311T224318Z
UID:10001248-1743762600-1743768000@md-post206.org
SUMMARY:Post Everlasting - Timothy O. Mckimmie
DESCRIPTION:We all are saddened by the passing of Post 206 member Timothy O. McKinney\, a longtime member of this post.\n\nUSMC LCPL Mckimmie\, brother of Unit 206 Auxiliary member Jenny Bumgarner and brother-in-law of Post 206 Executive Committee member Fred Bumgarner\, transferred to Post Everlasting on 18 May 2020. Due to COVID delays\, he will now will be able to be laid to rest.\n\nPlease join us in honoring this Vietnam combat veteran Marine at his graveside Post Everlasting service:\n\nFriday\, 4 April 2025\, 11:00.\nSouthern Memorial Gardens\, 10155 Ward Road\, Dunkirk.\n\nReport time for those members wishing to honor him will be 10:30.
URL:https://md-post206.org/event/post-everlasting-timothy-o-mckimmie/
LOCATION:Southern Memorial Gardens 10155 Ward Rd\, Dunkirk\, MD 20754\, 10155 Ward Rd\,\, Dunkirk\, MD\, 20754
CATEGORIES:Post Everlasting
END:VEVENT
BEGIN:VEVENT
DTSTART;TZID=America/New_York:20240525T080000
DTEND;TZID=America/New_York:20240525T120000
DTSTAMP:20260421T230303
CREATED:20240512T154718Z
LAST-MODIFIED:20240512T155435Z
UID:10000046-1716624000-1716638400@md-post206.org
SUMMARY:Flags on Graves around Dunkirk 8am
DESCRIPTION:Meet at 8am at Southern Memorial Gardens to help plant flags at various Veteran’s graves around Dunkirk.\n\nContact Scott Deacon (443-975-1001) or Rob Sybert (443-9265-6199) for details.
URL:https://md-post206.org/event/flags-on-graves-around-dunkirk-8am/
LOCATION:Southern Memorial Gardens 10155 Ward Rd\, Dunkirk\, MD 20754\, 10155 Ward Rd\,\, Dunkirk\, MD\, 20754
CATEGORIES:Special Events
END:VEVENT
END:VCALENDAR