BEGIN:VCALENDAR
VERSION:2.0
PRODID:-//Stallings-Williams Post 206 - ECPv6.15.20//NONSGML v1.0//EN
CALSCALE:GREGORIAN
METHOD:PUBLISH
X-ORIGINAL-URL:https://md-post206.org
X-WR-CALDESC:Events for Stallings-Williams Post 206
REFRESH-INTERVAL;VALUE=DURATION:PT1H
X-Robots-Tag:noindex
X-PUBLISHED-TTL:PT1H
BEGIN:VTIMEZONE
TZID:America/New_York
BEGIN:DAYLIGHT
TZOFFSETFROM:-0500
TZOFFSETTO:-0400
TZNAME:EDT
DTSTART:20260308T070000
END:DAYLIGHT
BEGIN:STANDARD
TZOFFSETFROM:-0400
TZOFFSETTO:-0500
TZNAME:EST
DTSTART:20261101T060000
END:STANDARD
BEGIN:DAYLIGHT
TZOFFSETFROM:-0500
TZOFFSETTO:-0400
TZNAME:EDT
DTSTART:20270314T070000
END:DAYLIGHT
BEGIN:STANDARD
TZOFFSETFROM:-0400
TZOFFSETTO:-0500
TZNAME:EST
DTSTART:20271107T060000
END:STANDARD
BEGIN:DAYLIGHT
TZOFFSETFROM:-0500
TZOFFSETTO:-0400
TZNAME:EDT
DTSTART:20280312T070000
END:DAYLIGHT
BEGIN:STANDARD
TZOFFSETFROM:-0400
TZOFFSETTO:-0500
TZNAME:EST
DTSTART:20281105T060000
END:STANDARD
END:VTIMEZONE
BEGIN:VEVENT
DTSTART;TZID=America/New_York:20270209T130000
DTEND;TZID=America/New_York:20270209T140000
DTSTAMP:20260420T204015
CREATED:20250401T111021Z
LAST-MODIFIED:20260407T002649Z
UID:10001519-1802178000-1802181600@md-post206.org
SUMMARY:Yoga
DESCRIPTION:Tuesday’s from 1-2pm come unwind with yoga.
URL:https://md-post206.org/event/yoga-4-6/2027-02-09/
LOCATION:Stallings-Williams Post 206 American Legion\, 3330 Chesapeake Beach Rd\, Chesapeake Beach\, MD\, 20732\, United States
CATEGORIES:Special Events
END:VEVENT
BEGIN:VEVENT
DTSTART;TZID=America/New_York:20270209T183000
DTEND;TZID=America/New_York:20270209T210000
DTSTAMP:20260420T204015
CREATED:20250120T185330Z
LAST-MODIFIED:20250123T171116Z
UID:10000451-1802197800-1802206800@md-post206.org
SUMMARY:S.A.L. Meeting
DESCRIPTION:
URL:https://md-post206.org/event/s-a-l-meeting-5/2027-02-09/
LOCATION:Stallings-Williams Post 206 American Legion\, 3330 Chesapeake Beach Rd\, Chesapeake Beach\, MD\, 20732\, United States
CATEGORIES:Meetings
END:VEVENT
BEGIN:VEVENT
DTSTART;TZID=America/New_York:20270211T190000
DTEND;TZID=America/New_York:20270211T203000
DTSTAMP:20260420T204015
CREATED:20260330T233301Z
LAST-MODIFIED:20260330T233301Z
UID:10001826-1802372400-1802377800@md-post206.org
SUMMARY:Legion Riders Meeting
DESCRIPTION:
URL:https://md-post206.org/event/legion-riders-meeting-2/2027-02-11/
LOCATION:Stallings-Williams Post 206 American Legion\, 3330 Chesapeake Beach Rd\, Chesapeake Beach\, MD\, 20732\, United States
CATEGORIES:Meetings
END:VEVENT
BEGIN:VEVENT
DTSTART;TZID=America/New_York:20270214T080000
DTEND;TZID=America/New_York:20270214T110000
DTSTAMP:20260420T204015
CREATED:20250715T232713Z
LAST-MODIFIED:20250715T232713Z
UID:10001375-1802592000-1802602800@md-post206.org
SUMMARY:All You Can Eat Breakfast - $15 - Open to the Public
DESCRIPTION:All-You-Can-Eat breakfast. Come on down and enjoy some eggs\, bacon\, sausage\, pancakes\, taters\, biscuits\, two kinds of gravy and more. All for $15.\n\nChildren under 12 eat for free!\n\nOpen to the Public.
URL:https://md-post206.org/event/all-you-can-eat-breakfast-15-open-to-the-public-7/2027-02-14/
LOCATION:Stallings-Williams Post 206 American Legion\, 3330 Chesapeake Beach Rd\, Chesapeake Beach\, MD\, 20732\, United States
CATEGORIES:Breakfast
END:VEVENT
BEGIN:VEVENT
DTSTART;TZID=America/New_York:20270216T130000
DTEND;TZID=America/New_York:20270216T140000
DTSTAMP:20260420T204015
CREATED:20250401T111021Z
LAST-MODIFIED:20260407T002649Z
UID:10001520-1802782800-1802786400@md-post206.org
SUMMARY:Yoga
DESCRIPTION:Tuesday’s from 1-2pm come unwind with yoga.
URL:https://md-post206.org/event/yoga-4-6/2027-02-16/
LOCATION:Stallings-Williams Post 206 American Legion\, 3330 Chesapeake Beach Rd\, Chesapeake Beach\, MD\, 20732\, United States
CATEGORIES:Special Events
END:VEVENT
BEGIN:VEVENT
DTSTART;TZID=America/New_York:20270216T173000
DTEND;TZID=America/New_York:20270216T190000
DTSTAMP:20260420T204015
CREATED:20250801T000200Z
LAST-MODIFIED:20250801T000201Z
UID:10000634-1802799000-1802804400@md-post206.org
SUMMARY:Steak Night - $25 - Open to the Public
DESCRIPTION:Third Tuesday of the month means it’s time for Steak Night. $25 gets you a big steak\, a big baked potato\, vegetables\, a salad and great company.\n\nOpen to the Public.
URL:https://md-post206.org/event/steak-night-20-open-to-the-public-6-2/2027-02-16/
LOCATION:Stallings-Williams Post 206 American Legion\, 3330 Chesapeake Beach Rd\, Chesapeake Beach\, MD\, 20732\, United States
CATEGORIES:Dinner
END:VEVENT
BEGIN:VEVENT
DTSTART;TZID=America/New_York:20270217T190000
DTEND;TZID=America/New_York:20270217T203000
DTSTAMP:20260420T204015
CREATED:20250123T171851Z
LAST-MODIFIED:20250123T171851Z
UID:10000920-1802890800-1802896200@md-post206.org
SUMMARY:Executive Committee Meeting
DESCRIPTION:
URL:https://md-post206.org/event/executive-committee-meeting-2-2/2027-02-17/
LOCATION:Stallings-Williams Post 206 American Legion\, 3330 Chesapeake Beach Rd\, Chesapeake Beach\, MD\, 20732\, United States
CATEGORIES:Meetings
END:VEVENT
BEGIN:VEVENT
DTSTART;TZID=America/New_York:20270219T190000
DTEND;TZID=America/New_York:20270219T200000
DTSTAMP:20260420T204015
CREATED:20241230T002545Z
LAST-MODIFIED:20250123T172036Z
UID:10000752-1803063600-1803067200@md-post206.org
SUMMARY:Post Membership Meeting
DESCRIPTION:
URL:https://md-post206.org/event/post-membership-meeting-2/2027-02-19/
LOCATION:Stallings-Williams Post 206 American Legion\, 3330 Chesapeake Beach Rd\, Chesapeake Beach\, MD\, 20732\, United States
CATEGORIES:Meetings
END:VEVENT
BEGIN:VEVENT
DTSTART;TZID=America/New_York:20270223T130000
DTEND;TZID=America/New_York:20270223T140000
DTSTAMP:20260420T204015
CREATED:20250401T111021Z
LAST-MODIFIED:20260407T002649Z
UID:10001521-1803387600-1803391200@md-post206.org
SUMMARY:Yoga
DESCRIPTION:Tuesday’s from 1-2pm come unwind with yoga.
URL:https://md-post206.org/event/yoga-4-6/2027-02-23/
LOCATION:Stallings-Williams Post 206 American Legion\, 3330 Chesapeake Beach Rd\, Chesapeake Beach\, MD\, 20732\, United States
CATEGORIES:Special Events
END:VEVENT
BEGIN:VEVENT
DTSTART;TZID=America/New_York:20270225T183000
DTEND;TZID=America/New_York:20270225T203000
DTSTAMP:20260420T204015
CREATED:20260109T011352Z
LAST-MODIFIED:20260109T011352Z
UID:10000511-1803580200-1803587400@md-post206.org
SUMMARY:Country Line Dancing Lessons - $10 - Open to the Public
DESCRIPTION:Come out and hone your line dancing skills.\n\nContact Linda Bloyer at LBLOYER@verizon.net for reservations.
URL:https://md-post206.org/event/country-line-dancing-lessons-open-to-the-public-4-2/2027-02-25/
LOCATION:Stallings-Williams Post 206 American Legion\, 3330 Chesapeake Beach Rd\, Chesapeake Beach\, MD\, 20732\, United States
CATEGORIES:Dancing
ORGANIZER;CN="Linda Bloyer":MAILTO:lbloyer@verizon.net
END:VEVENT
BEGIN:VEVENT
DTSTART;TZID=America/New_York:20270226T173000
DTEND;TZID=America/New_York:20270226T190000
DTSTAMP:20260420T204015
CREATED:20241230T003055Z
LAST-MODIFIED:20250225T215349Z
UID:10001218-1803663000-1803668400@md-post206.org
SUMMARY:Nam Knights Spaghetti Night - $15 - Open to the Public
DESCRIPTION:Time to come over and taste some that amazing homemade sauce. $15 will fill your belly.\n\nOpen to the Public
URL:https://md-post206.org/event/nam-knights-spaghetti-night-15-open-to-the-public-2/2027-02-26/
LOCATION:Stallings-Williams Post 206 American Legion\, 3330 Chesapeake Beach Rd\, Chesapeake Beach\, MD\, 20732\, United States
CATEGORIES:Dinner
END:VEVENT
BEGIN:VEVENT
DTSTART;TZID=America/New_York:20270226T193000
DTEND;TZID=America/New_York:20270226T233000
DTSTAMP:20260420T204015
CREATED:20250715T230218Z
LAST-MODIFIED:20250715T230218Z
UID:10001306-1803670200-1803684600@md-post206.org
SUMMARY:Karaoke - Free - Open to the Public
DESCRIPTION:Come out and sing the night away!\n\nOpen to the Public.
URL:https://md-post206.org/event/karaoke-free-open-to-the-public-6-2/2027-02-26/
LOCATION:Stallings-Williams Post 206 American Legion\, 3330 Chesapeake Beach Rd\, Chesapeake Beach\, MD\, 20732\, United States
CATEGORIES:Music
END:VEVENT
BEGIN:VEVENT
DTSTART;TZID=America/New_York:20270302T130000
DTEND;TZID=America/New_York:20270302T140000
DTSTAMP:20260420T204015
CREATED:20250401T111021Z
LAST-MODIFIED:20260407T002649Z
UID:10001522-1803992400-1803996000@md-post206.org
SUMMARY:Yoga
DESCRIPTION:Tuesday’s from 1-2pm come unwind with yoga.
URL:https://md-post206.org/event/yoga-4-6/2027-03-02/
LOCATION:Stallings-Williams Post 206 American Legion\, 3330 Chesapeake Beach Rd\, Chesapeake Beach\, MD\, 20732\, United States
CATEGORIES:Special Events
END:VEVENT
BEGIN:VEVENT
DTSTART;TZID=America/New_York:20270302T173000
DTEND;TZID=America/New_York:20270302T190000
DTSTAMP:20260420T204015
CREATED:20250801T000115Z
LAST-MODIFIED:20250801T000115Z
UID:10000570-1804008600-1804014000@md-post206.org
SUMMARY:Steak Night - $25 - Open to the Public
DESCRIPTION:First Tuesday of the month means it’s time for Steak Night. $25 gets you a big steak\, a big baked potato\, vegetables\, a salad and great company.\n\nOpen to the Public.
URL:https://md-post206.org/event/steak-night-20-open-to-the-public-7-2/2027-03-02/
LOCATION:Stallings-Williams Post 206 American Legion\, 3330 Chesapeake Beach Rd\, Chesapeake Beach\, MD\, 20732\, United States
CATEGORIES:Dinner
END:VEVENT
BEGIN:VEVENT
DTSTART;TZID=America/New_York:20270309T130000
DTEND;TZID=America/New_York:20270309T140000
DTSTAMP:20260420T204015
CREATED:20250401T111021Z
LAST-MODIFIED:20260407T002649Z
UID:10001523-1804597200-1804600800@md-post206.org
SUMMARY:Yoga
DESCRIPTION:Tuesday’s from 1-2pm come unwind with yoga.
URL:https://md-post206.org/event/yoga-4-6/2027-03-09/
LOCATION:Stallings-Williams Post 206 American Legion\, 3330 Chesapeake Beach Rd\, Chesapeake Beach\, MD\, 20732\, United States
CATEGORIES:Special Events
END:VEVENT
BEGIN:VEVENT
DTSTART;TZID=America/New_York:20270309T183000
DTEND;TZID=America/New_York:20270309T210000
DTSTAMP:20260420T204015
CREATED:20250120T185330Z
LAST-MODIFIED:20250123T171116Z
UID:10000452-1804617000-1804626000@md-post206.org
SUMMARY:S.A.L. Meeting
DESCRIPTION:
URL:https://md-post206.org/event/s-a-l-meeting-5/2027-03-09/
LOCATION:Stallings-Williams Post 206 American Legion\, 3330 Chesapeake Beach Rd\, Chesapeake Beach\, MD\, 20732\, United States
CATEGORIES:Meetings
END:VEVENT
BEGIN:VEVENT
DTSTART;TZID=America/New_York:20270311T190000
DTEND;TZID=America/New_York:20270311T203000
DTSTAMP:20260420T204015
CREATED:20260330T233301Z
LAST-MODIFIED:20260330T233301Z
UID:10001827-1804791600-1804797000@md-post206.org
SUMMARY:Legion Riders Meeting
DESCRIPTION:
URL:https://md-post206.org/event/legion-riders-meeting-2/2027-03-11/
LOCATION:Stallings-Williams Post 206 American Legion\, 3330 Chesapeake Beach Rd\, Chesapeake Beach\, MD\, 20732\, United States
CATEGORIES:Meetings
END:VEVENT
BEGIN:VEVENT
DTSTART;TZID=America/New_York:20270314T080000
DTEND;TZID=America/New_York:20270314T110000
DTSTAMP:20260420T204015
CREATED:20250715T232713Z
LAST-MODIFIED:20250715T232713Z
UID:10001376-1805011200-1805022000@md-post206.org
SUMMARY:All You Can Eat Breakfast - $15 - Open to the Public
DESCRIPTION:All-You-Can-Eat breakfast. Come on down and enjoy some eggs\, bacon\, sausage\, pancakes\, taters\, biscuits\, two kinds of gravy and more. All for $15.\n\nChildren under 12 eat for free!\n\nOpen to the Public.
URL:https://md-post206.org/event/all-you-can-eat-breakfast-15-open-to-the-public-7/2027-03-14/
LOCATION:Stallings-Williams Post 206 American Legion\, 3330 Chesapeake Beach Rd\, Chesapeake Beach\, MD\, 20732\, United States
CATEGORIES:Breakfast
END:VEVENT
BEGIN:VEVENT
DTSTART;TZID=America/New_York:20270316T130000
DTEND;TZID=America/New_York:20270316T140000
DTSTAMP:20260420T204015
CREATED:20250401T111021Z
LAST-MODIFIED:20260407T002649Z
UID:10001524-1805202000-1805205600@md-post206.org
SUMMARY:Yoga
DESCRIPTION:Tuesday’s from 1-2pm come unwind with yoga.
URL:https://md-post206.org/event/yoga-4-6/2027-03-16/
LOCATION:Stallings-Williams Post 206 American Legion\, 3330 Chesapeake Beach Rd\, Chesapeake Beach\, MD\, 20732\, United States
CATEGORIES:Special Events
END:VEVENT
BEGIN:VEVENT
DTSTART;TZID=America/New_York:20270316T173000
DTEND;TZID=America/New_York:20270316T190000
DTSTAMP:20260420T204016
CREATED:20250801T000200Z
LAST-MODIFIED:20250801T000201Z
UID:10000635-1805218200-1805223600@md-post206.org
SUMMARY:Steak Night - $25 - Open to the Public
DESCRIPTION:Third Tuesday of the month means it’s time for Steak Night. $25 gets you a big steak\, a big baked potato\, vegetables\, a salad and great company.\n\nOpen to the Public.
URL:https://md-post206.org/event/steak-night-20-open-to-the-public-6-2/2027-03-16/
LOCATION:Stallings-Williams Post 206 American Legion\, 3330 Chesapeake Beach Rd\, Chesapeake Beach\, MD\, 20732\, United States
CATEGORIES:Dinner
END:VEVENT
BEGIN:VEVENT
DTSTART;TZID=America/New_York:20270316T190000
DTEND;TZID=America/New_York:20270316T200000
DTSTAMP:20260420T204016
CREATED:20250123T220227Z
LAST-MODIFIED:20251104T163705Z
UID:10001753-1805223600-1805227200@md-post206.org
SUMMARY:Auxiliary Meeting
DESCRIPTION:
URL:https://md-post206.org/event/auxiliary-meeting-2-2/2027-03-16/
LOCATION:Stallings-Williams Post 206 American Legion\, 3330 Chesapeake Beach Rd\, Chesapeake Beach\, MD\, 20732\, United States
CATEGORIES:Meetings
END:VEVENT
BEGIN:VEVENT
DTSTART;TZID=America/New_York:20270317T190000
DTEND;TZID=America/New_York:20270317T203000
DTSTAMP:20260420T204016
CREATED:20250123T171851Z
LAST-MODIFIED:20250123T171851Z
UID:10000921-1805310000-1805315400@md-post206.org
SUMMARY:Executive Committee Meeting
DESCRIPTION:
URL:https://md-post206.org/event/executive-committee-meeting-2-2/2027-03-17/
LOCATION:Stallings-Williams Post 206 American Legion\, 3330 Chesapeake Beach Rd\, Chesapeake Beach\, MD\, 20732\, United States
CATEGORIES:Meetings
END:VEVENT
BEGIN:VEVENT
DTSTART;TZID=America/New_York:20270319T190000
DTEND;TZID=America/New_York:20270319T200000
DTSTAMP:20260420T204016
CREATED:20241230T002545Z
LAST-MODIFIED:20250123T172036Z
UID:10000753-1805482800-1805486400@md-post206.org
SUMMARY:Post Membership Meeting
DESCRIPTION:
URL:https://md-post206.org/event/post-membership-meeting-2/2027-03-19/
LOCATION:Stallings-Williams Post 206 American Legion\, 3330 Chesapeake Beach Rd\, Chesapeake Beach\, MD\, 20732\, United States
CATEGORIES:Meetings
END:VEVENT
BEGIN:VEVENT
DTSTART;TZID=America/New_York:20270323T130000
DTEND;TZID=America/New_York:20270323T140000
DTSTAMP:20260420T204016
CREATED:20250401T111021Z
LAST-MODIFIED:20260407T002649Z
UID:10001525-1805806800-1805810400@md-post206.org
SUMMARY:Yoga
DESCRIPTION:Tuesday’s from 1-2pm come unwind with yoga.
URL:https://md-post206.org/event/yoga-4-6/2027-03-23/
LOCATION:Stallings-Williams Post 206 American Legion\, 3330 Chesapeake Beach Rd\, Chesapeake Beach\, MD\, 20732\, United States
CATEGORIES:Special Events
END:VEVENT
BEGIN:VEVENT
DTSTART;TZID=America/New_York:20270325T183000
DTEND;TZID=America/New_York:20270325T203000
DTSTAMP:20260420T204016
CREATED:20260109T011352Z
LAST-MODIFIED:20260109T011352Z
UID:10000512-1805999400-1806006600@md-post206.org
SUMMARY:Country Line Dancing Lessons - $10 - Open to the Public
DESCRIPTION:Come out and hone your line dancing skills.\n\nContact Linda Bloyer at LBLOYER@verizon.net for reservations.
URL:https://md-post206.org/event/country-line-dancing-lessons-open-to-the-public-4-2/2027-03-25/
LOCATION:Stallings-Williams Post 206 American Legion\, 3330 Chesapeake Beach Rd\, Chesapeake Beach\, MD\, 20732\, United States
CATEGORIES:Dancing
ORGANIZER;CN="Linda Bloyer":MAILTO:lbloyer@verizon.net
END:VEVENT
BEGIN:VEVENT
DTSTART;TZID=America/New_York:20270326T173000
DTEND;TZID=America/New_York:20270326T190000
DTSTAMP:20260420T204016
CREATED:20241230T003055Z
LAST-MODIFIED:20250225T215349Z
UID:10001219-1806082200-1806087600@md-post206.org
SUMMARY:Nam Knights Spaghetti Night - $15 - Open to the Public
DESCRIPTION:Time to come over and taste some that amazing homemade sauce. $15 will fill your belly.\n\nOpen to the Public
URL:https://md-post206.org/event/nam-knights-spaghetti-night-15-open-to-the-public-2/2027-03-26/
LOCATION:Stallings-Williams Post 206 American Legion\, 3330 Chesapeake Beach Rd\, Chesapeake Beach\, MD\, 20732\, United States
CATEGORIES:Dinner
END:VEVENT
BEGIN:VEVENT
DTSTART;TZID=America/New_York:20270326T193000
DTEND;TZID=America/New_York:20270326T233000
DTSTAMP:20260420T204016
CREATED:20250715T230218Z
LAST-MODIFIED:20250715T230218Z
UID:10001307-1806089400-1806103800@md-post206.org
SUMMARY:Karaoke - Free - Open to the Public
DESCRIPTION:Come out and sing the night away!\n\nOpen to the Public.
URL:https://md-post206.org/event/karaoke-free-open-to-the-public-6-2/2027-03-26/
LOCATION:Stallings-Williams Post 206 American Legion\, 3330 Chesapeake Beach Rd\, Chesapeake Beach\, MD\, 20732\, United States
CATEGORIES:Music
END:VEVENT
BEGIN:VEVENT
DTSTART;TZID=America/New_York:20270330T130000
DTEND;TZID=America/New_York:20270330T140000
DTSTAMP:20260420T204016
CREATED:20250401T111021Z
LAST-MODIFIED:20260407T002649Z
UID:10001526-1806411600-1806415200@md-post206.org
SUMMARY:Yoga
DESCRIPTION:Tuesday’s from 1-2pm come unwind with yoga.
URL:https://md-post206.org/event/yoga-4-6/2027-03-30/
LOCATION:Stallings-Williams Post 206 American Legion\, 3330 Chesapeake Beach Rd\, Chesapeake Beach\, MD\, 20732\, United States
CATEGORIES:Special Events
END:VEVENT
BEGIN:VEVENT
DTSTART;TZID=America/New_York:20270406T130000
DTEND;TZID=America/New_York:20270406T140000
DTSTAMP:20260420T204016
CREATED:20250401T111021Z
LAST-MODIFIED:20260407T002649Z
UID:10001527-1807016400-1807020000@md-post206.org
SUMMARY:Yoga
DESCRIPTION:Tuesday’s from 1-2pm come unwind with yoga.
URL:https://md-post206.org/event/yoga-4-6/2027-04-06/
LOCATION:Stallings-Williams Post 206 American Legion\, 3330 Chesapeake Beach Rd\, Chesapeake Beach\, MD\, 20732\, United States
CATEGORIES:Special Events
END:VEVENT
BEGIN:VEVENT
DTSTART;TZID=America/New_York:20270406T173000
DTEND;TZID=America/New_York:20270406T190000
DTSTAMP:20260420T204016
CREATED:20250801T000115Z
LAST-MODIFIED:20250801T000115Z
UID:10000571-1807032600-1807038000@md-post206.org
SUMMARY:Steak Night - $25 - Open to the Public
DESCRIPTION:First Tuesday of the month means it’s time for Steak Night. $25 gets you a big steak\, a big baked potato\, vegetables\, a salad and great company.\n\nOpen to the Public.
URL:https://md-post206.org/event/steak-night-20-open-to-the-public-7-2/2027-04-06/
LOCATION:Stallings-Williams Post 206 American Legion\, 3330 Chesapeake Beach Rd\, Chesapeake Beach\, MD\, 20732\, United States
CATEGORIES:Dinner
END:VEVENT
END:VCALENDAR