BEGIN:VCALENDAR
VERSION:2.0
PRODID:-//Stallings-Williams Post 206 - ECPv6.15.20//NONSGML v1.0//EN
CALSCALE:GREGORIAN
METHOD:PUBLISH
X-ORIGINAL-URL:https://md-post206.org
X-WR-CALDESC:Events for Stallings-Williams Post 206
REFRESH-INTERVAL;VALUE=DURATION:PT1H
X-Robots-Tag:noindex
X-PUBLISHED-TTL:PT1H
BEGIN:VTIMEZONE
TZID:America/New_York
BEGIN:DAYLIGHT
TZOFFSETFROM:-0500
TZOFFSETTO:-0400
TZNAME:EDT
DTSTART:20260308T070000
END:DAYLIGHT
BEGIN:STANDARD
TZOFFSETFROM:-0400
TZOFFSETTO:-0500
TZNAME:EST
DTSTART:20261101T060000
END:STANDARD
BEGIN:DAYLIGHT
TZOFFSETFROM:-0500
TZOFFSETTO:-0400
TZNAME:EDT
DTSTART:20270314T070000
END:DAYLIGHT
BEGIN:STANDARD
TZOFFSETFROM:-0400
TZOFFSETTO:-0500
TZNAME:EST
DTSTART:20271107T060000
END:STANDARD
BEGIN:DAYLIGHT
TZOFFSETFROM:-0500
TZOFFSETTO:-0400
TZNAME:EDT
DTSTART:20280312T070000
END:DAYLIGHT
BEGIN:STANDARD
TZOFFSETFROM:-0400
TZOFFSETTO:-0500
TZNAME:EST
DTSTART:20281105T060000
END:STANDARD
END:VTIMEZONE
BEGIN:VEVENT
DTSTART;TZID=America/New_York:20271015T190000
DTEND;TZID=America/New_York:20271015T200000
DTSTAMP:20260424T034345
CREATED:20241230T002545Z
LAST-MODIFIED:20250123T172036Z
UID:10000759-1823626800-1823630400@md-post206.org
SUMMARY:Post Membership Meeting
DESCRIPTION:
URL:https://md-post206.org/event/post-membership-meeting-2/2027-10-15/
LOCATION:Stallings-Williams Post 206 American Legion\, 3330 Chesapeake Beach Rd\, Chesapeake Beach\, MD\, 20732\, United States
CATEGORIES:Meetings
END:VEVENT
BEGIN:VEVENT
DTSTART;TZID=America/New_York:20271019T130000
DTEND;TZID=America/New_York:20271019T140000
DTSTAMP:20260424T034345
CREATED:20250401T111021Z
LAST-MODIFIED:20260407T002649Z
UID:10001555-1823950800-1823954400@md-post206.org
SUMMARY:Yoga
DESCRIPTION:Tuesday’s from 1-2pm come unwind with yoga.
URL:https://md-post206.org/event/yoga-4-6/2027-10-19/
LOCATION:Stallings-Williams Post 206 American Legion\, 3330 Chesapeake Beach Rd\, Chesapeake Beach\, MD\, 20732\, United States
CATEGORIES:Special Events
END:VEVENT
BEGIN:VEVENT
DTSTART;TZID=America/New_York:20271019T173000
DTEND;TZID=America/New_York:20271019T190000
DTSTAMP:20260424T034345
CREATED:20250801T000200Z
LAST-MODIFIED:20250801T000201Z
UID:10000642-1823967000-1823972400@md-post206.org
SUMMARY:Steak Night - $25 - Open to the Public
DESCRIPTION:Third Tuesday of the month means it’s time for Steak Night. $25 gets you a big steak\, a big baked potato\, vegetables\, a salad and great company.\n\nOpen to the Public.
URL:https://md-post206.org/event/steak-night-20-open-to-the-public-6-2/2027-10-19/
LOCATION:Stallings-Williams Post 206 American Legion\, 3330 Chesapeake Beach Rd\, Chesapeake Beach\, MD\, 20732\, United States
CATEGORIES:Dinner
END:VEVENT
BEGIN:VEVENT
DTSTART;TZID=America/New_York:20271020T190000
DTEND;TZID=America/New_York:20271020T203000
DTSTAMP:20260424T034345
CREATED:20250123T171851Z
LAST-MODIFIED:20250123T171851Z
UID:10000926-1824058800-1824064200@md-post206.org
SUMMARY:Executive Committee Meeting
DESCRIPTION:
URL:https://md-post206.org/event/executive-committee-meeting-2-2/2027-10-20/
LOCATION:Stallings-Williams Post 206 American Legion\, 3330 Chesapeake Beach Rd\, Chesapeake Beach\, MD\, 20732\, United States
CATEGORIES:Meetings
END:VEVENT
BEGIN:VEVENT
DTSTART;TZID=America/New_York:20271022T173000
DTEND;TZID=America/New_York:20271022T190000
DTSTAMP:20260424T034345
CREATED:20241230T003055Z
LAST-MODIFIED:20250225T215349Z
UID:10001223-1824226200-1824231600@md-post206.org
SUMMARY:Nam Knights Spaghetti Night - $15 - Open to the Public
DESCRIPTION:Time to come over and taste some that amazing homemade sauce. $15 will fill your belly.\n\nOpen to the Public
URL:https://md-post206.org/event/nam-knights-spaghetti-night-15-open-to-the-public-2/2027-10-22/
LOCATION:Stallings-Williams Post 206 American Legion\, 3330 Chesapeake Beach Rd\, Chesapeake Beach\, MD\, 20732\, United States
CATEGORIES:Dinner
END:VEVENT
BEGIN:VEVENT
DTSTART;TZID=America/New_York:20271022T193000
DTEND;TZID=America/New_York:20271022T233000
DTSTAMP:20260424T034345
CREATED:20250715T230218Z
LAST-MODIFIED:20250715T230218Z
UID:10001314-1824233400-1824247800@md-post206.org
SUMMARY:Karaoke - Free - Open to the Public
DESCRIPTION:Come out and sing the night away!\n\nOpen to the Public.
URL:https://md-post206.org/event/karaoke-free-open-to-the-public-6-2/2027-10-22/
LOCATION:Stallings-Williams Post 206 American Legion\, 3330 Chesapeake Beach Rd\, Chesapeake Beach\, MD\, 20732\, United States
CATEGORIES:Music
END:VEVENT
BEGIN:VEVENT
DTSTART;TZID=America/New_York:20271026T130000
DTEND;TZID=America/New_York:20271026T140000
DTSTAMP:20260424T034345
CREATED:20250401T111021Z
LAST-MODIFIED:20260407T002649Z
UID:10001556-1824555600-1824559200@md-post206.org
SUMMARY:Yoga
DESCRIPTION:Tuesday’s from 1-2pm come unwind with yoga.
URL:https://md-post206.org/event/yoga-4-6/2027-10-26/
LOCATION:Stallings-Williams Post 206 American Legion\, 3330 Chesapeake Beach Rd\, Chesapeake Beach\, MD\, 20732\, United States
CATEGORIES:Special Events
END:VEVENT
BEGIN:VEVENT
DTSTART;TZID=America/New_York:20271028T183000
DTEND;TZID=America/New_York:20271028T203000
DTSTAMP:20260424T034345
CREATED:20260109T011352Z
LAST-MODIFIED:20260109T011352Z
UID:10000519-1824748200-1824755400@md-post206.org
SUMMARY:Country Line Dancing Lessons - $10 - Open to the Public
DESCRIPTION:Come out and hone your line dancing skills.\n\nContact Linda Bloyer at LBLOYER@verizon.net for reservations.
URL:https://md-post206.org/event/country-line-dancing-lessons-open-to-the-public-4-2/2027-10-28/
LOCATION:Stallings-Williams Post 206 American Legion\, 3330 Chesapeake Beach Rd\, Chesapeake Beach\, MD\, 20732\, United States
CATEGORIES:Dancing
ORGANIZER;CN="Linda Bloyer":MAILTO:lbloyer@verizon.net
END:VEVENT
BEGIN:VEVENT
DTSTART;TZID=America/New_York:20271102T130000
DTEND;TZID=America/New_York:20271102T140000
DTSTAMP:20260424T034345
CREATED:20250401T111021Z
LAST-MODIFIED:20260407T002649Z
UID:10001557-1825160400-1825164000@md-post206.org
SUMMARY:Yoga
DESCRIPTION:Tuesday’s from 1-2pm come unwind with yoga.
URL:https://md-post206.org/event/yoga-4-6/2027-11-02/
LOCATION:Stallings-Williams Post 206 American Legion\, 3330 Chesapeake Beach Rd\, Chesapeake Beach\, MD\, 20732\, United States
CATEGORIES:Special Events
END:VEVENT
BEGIN:VEVENT
DTSTART;TZID=America/New_York:20271102T173000
DTEND;TZID=America/New_York:20271102T190000
DTSTAMP:20260424T034345
CREATED:20250801T000115Z
LAST-MODIFIED:20250801T000115Z
UID:10000578-1825176600-1825182000@md-post206.org
SUMMARY:Steak Night - $25 - Open to the Public
DESCRIPTION:First Tuesday of the month means it’s time for Steak Night. $25 gets you a big steak\, a big baked potato\, vegetables\, a salad and great company.\n\nOpen to the Public.
URL:https://md-post206.org/event/steak-night-20-open-to-the-public-7-2/2027-11-02/
LOCATION:Stallings-Williams Post 206 American Legion\, 3330 Chesapeake Beach Rd\, Chesapeake Beach\, MD\, 20732\, United States
CATEGORIES:Dinner
END:VEVENT
BEGIN:VEVENT
DTSTART;TZID=America/New_York:20271109T130000
DTEND;TZID=America/New_York:20271109T140000
DTSTAMP:20260424T034345
CREATED:20250401T111021Z
LAST-MODIFIED:20260407T002649Z
UID:10001558-1825765200-1825768800@md-post206.org
SUMMARY:Yoga
DESCRIPTION:Tuesday’s from 1-2pm come unwind with yoga.
URL:https://md-post206.org/event/yoga-4-6/2027-11-09/
LOCATION:Stallings-Williams Post 206 American Legion\, 3330 Chesapeake Beach Rd\, Chesapeake Beach\, MD\, 20732\, United States
CATEGORIES:Special Events
END:VEVENT
BEGIN:VEVENT
DTSTART;TZID=America/New_York:20271109T183000
DTEND;TZID=America/New_York:20271109T210000
DTSTAMP:20260424T034345
CREATED:20250120T185330Z
LAST-MODIFIED:20250123T171116Z
UID:10000460-1825785000-1825794000@md-post206.org
SUMMARY:S.A.L. Meeting
DESCRIPTION:
URL:https://md-post206.org/event/s-a-l-meeting-5/2027-11-09/
LOCATION:Stallings-Williams Post 206 American Legion\, 3330 Chesapeake Beach Rd\, Chesapeake Beach\, MD\, 20732\, United States
CATEGORIES:Meetings
END:VEVENT
BEGIN:VEVENT
DTSTART;TZID=America/New_York:20271111T190000
DTEND;TZID=America/New_York:20271111T203000
DTSTAMP:20260424T034345
CREATED:20260330T233301Z
LAST-MODIFIED:20260330T233301Z
UID:10001835-1825959600-1825965000@md-post206.org
SUMMARY:Legion Riders Meeting
DESCRIPTION:
URL:https://md-post206.org/event/legion-riders-meeting-2/2027-11-11/
LOCATION:Stallings-Williams Post 206 American Legion\, 3330 Chesapeake Beach Rd\, Chesapeake Beach\, MD\, 20732\, United States
CATEGORIES:Meetings
END:VEVENT
BEGIN:VEVENT
DTSTART;TZID=America/New_York:20271114T080000
DTEND;TZID=America/New_York:20271114T110000
DTSTAMP:20260424T034345
CREATED:20250715T232713Z
LAST-MODIFIED:20250715T232713Z
UID:10001382-1826179200-1826190000@md-post206.org
SUMMARY:All You Can Eat Breakfast - $15 - Open to the Public
DESCRIPTION:All-You-Can-Eat breakfast. Come on down and enjoy some eggs\, bacon\, sausage\, pancakes\, taters\, biscuits\, two kinds of gravy and more. All for $15.\n\nChildren under 12 eat for free!\n\nOpen to the Public.
URL:https://md-post206.org/event/all-you-can-eat-breakfast-15-open-to-the-public-7/2027-11-14/
LOCATION:Stallings-Williams Post 206 American Legion\, 3330 Chesapeake Beach Rd\, Chesapeake Beach\, MD\, 20732\, United States
CATEGORIES:Breakfast
END:VEVENT
BEGIN:VEVENT
DTSTART;TZID=America/New_York:20271116T130000
DTEND;TZID=America/New_York:20271116T140000
DTSTAMP:20260424T034345
CREATED:20250401T111021Z
LAST-MODIFIED:20260407T002649Z
UID:10001559-1826370000-1826373600@md-post206.org
SUMMARY:Yoga
DESCRIPTION:Tuesday’s from 1-2pm come unwind with yoga.
URL:https://md-post206.org/event/yoga-4-6/2027-11-16/
LOCATION:Stallings-Williams Post 206 American Legion\, 3330 Chesapeake Beach Rd\, Chesapeake Beach\, MD\, 20732\, United States
CATEGORIES:Special Events
END:VEVENT
BEGIN:VEVENT
DTSTART;TZID=America/New_York:20271116T173000
DTEND;TZID=America/New_York:20271116T190000
DTSTAMP:20260424T034345
CREATED:20250801T000200Z
LAST-MODIFIED:20250801T000201Z
UID:10000643-1826386200-1826391600@md-post206.org
SUMMARY:Steak Night - $25 - Open to the Public
DESCRIPTION:Third Tuesday of the month means it’s time for Steak Night. $25 gets you a big steak\, a big baked potato\, vegetables\, a salad and great company.\n\nOpen to the Public.
URL:https://md-post206.org/event/steak-night-20-open-to-the-public-6-2/2027-11-16/
LOCATION:Stallings-Williams Post 206 American Legion\, 3330 Chesapeake Beach Rd\, Chesapeake Beach\, MD\, 20732\, United States
CATEGORIES:Dinner
END:VEVENT
BEGIN:VEVENT
DTSTART;TZID=America/New_York:20271116T190000
DTEND;TZID=America/New_York:20271116T200000
DTSTAMP:20260424T034345
CREATED:20250123T220227Z
LAST-MODIFIED:20251104T163705Z
UID:10001757-1826391600-1826395200@md-post206.org
SUMMARY:Auxiliary Meeting
DESCRIPTION:
URL:https://md-post206.org/event/auxiliary-meeting-2-2/2027-11-16/
LOCATION:Stallings-Williams Post 206 American Legion\, 3330 Chesapeake Beach Rd\, Chesapeake Beach\, MD\, 20732\, United States
CATEGORIES:Meetings
END:VEVENT
BEGIN:VEVENT
DTSTART;TZID=America/New_York:20271117T190000
DTEND;TZID=America/New_York:20271117T203000
DTSTAMP:20260424T034345
CREATED:20250123T171851Z
LAST-MODIFIED:20250123T171851Z
UID:10000927-1826478000-1826483400@md-post206.org
SUMMARY:Executive Committee Meeting
DESCRIPTION:
URL:https://md-post206.org/event/executive-committee-meeting-2-2/2027-11-17/
LOCATION:Stallings-Williams Post 206 American Legion\, 3330 Chesapeake Beach Rd\, Chesapeake Beach\, MD\, 20732\, United States
CATEGORIES:Meetings
END:VEVENT
BEGIN:VEVENT
DTSTART;TZID=America/New_York:20271119T190000
DTEND;TZID=America/New_York:20271119T200000
DTSTAMP:20260424T034345
CREATED:20241230T002545Z
LAST-MODIFIED:20250123T172036Z
UID:10000760-1826650800-1826654400@md-post206.org
SUMMARY:Post Membership Meeting
DESCRIPTION:
URL:https://md-post206.org/event/post-membership-meeting-2/2027-11-19/
LOCATION:Stallings-Williams Post 206 American Legion\, 3330 Chesapeake Beach Rd\, Chesapeake Beach\, MD\, 20732\, United States
CATEGORIES:Meetings
END:VEVENT
BEGIN:VEVENT
DTSTART;TZID=America/New_York:20271123T130000
DTEND;TZID=America/New_York:20271123T140000
DTSTAMP:20260424T034345
CREATED:20250401T111021Z
LAST-MODIFIED:20260407T002649Z
UID:10001560-1826974800-1826978400@md-post206.org
SUMMARY:Yoga
DESCRIPTION:Tuesday’s from 1-2pm come unwind with yoga.
URL:https://md-post206.org/event/yoga-4-6/2027-11-23/
LOCATION:Stallings-Williams Post 206 American Legion\, 3330 Chesapeake Beach Rd\, Chesapeake Beach\, MD\, 20732\, United States
CATEGORIES:Special Events
END:VEVENT
BEGIN:VEVENT
DTSTART;TZID=America/New_York:20271125T183000
DTEND;TZID=America/New_York:20271125T203000
DTSTAMP:20260424T034345
CREATED:20260109T011352Z
LAST-MODIFIED:20260109T011352Z
UID:10000520-1827167400-1827174600@md-post206.org
SUMMARY:Country Line Dancing Lessons - $10 - Open to the Public
DESCRIPTION:Come out and hone your line dancing skills.\n\nContact Linda Bloyer at LBLOYER@verizon.net for reservations.
URL:https://md-post206.org/event/country-line-dancing-lessons-open-to-the-public-4-2/2027-11-25/
LOCATION:Stallings-Williams Post 206 American Legion\, 3330 Chesapeake Beach Rd\, Chesapeake Beach\, MD\, 20732\, United States
CATEGORIES:Dancing
ORGANIZER;CN="Linda Bloyer":MAILTO:lbloyer@verizon.net
END:VEVENT
BEGIN:VEVENT
DTSTART;TZID=America/New_York:20271126T173000
DTEND;TZID=America/New_York:20271126T190000
DTSTAMP:20260424T034345
CREATED:20241230T003055Z
LAST-MODIFIED:20250225T215349Z
UID:10001224-1827250200-1827255600@md-post206.org
SUMMARY:Nam Knights Spaghetti Night - $15 - Open to the Public
DESCRIPTION:Time to come over and taste some that amazing homemade sauce. $15 will fill your belly.\n\nOpen to the Public
URL:https://md-post206.org/event/nam-knights-spaghetti-night-15-open-to-the-public-2/2027-11-26/
LOCATION:Stallings-Williams Post 206 American Legion\, 3330 Chesapeake Beach Rd\, Chesapeake Beach\, MD\, 20732\, United States
CATEGORIES:Dinner
END:VEVENT
BEGIN:VEVENT
DTSTART;TZID=America/New_York:20271126T193000
DTEND;TZID=America/New_York:20271126T233000
DTSTAMP:20260424T034345
CREATED:20250715T230218Z
LAST-MODIFIED:20250715T230218Z
UID:10001315-1827257400-1827271800@md-post206.org
SUMMARY:Karaoke - Free - Open to the Public
DESCRIPTION:Come out and sing the night away!\n\nOpen to the Public.
URL:https://md-post206.org/event/karaoke-free-open-to-the-public-6-2/2027-11-26/
LOCATION:Stallings-Williams Post 206 American Legion\, 3330 Chesapeake Beach Rd\, Chesapeake Beach\, MD\, 20732\, United States
CATEGORIES:Music
END:VEVENT
BEGIN:VEVENT
DTSTART;TZID=America/New_York:20271130T130000
DTEND;TZID=America/New_York:20271130T140000
DTSTAMP:20260424T034345
CREATED:20250401T111021Z
LAST-MODIFIED:20260407T002649Z
UID:10001561-1827579600-1827583200@md-post206.org
SUMMARY:Yoga
DESCRIPTION:Tuesday’s from 1-2pm come unwind with yoga.
URL:https://md-post206.org/event/yoga-4-6/2027-11-30/
LOCATION:Stallings-Williams Post 206 American Legion\, 3330 Chesapeake Beach Rd\, Chesapeake Beach\, MD\, 20732\, United States
CATEGORIES:Special Events
END:VEVENT
BEGIN:VEVENT
DTSTART;TZID=America/New_York:20271207T130000
DTEND;TZID=America/New_York:20271207T140000
DTSTAMP:20260424T034345
CREATED:20250401T111021Z
LAST-MODIFIED:20260407T002649Z
UID:10001562-1828184400-1828188000@md-post206.org
SUMMARY:Yoga
DESCRIPTION:Tuesday’s from 1-2pm come unwind with yoga.
URL:https://md-post206.org/event/yoga-4-6/2027-12-07/
LOCATION:Stallings-Williams Post 206 American Legion\, 3330 Chesapeake Beach Rd\, Chesapeake Beach\, MD\, 20732\, United States
CATEGORIES:Special Events
END:VEVENT
BEGIN:VEVENT
DTSTART;TZID=America/New_York:20271207T173000
DTEND;TZID=America/New_York:20271207T190000
DTSTAMP:20260424T034345
CREATED:20250801T000115Z
LAST-MODIFIED:20250801T000115Z
UID:10000579-1828200600-1828206000@md-post206.org
SUMMARY:Steak Night - $25 - Open to the Public
DESCRIPTION:First Tuesday of the month means it’s time for Steak Night. $25 gets you a big steak\, a big baked potato\, vegetables\, a salad and great company.\n\nOpen to the Public.
URL:https://md-post206.org/event/steak-night-20-open-to-the-public-7-2/2027-12-07/
LOCATION:Stallings-Williams Post 206 American Legion\, 3330 Chesapeake Beach Rd\, Chesapeake Beach\, MD\, 20732\, United States
CATEGORIES:Dinner
END:VEVENT
BEGIN:VEVENT
DTSTART;TZID=America/New_York:20271209T190000
DTEND;TZID=America/New_York:20271209T203000
DTSTAMP:20260424T034345
CREATED:20260330T233301Z
LAST-MODIFIED:20260330T233301Z
UID:10001836-1828378800-1828384200@md-post206.org
SUMMARY:Legion Riders Meeting
DESCRIPTION:
URL:https://md-post206.org/event/legion-riders-meeting-2/2027-12-09/
LOCATION:Stallings-Williams Post 206 American Legion\, 3330 Chesapeake Beach Rd\, Chesapeake Beach\, MD\, 20732\, United States
CATEGORIES:Meetings
END:VEVENT
BEGIN:VEVENT
DTSTART;TZID=America/New_York:20271212T080000
DTEND;TZID=America/New_York:20271212T110000
DTSTAMP:20260424T034345
CREATED:20250715T232713Z
LAST-MODIFIED:20250715T232713Z
UID:10001383-1828598400-1828609200@md-post206.org
SUMMARY:All You Can Eat Breakfast - $15 - Open to the Public
DESCRIPTION:All-You-Can-Eat breakfast. Come on down and enjoy some eggs\, bacon\, sausage\, pancakes\, taters\, biscuits\, two kinds of gravy and more. All for $15.\n\nChildren under 12 eat for free!\n\nOpen to the Public.
URL:https://md-post206.org/event/all-you-can-eat-breakfast-15-open-to-the-public-7/2027-12-12/
LOCATION:Stallings-Williams Post 206 American Legion\, 3330 Chesapeake Beach Rd\, Chesapeake Beach\, MD\, 20732\, United States
CATEGORIES:Breakfast
END:VEVENT
BEGIN:VEVENT
DTSTART;TZID=America/New_York:20271214T130000
DTEND;TZID=America/New_York:20271214T140000
DTSTAMP:20260424T034345
CREATED:20250401T111021Z
LAST-MODIFIED:20260407T002649Z
UID:10001563-1828789200-1828792800@md-post206.org
SUMMARY:Yoga
DESCRIPTION:Tuesday’s from 1-2pm come unwind with yoga.
URL:https://md-post206.org/event/yoga-4-6/2027-12-14/
LOCATION:Stallings-Williams Post 206 American Legion\, 3330 Chesapeake Beach Rd\, Chesapeake Beach\, MD\, 20732\, United States
CATEGORIES:Special Events
END:VEVENT
BEGIN:VEVENT
DTSTART;TZID=America/New_York:20271214T183000
DTEND;TZID=America/New_York:20271214T210000
DTSTAMP:20260424T034345
CREATED:20250120T185330Z
LAST-MODIFIED:20250123T171116Z
UID:10000461-1828809000-1828818000@md-post206.org
SUMMARY:S.A.L. Meeting
DESCRIPTION:
URL:https://md-post206.org/event/s-a-l-meeting-5/2027-12-14/
LOCATION:Stallings-Williams Post 206 American Legion\, 3330 Chesapeake Beach Rd\, Chesapeake Beach\, MD\, 20732\, United States
CATEGORIES:Meetings
END:VEVENT
END:VCALENDAR