BEGIN:VCALENDAR
VERSION:2.0
PRODID:-//Stallings-Williams Post 206 - ECPv6.15.20//NONSGML v1.0//EN
CALSCALE:GREGORIAN
METHOD:PUBLISH
X-WR-CALNAME:Stallings-Williams Post 206
X-ORIGINAL-URL:https://md-post206.org
X-WR-CALDESC:Events for Stallings-Williams Post 206
REFRESH-INTERVAL;VALUE=DURATION:PT1H
X-Robots-Tag:noindex
X-PUBLISHED-TTL:PT1H
BEGIN:VTIMEZONE
TZID:America/New_York
BEGIN:DAYLIGHT
TZOFFSETFROM:-0500
TZOFFSETTO:-0400
TZNAME:EDT
DTSTART:20270314T070000
END:DAYLIGHT
BEGIN:STANDARD
TZOFFSETFROM:-0400
TZOFFSETTO:-0500
TZNAME:EST
DTSTART:20271107T060000
END:STANDARD
BEGIN:DAYLIGHT
TZOFFSETFROM:-0500
TZOFFSETTO:-0400
TZNAME:EDT
DTSTART:20280312T070000
END:DAYLIGHT
BEGIN:STANDARD
TZOFFSETFROM:-0400
TZOFFSETTO:-0500
TZNAME:EST
DTSTART:20281105T060000
END:STANDARD
BEGIN:DAYLIGHT
TZOFFSETFROM:-0500
TZOFFSETTO:-0400
TZNAME:EDT
DTSTART:20290311T070000
END:DAYLIGHT
BEGIN:STANDARD
TZOFFSETFROM:-0400
TZOFFSETTO:-0500
TZNAME:EST
DTSTART:20291104T060000
END:STANDARD
END:VTIMEZONE
BEGIN:VEVENT
DTSTART;TZID=America/New_York:20280104T130000
DTEND;TZID=America/New_York:20280104T140000
DTSTAMP:20260425T082713
CREATED:20250401T111021Z
LAST-MODIFIED:20260407T002649Z
UID:10001566-1830603600-1830607200@md-post206.org
SUMMARY:Yoga
DESCRIPTION:Tuesday’s from 1-2pm come unwind with yoga.
URL:https://md-post206.org/event/yoga-4-6/2028-01-04/
LOCATION:Stallings-Williams Post 206 American Legion\, 3330 Chesapeake Beach Rd\, Chesapeake Beach\, MD\, 20732\, United States
CATEGORIES:Special Events
END:VEVENT
BEGIN:VEVENT
DTSTART;TZID=America/New_York:20280104T173000
DTEND;TZID=America/New_York:20280104T190000
DTSTAMP:20260425T082713
CREATED:20250801T000115Z
LAST-MODIFIED:20250801T000115Z
UID:10000580-1830619800-1830625200@md-post206.org
SUMMARY:Steak Night - $25 - Open to the Public
DESCRIPTION:First Tuesday of the month means it’s time for Steak Night. $25 gets you a big steak\, a big baked potato\, vegetables\, a salad and great company.\n\nOpen to the Public.
URL:https://md-post206.org/event/steak-night-20-open-to-the-public-7-2/2028-01-04/
LOCATION:Stallings-Williams Post 206 American Legion\, 3330 Chesapeake Beach Rd\, Chesapeake Beach\, MD\, 20732\, United States
CATEGORIES:Dinner
END:VEVENT
BEGIN:VEVENT
DTSTART;TZID=America/New_York:20280109T080000
DTEND;TZID=America/New_York:20280109T110000
DTSTAMP:20260425T082713
CREATED:20250715T232713Z
LAST-MODIFIED:20250715T232713Z
UID:10001384-1831017600-1831028400@md-post206.org
SUMMARY:All You Can Eat Breakfast - $15 - Open to the Public
DESCRIPTION:All-You-Can-Eat breakfast. Come on down and enjoy some eggs\, bacon\, sausage\, pancakes\, taters\, biscuits\, two kinds of gravy and more. All for $15.\n\nChildren under 12 eat for free!\n\nOpen to the Public.
URL:https://md-post206.org/event/all-you-can-eat-breakfast-15-open-to-the-public-7/2028-01-09/
LOCATION:Stallings-Williams Post 206 American Legion\, 3330 Chesapeake Beach Rd\, Chesapeake Beach\, MD\, 20732\, United States
CATEGORIES:Breakfast
END:VEVENT
BEGIN:VEVENT
DTSTART;TZID=America/New_York:20280111T130000
DTEND;TZID=America/New_York:20280111T140000
DTSTAMP:20260425T082713
CREATED:20250401T111021Z
LAST-MODIFIED:20260407T002649Z
UID:10001567-1831208400-1831212000@md-post206.org
SUMMARY:Yoga
DESCRIPTION:Tuesday’s from 1-2pm come unwind with yoga.
URL:https://md-post206.org/event/yoga-4-6/2028-01-11/
LOCATION:Stallings-Williams Post 206 American Legion\, 3330 Chesapeake Beach Rd\, Chesapeake Beach\, MD\, 20732\, United States
CATEGORIES:Special Events
END:VEVENT
BEGIN:VEVENT
DTSTART;TZID=America/New_York:20280111T183000
DTEND;TZID=America/New_York:20280111T210000
DTSTAMP:20260425T082713
CREATED:20250120T185330Z
LAST-MODIFIED:20250123T171116Z
UID:10000462-1831228200-1831237200@md-post206.org
SUMMARY:S.A.L. Meeting
DESCRIPTION:
URL:https://md-post206.org/event/s-a-l-meeting-5/2028-01-11/
LOCATION:Stallings-Williams Post 206 American Legion\, 3330 Chesapeake Beach Rd\, Chesapeake Beach\, MD\, 20732\, United States
CATEGORIES:Meetings
END:VEVENT
BEGIN:VEVENT
DTSTART;TZID=America/New_York:20280113T190000
DTEND;TZID=America/New_York:20280113T203000
DTSTAMP:20260425T082713
CREATED:20260330T233301Z
LAST-MODIFIED:20260330T233301Z
UID:10001837-1831402800-1831408200@md-post206.org
SUMMARY:Legion Riders Meeting
DESCRIPTION:
URL:https://md-post206.org/event/legion-riders-meeting-2/2028-01-13/
LOCATION:Stallings-Williams Post 206 American Legion\, 3330 Chesapeake Beach Rd\, Chesapeake Beach\, MD\, 20732\, United States
CATEGORIES:Meetings
END:VEVENT
BEGIN:VEVENT
DTSTART;TZID=America/New_York:20280118T130000
DTEND;TZID=America/New_York:20280118T140000
DTSTAMP:20260425T082713
CREATED:20250401T111021Z
LAST-MODIFIED:20260407T002649Z
UID:10001568-1831813200-1831816800@md-post206.org
SUMMARY:Yoga
DESCRIPTION:Tuesday’s from 1-2pm come unwind with yoga.
URL:https://md-post206.org/event/yoga-4-6/2028-01-18/
LOCATION:Stallings-Williams Post 206 American Legion\, 3330 Chesapeake Beach Rd\, Chesapeake Beach\, MD\, 20732\, United States
CATEGORIES:Special Events
END:VEVENT
BEGIN:VEVENT
DTSTART;TZID=America/New_York:20280118T173000
DTEND;TZID=America/New_York:20280118T190000
DTSTAMP:20260425T082713
CREATED:20250801T000200Z
LAST-MODIFIED:20250801T000201Z
UID:10000645-1831829400-1831834800@md-post206.org
SUMMARY:Steak Night - $25 - Open to the Public
DESCRIPTION:Third Tuesday of the month means it’s time for Steak Night. $25 gets you a big steak\, a big baked potato\, vegetables\, a salad and great company.\n\nOpen to the Public.
URL:https://md-post206.org/event/steak-night-20-open-to-the-public-6-2/2028-01-18/
LOCATION:Stallings-Williams Post 206 American Legion\, 3330 Chesapeake Beach Rd\, Chesapeake Beach\, MD\, 20732\, United States
CATEGORIES:Dinner
END:VEVENT
BEGIN:VEVENT
DTSTART;TZID=America/New_York:20280118T190000
DTEND;TZID=America/New_York:20280118T200000
DTSTAMP:20260425T082713
CREATED:20250123T220227Z
LAST-MODIFIED:20251104T163705Z
UID:10001758-1831834800-1831838400@md-post206.org
SUMMARY:Auxiliary Meeting
DESCRIPTION:
URL:https://md-post206.org/event/auxiliary-meeting-2-2/2028-01-18/
LOCATION:Stallings-Williams Post 206 American Legion\, 3330 Chesapeake Beach Rd\, Chesapeake Beach\, MD\, 20732\, United States
CATEGORIES:Meetings
END:VEVENT
BEGIN:VEVENT
DTSTART;TZID=America/New_York:20280119T190000
DTEND;TZID=America/New_York:20280119T203000
DTSTAMP:20260425T082713
CREATED:20250123T171851Z
LAST-MODIFIED:20250123T171851Z
UID:10000929-1831921200-1831926600@md-post206.org
SUMMARY:Executive Committee Meeting
DESCRIPTION:
URL:https://md-post206.org/event/executive-committee-meeting-2-2/2028-01-19/
LOCATION:Stallings-Williams Post 206 American Legion\, 3330 Chesapeake Beach Rd\, Chesapeake Beach\, MD\, 20732\, United States
CATEGORIES:Meetings
END:VEVENT
BEGIN:VEVENT
DTSTART;TZID=America/New_York:20280121T190000
DTEND;TZID=America/New_York:20280121T200000
DTSTAMP:20260425T082713
CREATED:20241230T002545Z
LAST-MODIFIED:20250123T172036Z
UID:10000762-1832094000-1832097600@md-post206.org
SUMMARY:Post Membership Meeting
DESCRIPTION:
URL:https://md-post206.org/event/post-membership-meeting-2/2028-01-21/
LOCATION:Stallings-Williams Post 206 American Legion\, 3330 Chesapeake Beach Rd\, Chesapeake Beach\, MD\, 20732\, United States
CATEGORIES:Meetings
END:VEVENT
BEGIN:VEVENT
DTSTART;TZID=America/New_York:20280125T130000
DTEND;TZID=America/New_York:20280125T140000
DTSTAMP:20260425T082713
CREATED:20250401T111021Z
LAST-MODIFIED:20260407T002649Z
UID:10001569-1832418000-1832421600@md-post206.org
SUMMARY:Yoga
DESCRIPTION:Tuesday’s from 1-2pm come unwind with yoga.
URL:https://md-post206.org/event/yoga-4-6/2028-01-25/
LOCATION:Stallings-Williams Post 206 American Legion\, 3330 Chesapeake Beach Rd\, Chesapeake Beach\, MD\, 20732\, United States
CATEGORIES:Special Events
END:VEVENT
BEGIN:VEVENT
DTSTART;TZID=America/New_York:20280127T183000
DTEND;TZID=America/New_York:20280127T203000
DTSTAMP:20260425T082713
CREATED:20260109T011352Z
LAST-MODIFIED:20260109T011352Z
UID:10000522-1832610600-1832617800@md-post206.org
SUMMARY:Country Line Dancing Lessons - $10 - Open to the Public
DESCRIPTION:Come out and hone your line dancing skills.\n\nContact Linda Bloyer at LBLOYER@verizon.net for reservations.
URL:https://md-post206.org/event/country-line-dancing-lessons-open-to-the-public-4-2/2028-01-27/
LOCATION:Stallings-Williams Post 206 American Legion\, 3330 Chesapeake Beach Rd\, Chesapeake Beach\, MD\, 20732\, United States
CATEGORIES:Dancing
ORGANIZER;CN="Linda Bloyer":MAILTO:lbloyer@verizon.net
END:VEVENT
BEGIN:VEVENT
DTSTART;TZID=America/New_York:20280128T173000
DTEND;TZID=America/New_York:20280128T190000
DTSTAMP:20260425T082713
CREATED:20241230T003055Z
LAST-MODIFIED:20250225T215349Z
UID:10001226-1832693400-1832698800@md-post206.org
SUMMARY:Nam Knights Spaghetti Night - $15 - Open to the Public
DESCRIPTION:Time to come over and taste some that amazing homemade sauce. $15 will fill your belly.\n\nOpen to the Public
URL:https://md-post206.org/event/nam-knights-spaghetti-night-15-open-to-the-public-2/2028-01-28/
LOCATION:Stallings-Williams Post 206 American Legion\, 3330 Chesapeake Beach Rd\, Chesapeake Beach\, MD\, 20732\, United States
CATEGORIES:Dinner
END:VEVENT
BEGIN:VEVENT
DTSTART;TZID=America/New_York:20280128T193000
DTEND;TZID=America/New_York:20280128T233000
DTSTAMP:20260425T082713
CREATED:20250715T230218Z
LAST-MODIFIED:20250715T230218Z
UID:10001317-1832700600-1832715000@md-post206.org
SUMMARY:Karaoke - Free - Open to the Public
DESCRIPTION:Come out and sing the night away!\n\nOpen to the Public.
URL:https://md-post206.org/event/karaoke-free-open-to-the-public-6-2/2028-01-28/
LOCATION:Stallings-Williams Post 206 American Legion\, 3330 Chesapeake Beach Rd\, Chesapeake Beach\, MD\, 20732\, United States
CATEGORIES:Music
END:VEVENT
BEGIN:VEVENT
DTSTART;TZID=America/New_York:20280201T130000
DTEND;TZID=America/New_York:20280201T140000
DTSTAMP:20260425T082713
CREATED:20250401T111021Z
LAST-MODIFIED:20260407T002649Z
UID:10001570-1833022800-1833026400@md-post206.org
SUMMARY:Yoga
DESCRIPTION:Tuesday’s from 1-2pm come unwind with yoga.
URL:https://md-post206.org/event/yoga-4-6/2028-02-01/
LOCATION:Stallings-Williams Post 206 American Legion\, 3330 Chesapeake Beach Rd\, Chesapeake Beach\, MD\, 20732\, United States
CATEGORIES:Special Events
END:VEVENT
BEGIN:VEVENT
DTSTART;TZID=America/New_York:20280201T173000
DTEND;TZID=America/New_York:20280201T190000
DTSTAMP:20260425T082713
CREATED:20250801T000115Z
LAST-MODIFIED:20250801T000115Z
UID:10000581-1833039000-1833044400@md-post206.org
SUMMARY:Steak Night - $25 - Open to the Public
DESCRIPTION:First Tuesday of the month means it’s time for Steak Night. $25 gets you a big steak\, a big baked potato\, vegetables\, a salad and great company.\n\nOpen to the Public.
URL:https://md-post206.org/event/steak-night-20-open-to-the-public-7-2/2028-02-01/
LOCATION:Stallings-Williams Post 206 American Legion\, 3330 Chesapeake Beach Rd\, Chesapeake Beach\, MD\, 20732\, United States
CATEGORIES:Dinner
END:VEVENT
BEGIN:VEVENT
DTSTART;TZID=America/New_York:20280208T130000
DTEND;TZID=America/New_York:20280208T140000
DTSTAMP:20260425T082713
CREATED:20250401T111021Z
LAST-MODIFIED:20260407T002649Z
UID:10001571-1833627600-1833631200@md-post206.org
SUMMARY:Yoga
DESCRIPTION:Tuesday’s from 1-2pm come unwind with yoga.
URL:https://md-post206.org/event/yoga-4-6/2028-02-08/
LOCATION:Stallings-Williams Post 206 American Legion\, 3330 Chesapeake Beach Rd\, Chesapeake Beach\, MD\, 20732\, United States
CATEGORIES:Special Events
END:VEVENT
BEGIN:VEVENT
DTSTART;TZID=America/New_York:20280208T183000
DTEND;TZID=America/New_York:20280208T210000
DTSTAMP:20260425T082713
CREATED:20250120T185330Z
LAST-MODIFIED:20250123T171116Z
UID:10000463-1833647400-1833656400@md-post206.org
SUMMARY:S.A.L. Meeting
DESCRIPTION:
URL:https://md-post206.org/event/s-a-l-meeting-5/2028-02-08/
LOCATION:Stallings-Williams Post 206 American Legion\, 3330 Chesapeake Beach Rd\, Chesapeake Beach\, MD\, 20732\, United States
CATEGORIES:Meetings
END:VEVENT
BEGIN:VEVENT
DTSTART;TZID=America/New_York:20280210T190000
DTEND;TZID=America/New_York:20280210T203000
DTSTAMP:20260425T082713
CREATED:20260330T233301Z
LAST-MODIFIED:20260330T233301Z
UID:10001838-1833822000-1833827400@md-post206.org
SUMMARY:Legion Riders Meeting
DESCRIPTION:
URL:https://md-post206.org/event/legion-riders-meeting-2/2028-02-10/
LOCATION:Stallings-Williams Post 206 American Legion\, 3330 Chesapeake Beach Rd\, Chesapeake Beach\, MD\, 20732\, United States
CATEGORIES:Meetings
END:VEVENT
BEGIN:VEVENT
DTSTART;TZID=America/New_York:20280213T080000
DTEND;TZID=America/New_York:20280213T110000
DTSTAMP:20260425T082713
CREATED:20250715T232713Z
LAST-MODIFIED:20250715T232713Z
UID:10001385-1834041600-1834052400@md-post206.org
SUMMARY:All You Can Eat Breakfast - $15 - Open to the Public
DESCRIPTION:All-You-Can-Eat breakfast. Come on down and enjoy some eggs\, bacon\, sausage\, pancakes\, taters\, biscuits\, two kinds of gravy and more. All for $15.\n\nChildren under 12 eat for free!\n\nOpen to the Public.
URL:https://md-post206.org/event/all-you-can-eat-breakfast-15-open-to-the-public-7/2028-02-13/
LOCATION:Stallings-Williams Post 206 American Legion\, 3330 Chesapeake Beach Rd\, Chesapeake Beach\, MD\, 20732\, United States
CATEGORIES:Breakfast
END:VEVENT
BEGIN:VEVENT
DTSTART;TZID=America/New_York:20280215T130000
DTEND;TZID=America/New_York:20280215T140000
DTSTAMP:20260425T082713
CREATED:20250401T111021Z
LAST-MODIFIED:20260407T002649Z
UID:10001572-1834232400-1834236000@md-post206.org
SUMMARY:Yoga
DESCRIPTION:Tuesday’s from 1-2pm come unwind with yoga.
URL:https://md-post206.org/event/yoga-4-6/2028-02-15/
LOCATION:Stallings-Williams Post 206 American Legion\, 3330 Chesapeake Beach Rd\, Chesapeake Beach\, MD\, 20732\, United States
CATEGORIES:Special Events
END:VEVENT
BEGIN:VEVENT
DTSTART;TZID=America/New_York:20280215T173000
DTEND;TZID=America/New_York:20280215T190000
DTSTAMP:20260425T082713
CREATED:20250801T000200Z
LAST-MODIFIED:20250801T000201Z
UID:10000646-1834248600-1834254000@md-post206.org
SUMMARY:Steak Night - $25 - Open to the Public
DESCRIPTION:Third Tuesday of the month means it’s time for Steak Night. $25 gets you a big steak\, a big baked potato\, vegetables\, a salad and great company.\n\nOpen to the Public.
URL:https://md-post206.org/event/steak-night-20-open-to-the-public-6-2/2028-02-15/
LOCATION:Stallings-Williams Post 206 American Legion\, 3330 Chesapeake Beach Rd\, Chesapeake Beach\, MD\, 20732\, United States
CATEGORIES:Dinner
END:VEVENT
BEGIN:VEVENT
DTSTART;TZID=America/New_York:20280216T190000
DTEND;TZID=America/New_York:20280216T203000
DTSTAMP:20260425T082713
CREATED:20250123T171851Z
LAST-MODIFIED:20250123T171851Z
UID:10000930-1834340400-1834345800@md-post206.org
SUMMARY:Executive Committee Meeting
DESCRIPTION:
URL:https://md-post206.org/event/executive-committee-meeting-2-2/2028-02-16/
LOCATION:Stallings-Williams Post 206 American Legion\, 3330 Chesapeake Beach Rd\, Chesapeake Beach\, MD\, 20732\, United States
CATEGORIES:Meetings
END:VEVENT
BEGIN:VEVENT
DTSTART;TZID=America/New_York:20280218T190000
DTEND;TZID=America/New_York:20280218T200000
DTSTAMP:20260425T082713
CREATED:20241230T002545Z
LAST-MODIFIED:20250123T172036Z
UID:10000763-1834513200-1834516800@md-post206.org
SUMMARY:Post Membership Meeting
DESCRIPTION:
URL:https://md-post206.org/event/post-membership-meeting-2/2028-02-18/
LOCATION:Stallings-Williams Post 206 American Legion\, 3330 Chesapeake Beach Rd\, Chesapeake Beach\, MD\, 20732\, United States
CATEGORIES:Meetings
END:VEVENT
BEGIN:VEVENT
DTSTART;TZID=America/New_York:20280222T130000
DTEND;TZID=America/New_York:20280222T140000
DTSTAMP:20260425T082713
CREATED:20250401T111021Z
LAST-MODIFIED:20260407T002649Z
UID:10001573-1834837200-1834840800@md-post206.org
SUMMARY:Yoga
DESCRIPTION:Tuesday’s from 1-2pm come unwind with yoga.
URL:https://md-post206.org/event/yoga-4-6/2028-02-22/
LOCATION:Stallings-Williams Post 206 American Legion\, 3330 Chesapeake Beach Rd\, Chesapeake Beach\, MD\, 20732\, United States
CATEGORIES:Special Events
END:VEVENT
BEGIN:VEVENT
DTSTART;TZID=America/New_York:20280224T183000
DTEND;TZID=America/New_York:20280224T203000
DTSTAMP:20260425T082713
CREATED:20260109T011352Z
LAST-MODIFIED:20260109T011352Z
UID:10000523-1835029800-1835037000@md-post206.org
SUMMARY:Country Line Dancing Lessons - $10 - Open to the Public
DESCRIPTION:Come out and hone your line dancing skills.\n\nContact Linda Bloyer at LBLOYER@verizon.net for reservations.
URL:https://md-post206.org/event/country-line-dancing-lessons-open-to-the-public-4-2/2028-02-24/
LOCATION:Stallings-Williams Post 206 American Legion\, 3330 Chesapeake Beach Rd\, Chesapeake Beach\, MD\, 20732\, United States
CATEGORIES:Dancing
ORGANIZER;CN="Linda Bloyer":MAILTO:lbloyer@verizon.net
END:VEVENT
BEGIN:VEVENT
DTSTART;TZID=America/New_York:20280225T173000
DTEND;TZID=America/New_York:20280225T190000
DTSTAMP:20260425T082713
CREATED:20241230T003055Z
LAST-MODIFIED:20250225T215349Z
UID:10001227-1835112600-1835118000@md-post206.org
SUMMARY:Nam Knights Spaghetti Night - $15 - Open to the Public
DESCRIPTION:Time to come over and taste some that amazing homemade sauce. $15 will fill your belly.\n\nOpen to the Public
URL:https://md-post206.org/event/nam-knights-spaghetti-night-15-open-to-the-public-2/2028-02-25/
LOCATION:Stallings-Williams Post 206 American Legion\, 3330 Chesapeake Beach Rd\, Chesapeake Beach\, MD\, 20732\, United States
CATEGORIES:Dinner
END:VEVENT
BEGIN:VEVENT
DTSTART;TZID=America/New_York:20280225T193000
DTEND;TZID=America/New_York:20280225T233000
DTSTAMP:20260425T082713
CREATED:20250715T230218Z
LAST-MODIFIED:20250715T230218Z
UID:10001318-1835119800-1835134200@md-post206.org
SUMMARY:Karaoke - Free - Open to the Public
DESCRIPTION:Come out and sing the night away!\n\nOpen to the Public.
URL:https://md-post206.org/event/karaoke-free-open-to-the-public-6-2/2028-02-25/
LOCATION:Stallings-Williams Post 206 American Legion\, 3330 Chesapeake Beach Rd\, Chesapeake Beach\, MD\, 20732\, United States
CATEGORIES:Music
END:VEVENT
BEGIN:VEVENT
DTSTART;TZID=America/New_York:20280229T130000
DTEND;TZID=America/New_York:20280229T140000
DTSTAMP:20260425T082713
CREATED:20250401T111021Z
LAST-MODIFIED:20260407T002649Z
UID:10001574-1835442000-1835445600@md-post206.org
SUMMARY:Yoga
DESCRIPTION:Tuesday’s from 1-2pm come unwind with yoga.
URL:https://md-post206.org/event/yoga-4-6/2028-02-29/
LOCATION:Stallings-Williams Post 206 American Legion\, 3330 Chesapeake Beach Rd\, Chesapeake Beach\, MD\, 20732\, United States
CATEGORIES:Special Events
END:VEVENT
END:VCALENDAR