BEGIN:VCALENDAR
VERSION:2.0
PRODID:-//Stallings-Williams Post 206 - ECPv6.15.20//NONSGML v1.0//EN
CALSCALE:GREGORIAN
METHOD:PUBLISH
X-ORIGINAL-URL:https://md-post206.org
X-WR-CALDESC:Events for Stallings-Williams Post 206
REFRESH-INTERVAL;VALUE=DURATION:PT1H
X-Robots-Tag:noindex
X-PUBLISHED-TTL:PT1H
BEGIN:VTIMEZONE
TZID:America/New_York
BEGIN:DAYLIGHT
TZOFFSETFROM:-0500
TZOFFSETTO:-0400
TZNAME:EDT
DTSTART:20250309T070000
END:DAYLIGHT
BEGIN:STANDARD
TZOFFSETFROM:-0400
TZOFFSETTO:-0500
TZNAME:EST
DTSTART:20251102T060000
END:STANDARD
BEGIN:DAYLIGHT
TZOFFSETFROM:-0500
TZOFFSETTO:-0400
TZNAME:EDT
DTSTART:20260308T070000
END:DAYLIGHT
BEGIN:STANDARD
TZOFFSETFROM:-0400
TZOFFSETTO:-0500
TZNAME:EST
DTSTART:20261101T060000
END:STANDARD
BEGIN:DAYLIGHT
TZOFFSETFROM:-0500
TZOFFSETTO:-0400
TZNAME:EDT
DTSTART:20270314T070000
END:DAYLIGHT
BEGIN:STANDARD
TZOFFSETFROM:-0400
TZOFFSETTO:-0500
TZNAME:EST
DTSTART:20271107T060000
END:STANDARD
END:VTIMEZONE
BEGIN:VEVENT
DTSTART;TZID=America/New_York:20260707T130000
DTEND;TZID=America/New_York:20260707T140000
DTSTAMP:20260419T145102
CREATED:20250401T111021Z
LAST-MODIFIED:20260407T002649Z
UID:10001488-1783429200-1783432800@md-post206.org
SUMMARY:Yoga
DESCRIPTION:Tuesday’s from 1-2pm come unwind with yoga.
URL:https://md-post206.org/event/yoga-4-6/2026-07-07/
LOCATION:Stallings-Williams Post 206 American Legion\, 3330 Chesapeake Beach Rd\, Chesapeake Beach\, MD\, 20732\, United States
CATEGORIES:Special Events
END:VEVENT
BEGIN:VEVENT
DTSTART;TZID=America/New_York:20260709T190000
DTEND;TZID=America/New_York:20260709T203000
DTSTAMP:20260419T145102
CREATED:20260330T233301Z
LAST-MODIFIED:20260330T233301Z
UID:10001819-1783623600-1783629000@md-post206.org
SUMMARY:Legion Riders Meeting
DESCRIPTION:
URL:https://md-post206.org/event/legion-riders-meeting-2/2026-07-09/
LOCATION:Stallings-Williams Post 206 American Legion\, 3330 Chesapeake Beach Rd\, Chesapeake Beach\, MD\, 20732\, United States
CATEGORIES:Meetings
END:VEVENT
BEGIN:VEVENT
DTSTART;TZID=America/New_York:20260714T130000
DTEND;TZID=America/New_York:20260714T140000
DTSTAMP:20260419T145102
CREATED:20250401T111021Z
LAST-MODIFIED:20260407T002649Z
UID:10001489-1784034000-1784037600@md-post206.org
SUMMARY:Yoga
DESCRIPTION:Tuesday’s from 1-2pm come unwind with yoga.
URL:https://md-post206.org/event/yoga-4-6/2026-07-14/
LOCATION:Stallings-Williams Post 206 American Legion\, 3330 Chesapeake Beach Rd\, Chesapeake Beach\, MD\, 20732\, United States
CATEGORIES:Special Events
END:VEVENT
BEGIN:VEVENT
DTSTART;TZID=America/New_York:20260721T130000
DTEND;TZID=America/New_York:20260721T140000
DTSTAMP:20260419T145102
CREATED:20250401T111021Z
LAST-MODIFIED:20260407T002649Z
UID:10001490-1784638800-1784642400@md-post206.org
SUMMARY:Yoga
DESCRIPTION:Tuesday’s from 1-2pm come unwind with yoga.
URL:https://md-post206.org/event/yoga-4-6/2026-07-21/
LOCATION:Stallings-Williams Post 206 American Legion\, 3330 Chesapeake Beach Rd\, Chesapeake Beach\, MD\, 20732\, United States
CATEGORIES:Special Events
END:VEVENT
BEGIN:VEVENT
DTSTART;TZID=America/New_York:20260723T183000
DTEND;TZID=America/New_York:20260723T203000
DTSTAMP:20260419T145102
CREATED:20260109T011352Z
LAST-MODIFIED:20260109T011352Z
UID:10000504-1784831400-1784838600@md-post206.org
SUMMARY:Country Line Dancing Lessons - $10 - Open to the Public
DESCRIPTION:Come out and hone your line dancing skills.\n\nContact Linda Bloyer at LBLOYER@verizon.net for reservations.
URL:https://md-post206.org/event/country-line-dancing-lessons-open-to-the-public-4-2/2026-07-23/
LOCATION:Stallings-Williams Post 206 American Legion\, 3330 Chesapeake Beach Rd\, Chesapeake Beach\, MD\, 20732\, United States
CATEGORIES:Dancing
ORGANIZER;CN="Linda Bloyer":MAILTO:lbloyer@verizon.net
END:VEVENT
BEGIN:VEVENT
DTSTART;TZID=America/New_York:20260724T193000
DTEND;TZID=America/New_York:20260724T233000
DTSTAMP:20260419T145102
CREATED:20250715T230218Z
LAST-MODIFIED:20250715T230218Z
UID:10001299-1784921400-1784935800@md-post206.org
SUMMARY:Karaoke - Free - Open to the Public
DESCRIPTION:Come out and sing the night away!\n\nOpen to the Public.
URL:https://md-post206.org/event/karaoke-free-open-to-the-public-6-2/2026-07-24/
LOCATION:Stallings-Williams Post 206 American Legion\, 3330 Chesapeake Beach Rd\, Chesapeake Beach\, MD\, 20732\, United States
CATEGORIES:Music
END:VEVENT
BEGIN:VEVENT
DTSTART;TZID=America/New_York:20260728T130000
DTEND;TZID=America/New_York:20260728T140000
DTSTAMP:20260419T145102
CREATED:20250401T111021Z
LAST-MODIFIED:20260407T002649Z
UID:10001491-1785243600-1785247200@md-post206.org
SUMMARY:Yoga
DESCRIPTION:Tuesday’s from 1-2pm come unwind with yoga.
URL:https://md-post206.org/event/yoga-4-6/2026-07-28/
LOCATION:Stallings-Williams Post 206 American Legion\, 3330 Chesapeake Beach Rd\, Chesapeake Beach\, MD\, 20732\, United States
CATEGORIES:Special Events
END:VEVENT
BEGIN:VEVENT
DTSTART;TZID=America/New_York:20260804T130000
DTEND;TZID=America/New_York:20260804T140000
DTSTAMP:20260419T145102
CREATED:20250401T111021Z
LAST-MODIFIED:20260407T002649Z
UID:10001492-1785848400-1785852000@md-post206.org
SUMMARY:Yoga
DESCRIPTION:Tuesday’s from 1-2pm come unwind with yoga.
URL:https://md-post206.org/event/yoga-4-6/2026-08-04/
LOCATION:Stallings-Williams Post 206 American Legion\, 3330 Chesapeake Beach Rd\, Chesapeake Beach\, MD\, 20732\, United States
CATEGORIES:Special Events
END:VEVENT
BEGIN:VEVENT
DTSTART;TZID=America/New_York:20260807T173000
DTEND;TZID=America/New_York:20260807T190000
DTSTAMP:20260419T145102
CREATED:20240509T232316Z
LAST-MODIFIED:20250123T171351Z
UID:10000792-1786123800-1786129200@md-post206.org
SUMMARY:Friday Dinners and Steak Dinners will resume in September
DESCRIPTION:Dinners will return in September.
URL:https://md-post206.org/event/friday-dinners-and-steak-dinners-will-resume-in-september-2/2026-08-07/
LOCATION:Stallings-Williams Post 206 American Legion\, 3330 Chesapeake Beach Rd\, Chesapeake Beach\, MD\, 20732\, United States
CATEGORIES:Dinner
END:VEVENT
BEGIN:VEVENT
DTSTART;TZID=America/New_York:20260811T130000
DTEND;TZID=America/New_York:20260811T140000
DTSTAMP:20260419T145102
CREATED:20250401T111021Z
LAST-MODIFIED:20260407T002649Z
UID:10001493-1786453200-1786456800@md-post206.org
SUMMARY:Yoga
DESCRIPTION:Tuesday’s from 1-2pm come unwind with yoga.
URL:https://md-post206.org/event/yoga-4-6/2026-08-11/
LOCATION:Stallings-Williams Post 206 American Legion\, 3330 Chesapeake Beach Rd\, Chesapeake Beach\, MD\, 20732\, United States
CATEGORIES:Special Events
END:VEVENT
BEGIN:VEVENT
DTSTART;TZID=America/New_York:20260811T183000
DTEND;TZID=America/New_York:20260811T210000
DTSTAMP:20260419T145102
CREATED:20250120T185330Z
LAST-MODIFIED:20250123T171116Z
UID:10000445-1786473000-1786482000@md-post206.org
SUMMARY:S.A.L. Meeting
DESCRIPTION:
URL:https://md-post206.org/event/s-a-l-meeting-5/2026-08-11/
LOCATION:Stallings-Williams Post 206 American Legion\, 3330 Chesapeake Beach Rd\, Chesapeake Beach\, MD\, 20732\, United States
CATEGORIES:Meetings
END:VEVENT
BEGIN:VEVENT
DTSTART;TZID=America/New_York:20260813T190000
DTEND;TZID=America/New_York:20260813T203000
DTSTAMP:20260419T145102
CREATED:20260330T233301Z
LAST-MODIFIED:20260330T233301Z
UID:10001820-1786647600-1786653000@md-post206.org
SUMMARY:Legion Riders Meeting
DESCRIPTION:
URL:https://md-post206.org/event/legion-riders-meeting-2/2026-08-13/
LOCATION:Stallings-Williams Post 206 American Legion\, 3330 Chesapeake Beach Rd\, Chesapeake Beach\, MD\, 20732\, United States
CATEGORIES:Meetings
END:VEVENT
BEGIN:VEVENT
DTSTART;TZID=America/New_York:20260818T130000
DTEND;TZID=America/New_York:20260818T140000
DTSTAMP:20260419T145102
CREATED:20250401T111021Z
LAST-MODIFIED:20260407T002649Z
UID:10001494-1787058000-1787061600@md-post206.org
SUMMARY:Yoga
DESCRIPTION:Tuesday’s from 1-2pm come unwind with yoga.
URL:https://md-post206.org/event/yoga-4-6/2026-08-18/
LOCATION:Stallings-Williams Post 206 American Legion\, 3330 Chesapeake Beach Rd\, Chesapeake Beach\, MD\, 20732\, United States
CATEGORIES:Special Events
END:VEVENT
BEGIN:VEVENT
DTSTART;TZID=America/New_York:20260818T190000
DTEND;TZID=America/New_York:20260818T200000
DTSTAMP:20260419T145102
CREATED:20250123T220227Z
LAST-MODIFIED:20251104T163705Z
UID:10001749-1787079600-1787083200@md-post206.org
SUMMARY:Auxiliary Meeting
DESCRIPTION:
URL:https://md-post206.org/event/auxiliary-meeting-2-2/2026-08-18/
LOCATION:Stallings-Williams Post 206 American Legion\, 3330 Chesapeake Beach Rd\, Chesapeake Beach\, MD\, 20732\, United States
CATEGORIES:Meetings
END:VEVENT
BEGIN:VEVENT
DTSTART;TZID=America/New_York:20260819T190000
DTEND;TZID=America/New_York:20260819T203000
DTSTAMP:20260419T145102
CREATED:20250123T171851Z
LAST-MODIFIED:20250123T171851Z
UID:10000914-1787166000-1787171400@md-post206.org
SUMMARY:Executive Committee Meeting
DESCRIPTION:
URL:https://md-post206.org/event/executive-committee-meeting-2-2/2026-08-19/
LOCATION:Stallings-Williams Post 206 American Legion\, 3330 Chesapeake Beach Rd\, Chesapeake Beach\, MD\, 20732\, United States
CATEGORIES:Meetings
END:VEVENT
BEGIN:VEVENT
DTSTART;TZID=America/New_York:20260821T190000
DTEND;TZID=America/New_York:20260821T200000
DTSTAMP:20260419T145102
CREATED:20241230T002545Z
LAST-MODIFIED:20250123T172036Z
UID:10000746-1787338800-1787342400@md-post206.org
SUMMARY:Post Membership Meeting
DESCRIPTION:
URL:https://md-post206.org/event/post-membership-meeting-2/2026-08-21/
LOCATION:Stallings-Williams Post 206 American Legion\, 3330 Chesapeake Beach Rd\, Chesapeake Beach\, MD\, 20732\, United States
CATEGORIES:Meetings
END:VEVENT
BEGIN:VEVENT
DTSTART;TZID=America/New_York:20260825T130000
DTEND;TZID=America/New_York:20260825T140000
DTSTAMP:20260419T145102
CREATED:20250401T111021Z
LAST-MODIFIED:20260407T002649Z
UID:10001495-1787662800-1787666400@md-post206.org
SUMMARY:Yoga
DESCRIPTION:Tuesday’s from 1-2pm come unwind with yoga.
URL:https://md-post206.org/event/yoga-4-6/2026-08-25/
LOCATION:Stallings-Williams Post 206 American Legion\, 3330 Chesapeake Beach Rd\, Chesapeake Beach\, MD\, 20732\, United States
CATEGORIES:Special Events
END:VEVENT
BEGIN:VEVENT
DTSTART;TZID=America/New_York:20260827T183000
DTEND;TZID=America/New_York:20260827T203000
DTSTAMP:20260419T145102
CREATED:20260109T011352Z
LAST-MODIFIED:20260109T011352Z
UID:10000505-1787855400-1787862600@md-post206.org
SUMMARY:Country Line Dancing Lessons - $10 - Open to the Public
DESCRIPTION:Come out and hone your line dancing skills.\n\nContact Linda Bloyer at LBLOYER@verizon.net for reservations.
URL:https://md-post206.org/event/country-line-dancing-lessons-open-to-the-public-4-2/2026-08-27/
LOCATION:Stallings-Williams Post 206 American Legion\, 3330 Chesapeake Beach Rd\, Chesapeake Beach\, MD\, 20732\, United States
CATEGORIES:Dancing
ORGANIZER;CN="Linda Bloyer":MAILTO:lbloyer@verizon.net
END:VEVENT
BEGIN:VEVENT
DTSTART;TZID=America/New_York:20260828T193000
DTEND;TZID=America/New_York:20260828T233000
DTSTAMP:20260419T145102
CREATED:20250715T230218Z
LAST-MODIFIED:20250715T230218Z
UID:10001300-1787945400-1787959800@md-post206.org
SUMMARY:Karaoke - Free - Open to the Public
DESCRIPTION:Come out and sing the night away!\n\nOpen to the Public.
URL:https://md-post206.org/event/karaoke-free-open-to-the-public-6-2/2026-08-28/
LOCATION:Stallings-Williams Post 206 American Legion\, 3330 Chesapeake Beach Rd\, Chesapeake Beach\, MD\, 20732\, United States
CATEGORIES:Music
END:VEVENT
BEGIN:VEVENT
DTSTART;TZID=America/New_York:20260901T130000
DTEND;TZID=America/New_York:20260901T140000
DTSTAMP:20260419T145102
CREATED:20250401T111021Z
LAST-MODIFIED:20260407T002649Z
UID:10001496-1788267600-1788271200@md-post206.org
SUMMARY:Yoga
DESCRIPTION:Tuesday’s from 1-2pm come unwind with yoga.
URL:https://md-post206.org/event/yoga-4-6/2026-09-01/
LOCATION:Stallings-Williams Post 206 American Legion\, 3330 Chesapeake Beach Rd\, Chesapeake Beach\, MD\, 20732\, United States
CATEGORIES:Special Events
END:VEVENT
BEGIN:VEVENT
DTSTART;TZID=America/New_York:20260901T173000
DTEND;TZID=America/New_York:20260901T190000
DTSTAMP:20260419T145102
CREATED:20250801T000115Z
LAST-MODIFIED:20250801T000115Z
UID:10000564-1788283800-1788289200@md-post206.org
SUMMARY:Steak Night - $25 - Open to the Public
DESCRIPTION:First Tuesday of the month means it’s time for Steak Night. $25 gets you a big steak\, a big baked potato\, vegetables\, a salad and great company.\n\nOpen to the Public.
URL:https://md-post206.org/event/steak-night-20-open-to-the-public-7-2/2026-09-01/
LOCATION:Stallings-Williams Post 206 American Legion\, 3330 Chesapeake Beach Rd\, Chesapeake Beach\, MD\, 20732\, United States
CATEGORIES:Dinner
END:VEVENT
BEGIN:VEVENT
DTSTART;TZID=America/New_York:20260908T130000
DTEND;TZID=America/New_York:20260908T140000
DTSTAMP:20260419T145102
CREATED:20250401T111021Z
LAST-MODIFIED:20260407T002649Z
UID:10001497-1788872400-1788876000@md-post206.org
SUMMARY:Yoga
DESCRIPTION:Tuesday’s from 1-2pm come unwind with yoga.
URL:https://md-post206.org/event/yoga-4-6/2026-09-08/
LOCATION:Stallings-Williams Post 206 American Legion\, 3330 Chesapeake Beach Rd\, Chesapeake Beach\, MD\, 20732\, United States
CATEGORIES:Special Events
END:VEVENT
BEGIN:VEVENT
DTSTART;TZID=America/New_York:20260908T183000
DTEND;TZID=America/New_York:20260908T210000
DTSTAMP:20260419T145102
CREATED:20250120T185330Z
LAST-MODIFIED:20250123T171116Z
UID:10000446-1788892200-1788901200@md-post206.org
SUMMARY:S.A.L. Meeting
DESCRIPTION:
URL:https://md-post206.org/event/s-a-l-meeting-5/2026-09-08/
LOCATION:Stallings-Williams Post 206 American Legion\, 3330 Chesapeake Beach Rd\, Chesapeake Beach\, MD\, 20732\, United States
CATEGORIES:Meetings
END:VEVENT
BEGIN:VEVENT
DTSTART;TZID=America/New_York:20260910T190000
DTEND;TZID=America/New_York:20260910T203000
DTSTAMP:20260419T145102
CREATED:20260330T233301Z
LAST-MODIFIED:20260330T233301Z
UID:10001821-1789066800-1789072200@md-post206.org
SUMMARY:Legion Riders Meeting
DESCRIPTION:
URL:https://md-post206.org/event/legion-riders-meeting-2/2026-09-10/
LOCATION:Stallings-Williams Post 206 American Legion\, 3330 Chesapeake Beach Rd\, Chesapeake Beach\, MD\, 20732\, United States
CATEGORIES:Meetings
END:VEVENT
BEGIN:VEVENT
DTSTART;TZID=America/New_York:20260913T080000
DTEND;TZID=America/New_York:20260913T110000
DTSTAMP:20260419T145102
CREATED:20250715T232713Z
LAST-MODIFIED:20250715T232713Z
UID:10001370-1789286400-1789297200@md-post206.org
SUMMARY:All You Can Eat Breakfast - $15 - Open to the Public
DESCRIPTION:All-You-Can-Eat breakfast. Come on down and enjoy some eggs\, bacon\, sausage\, pancakes\, taters\, biscuits\, two kinds of gravy and more. All for $15.\n\nChildren under 12 eat for free!\n\nOpen to the Public.
URL:https://md-post206.org/event/all-you-can-eat-breakfast-15-open-to-the-public-7/2026-09-13/
LOCATION:Stallings-Williams Post 206 American Legion\, 3330 Chesapeake Beach Rd\, Chesapeake Beach\, MD\, 20732\, United States
CATEGORIES:Breakfast
END:VEVENT
BEGIN:VEVENT
DTSTART;TZID=America/New_York:20260915T130000
DTEND;TZID=America/New_York:20260915T140000
DTSTAMP:20260419T145102
CREATED:20250401T111021Z
LAST-MODIFIED:20260407T002649Z
UID:10001498-1789477200-1789480800@md-post206.org
SUMMARY:Yoga
DESCRIPTION:Tuesday’s from 1-2pm come unwind with yoga.
URL:https://md-post206.org/event/yoga-4-6/2026-09-15/
LOCATION:Stallings-Williams Post 206 American Legion\, 3330 Chesapeake Beach Rd\, Chesapeake Beach\, MD\, 20732\, United States
CATEGORIES:Special Events
END:VEVENT
BEGIN:VEVENT
DTSTART;TZID=America/New_York:20260915T173000
DTEND;TZID=America/New_York:20260915T190000
DTSTAMP:20260419T145102
CREATED:20250801T000200Z
LAST-MODIFIED:20250801T000201Z
UID:10000629-1789493400-1789498800@md-post206.org
SUMMARY:Steak Night - $25 - Open to the Public
DESCRIPTION:Third Tuesday of the month means it’s time for Steak Night. $25 gets you a big steak\, a big baked potato\, vegetables\, a salad and great company.\n\nOpen to the Public.
URL:https://md-post206.org/event/steak-night-20-open-to-the-public-6-2/2026-09-15/
LOCATION:Stallings-Williams Post 206 American Legion\, 3330 Chesapeake Beach Rd\, Chesapeake Beach\, MD\, 20732\, United States
CATEGORIES:Dinner
END:VEVENT
BEGIN:VEVENT
DTSTART;TZID=America/New_York:20260915T190000
DTEND;TZID=America/New_York:20260915T200000
DTSTAMP:20260419T145102
CREATED:20250123T220227Z
LAST-MODIFIED:20251104T163705Z
UID:10001750-1789498800-1789502400@md-post206.org
SUMMARY:Auxiliary Meeting
DESCRIPTION:
URL:https://md-post206.org/event/auxiliary-meeting-2-2/2026-09-15/
LOCATION:Stallings-Williams Post 206 American Legion\, 3330 Chesapeake Beach Rd\, Chesapeake Beach\, MD\, 20732\, United States
CATEGORIES:Meetings
END:VEVENT
BEGIN:VEVENT
DTSTART;TZID=America/New_York:20260916T190000
DTEND;TZID=America/New_York:20260916T203000
DTSTAMP:20260419T145102
CREATED:20250123T171851Z
LAST-MODIFIED:20250123T171851Z
UID:10000915-1789585200-1789590600@md-post206.org
SUMMARY:Executive Committee Meeting
DESCRIPTION:
URL:https://md-post206.org/event/executive-committee-meeting-2-2/2026-09-16/
LOCATION:Stallings-Williams Post 206 American Legion\, 3330 Chesapeake Beach Rd\, Chesapeake Beach\, MD\, 20732\, United States
CATEGORIES:Meetings
END:VEVENT
BEGIN:VEVENT
DTSTART;TZID=America/New_York:20260918T190000
DTEND;TZID=America/New_York:20260918T200000
DTSTAMP:20260419T145102
CREATED:20241230T002545Z
LAST-MODIFIED:20250123T172036Z
UID:10000747-1789758000-1789761600@md-post206.org
SUMMARY:Post Membership Meeting
DESCRIPTION:
URL:https://md-post206.org/event/post-membership-meeting-2/2026-09-18/
LOCATION:Stallings-Williams Post 206 American Legion\, 3330 Chesapeake Beach Rd\, Chesapeake Beach\, MD\, 20732\, United States
CATEGORIES:Meetings
END:VEVENT
END:VCALENDAR